{"text_format":"2","workbook":"xlsx","n_sheets":2,"sheets":["2025 TAS (2024 Counts)","LOS Handbook Reference"],"not_rendered":{"charts":0,"images":1,"macros":0,"external_links":0,"defined_names":117,"comments":0,"pivot_tables":0},"unopened":[],"bounds":{"document_bytes":16777216,"sheet_cells":100000,"run_cost":"one","rows_first":2000,"rows_last":500,"rows_between":2000,"halvings":0,"cell_chars":16384,"cell_head_chars":4096},"cells_cut":0,"cells_raw":0,"read":"whole","date_system":"1900"}

{"sheet":"2025 TAS (2024 Counts)","index":0,"n_rows":235,"n_cols":22,"rows_kept":235,"cut":false,"hidden":false,"merged":[]}
[]
[null,null,"St. Johns County Transportation Analysis Spreadsheet"]
[]
[]
[null,null,"Updated with 2023 FDOT and"]
[null,null,"2024 St. Johns County Traffic Counts"]
[null,null,"Published: 04/07/2025",null,null,2,null,1,3,{"$nulls":4},1,null,2,3]
[{"$nulls":14},"EXISTING",null,null,null,"TOTAL"]
[{"$nulls":14},"TRAFFIC",null,null,null,"COMMITTED"]
[{"$nulls":14},"PERCENT",null,null,"TOTAL","PERCENT","TOTAL","TRAFFIC","APPROVED"]
["MRN"," FDOT ",null,null,null,"APPROVED",null,"SEGMENT","DATE","TRAFFIC","ANNUAL",null,"LINK",2025,"SERVICE","EXEMPT","APPROVED","COMMITTED","SERVICE","COMMITTED","STUDY","PK. HR."]
["LINK","COUNT",null,null,"AREA","ROAD","LOS","LENGTH","OF","COUNT","GROWTH",2025,"K","PK. HR.","VOLUME","DEVEL.","CONC.","PK. HR.","VOLUME","LINK","SERVICE","SERVICE"]
["ID","STN.","ROADWAY","FROM/TO","TYPE","TYPE","STND.","(Mi.)","COUNT","AADT","FACTOR","AADT","FACTOR","TRAFFIC","UTILIZED","TRAFFIC","TRAFFIC","TRAFFIC","UTILIZED","STATUS","VOLUME","VOLUME"]
["=","=","=","=","=","=","=","=","=",null,"=","=",null,"=",null,"=","=","=","=","=","=","="]
[1,null,"11th Street","SR A1A to A1A Beach Blvd.","UZ","2UC","C",0.68,"ADT24",923,1.02,941.46,9.9715961252111657E-2,94,0.19789473684210526,2,null,96,0.20210526315789473,"OK",null,475]
[2,null,"16th Street","SR A1A to A1A Beach Blvd.","UZ","2UC","C",0.78,"ADT24",2056,1.0201,2097.3256000000001,9.531732255197152E-2,200,0.42105263157894735,4,null,204,0.42947368421052634,"OK",null,475]
[3,null,"A Street","SR A1A to A1A Beach Blvd.","UZ","2UC","C",0.56999999999999995,"ADT24",3228,1.0296000000000001,3323.5488,0.09,299,0.6294736842105263,9,null,308,0.6484210526315789,"OK",null,475]
[4,null,"A. Nease Rd./Vermont Blvd.","SR 207 to Co. Landfill Entrance","TR","2MiC","D",2.4500000000000002,"ADT24",1995,1.0397000000000001,2074.2015000000001,0.14439468844138567,300,0.2857142857142857,12,null,312,0.29714285714285715,"OK",null,1050]
[5,null,"Allen Nease Rd.","Co. Landfill Entrance to CR 214","TR","2MiC","D",1.23,"ADT24",1981,1.0524,2084.8044,0.14939858740607256,311,0.29619047619047617,16,null,327,0.31142857142857144,"OK",null,1050]
[7,null,"Canal Blvd.","CR 210A (Roscoe Blvd) to CR 210 (Palm Vly Rd)","UZ","2UC","D",0.76,"ADT24",2816,1.02,2872.32,0.12075325882857262,347,0.36145833333333333,7,null,354,0.36875000000000002,"OK",null,960]
[8,null,"Cowpen Branch Rd.","CR 13 to SR 206","RU","2MiC","C",3.99,"ADT24",575,1.0570999999999999,607.83249999999998,0.27837178256588851,169,0.20609756097560974,10,null,179,0.21829268292682927,"OK",null,820]
[10,null,"CR 13","CR 204 to Cowpen Branch Rd.","RU","2MaC","C",4.92,"ADT24",4167,1.0421,4342.4306999999999,0.10174100454748697,442,0.53902439024390247,19,null,461,0.56219512195121957,"OK",null,820]
[11,null,"CR 13","Cowpen Branch Rd. to George Miller Rd.","RU","2MaC","C",2.4700000000000002,"ADT24",3444,1.0348999999999999,3564.1955999999996,9.5000000000000001E-2,339,0.41341463414634144,12,null,351,0.42804878048780487,"OK",null,820]
[12,null,"CR 13","George Miller Rd. to SR 207 (W)","RD","2MaC","C",2.27,"ADT24",3103,1.02,3165.06,0.10053321269347809,318,0.28909090909090907,6,49,373,0.33909090909090911,"OK",null,1100]
[13,null,"CR 13","SR 207 (W) to SR 207 (E) ","RD","2MaC","C",1.59,"ADT24",825,1.02,841.5,0.10182592058814653,86,7.8181818181818186E-2,2,null,null,0.08,"OK",null,1100]
[14,null,"CR 13","SR 207 to CR 13A","RU","2MaC","C",2.71,"ADT24",2203,1.02,2247.06,0.10896451025900863,245,0.29878048780487804,5,42,292,0.35609756097560974,"OK",null,820]
[15,null,"CR 13","CR 13A to CR 214","RU","2MaC","C",7.39,"ADT24",784,1.02,799.68000000000006,9.6920318617895851E-2,78,9.5121951219512196E-2,2,null,80,9.7560975609756101E-2,"OK",null,820]
[16,null,"CR 13","CR 214 to CR 208","RU","2MaC","C",6.36,"ADT24",700,1.02,714,0.10282864463277321,73,8.9024390243902435E-2,1,null,74,9.0243902439024387E-2,"OK",null,820]
[17.100000000000001,null,"CR 13","CR 208 to Joe Ashton Rd.","TR","2MaC","D",4.0999999999999996,"ADT24",2580,1.0204,2632.6320000000001,0.09,237,0.11232227488151658,5,46,288,0.13649289099526066,"OK",null,2110]
[17.2,null,"CR 13","Joe Ashton Rd. to SR 16","UZ","2MaC","D",1.27,"ADT24",11380,1.02,11607.6,8.998422182910365E-2,1045,0.72569444444444442,21,330,1396,0.96944444444444444,"CRITICAL",null,1440]
[18,null,"CR 13A","CR 13 to CR 305","RU","2MaC","C",0.97,"ADT24",1744,1.02,1778.88,0.1398788374096549,249,0.30365853658536585,5,52,306,0.37317073170731707,"OK",null,820]
[19,null,"CR 13A","CR 305 to CR 214","RU","2MaC","C",4.4800000000000004,"ADT24",2344,1.0238,2399.7872000000002,0.11943257583222112,287,0.35,7,68,362,0.44146341463414634,"OK",null,820]
[20,null,"CR 13A","CR 214 to CR 208","TR","2MaC","D",3.76,"ADT24",4025,1.0350999999999999,4166.2774999999992,0.11626685512276194,484,0.22938388625592418,17,47,548,0.25971563981042656,"OK",null,2110]
[21.1,null,"CR 13A (Pacetti Rd)","CR 208 to Samara Lakes Parkway","TR","2MaC","D",2.85,"ADT24",5837,1.0529999999999999,6146.3609999999999,0.1027880223173354,632,0.48244274809160304,33,106,771,0.5885496183206107,"OK",null,1310]
[21.2,null,"CR 13A (Pacetti Rd)","Samara Lakes Parkway to SR 16","UZ","4UC","D",1.5,"ADT24",20931,1.0818000000000001,22643.1558,0.1027880223173354,2327,0.72267080745341616,190,399,2916,0.90559006211180126,"CRITICAL",null,3220]
[22,null,"CR 13B (Fruit Cove Rd)","SR 13 to SR 13","UZ","2UC","D",2.38,"ADT24",820,1.02,836.4,0.1023865824821433,86,7.4782608695652175E-2,2,null,88,7.6521739130434779E-2,"OK",null,1150]
[23.1,null,"CR 16A","SR 13 to CR 210","UZ","2MaC","D",0.56999999999999995,"ADT24",13320,1.0397000000000001,13848.804,9.5799025057226025E-2,1327,0.92152777777777772,53,718,2098,1.4569444444444444,"DEFICIENT",null,1440]
[23.2,null,"CR 16A","CR 210 to River Reach Pkwy","TR","2MaC","D",4.09,"ADT24",5918,1.0619000000000001,6284.3242,0.11558577909631185,726,0.55419847328244276,45,1670,2441,1.8633587786259542,"DEFICIENT",null,1310]
[24,null,"CR 16A","River Reach Pkwy to SR 16","TR","2MaC","D",2.66,"ADT24",9222,1.0754999999999999,9918.2609999999986,9.2823222878252495E-2,921,0.7030534351145038,70,990,1981,1.5122137404580154,"DEFICIENT",null,1310]
[25.1,null,"CR 16A (Lewis Spdwy)","SR 16 to Varella Ave.","UZ","2UC","D",0.98,"ADT24",6753,1.02,6888.06,0.12261454730975686,845,0.58680555555555558,17,10,872,0.60555555555555551,"OK",null,1440]
[25.2,null,"CR 16A (Lewis Spdwy)","Varella Ave. to Woodlawn Rd.","UZ","2UC","D",0.35,"ADT24",7341,1.0221,7503.2361000000001,9.8075994184093546E-2,736,0.51111111111111107,16,18,770,0.53472222222222221,"OK",null,1440]
[26,null,"CR 16A (Lewis Spdwy)","Woodlawn Rd. to SR 5 (US 1)","UZ","2UC","D",1.07,"ADT24",10289,1.0313000000000001,10611.045700000001,0.12052273118971606,1279,0.8881944444444444,40,78,1397,0.97013888888888888,"CRITICAL",null,1440]
[27,null,"CR 203 (Ponte Vedra Blvd)","SR A1A to CR 210 (Corona Rd)","UZ","2UC","D",4.2699999999999996,"ADT24",4414,1.02,4502.28,9.0617212866448069E-2,408,0.35478260869565215,8,49,465,0.40434782608695652,"OK",null,1150]
[28.1,null,"CR 203 (Ponte Vedra Blvd)","CR 210 (Corona Rd) to CR 210A (Solana Rd)","UZ","2UC","D",0.65,"ADT24",2259,1.02,2304.1799999999998,0.10978685148397735,253,0.22,5,6,264,0.22956521739130434,"OK",null,1150]
[28.2,null,"CR 203 (Ponte Vedra Blvd)","CR 210A (Solana Rd) to Duval Co. Line","UZ","2UC","D",1.77,"ADT24",2831,1.02,2887.62,0.10313857027194605,298,0.25913043478260872,6,null,304,0.26434782608695651,"OK",null,1150]
[29,null,"CR 204","CR 13 to SR 5 (US 1)","RU","2MaC","C",5.55,"ADT24",3920,1.034,4053.28,0.10102744915793621,409,0.49878048780487805,14,107,530,0.64634146341463417,"OK",null,820]
[30,null,"CR 208","CR 13 to Joe Ashton Rd.","TR","2MaC","D",4.03,"ADT24",588,1.02,599.76,0.10203384054355467,61,2.8909952606635071E-2,1,null,62,2.9383886255924172E-2,"OK",null,2110]
[31,null,"CR 208","Joe Ashton Rd. to CR 13A","TR","2MaC","D",2.37,"ADT24",4222,1.02,4306.4400000000005,0.12317496160020569,530,0.25118483412322273,11,37,578,0.27393364928909952,"OK",null,2110]
[32,null,"CR 208","CR 13A to SR 16","TR","2MaC","D",4.91,"ADT24",6464,1.02,6593.28,0.10644009283927679,702,0.33270142180094786,14,242,958,0.45402843601895737,"OK",null,2110]
[33,null,"CR 210","CR 16A to Greenbriar Rd.","TR","2MaC","D",3,"ADT24",11023,1.0306,11360.3038,0.09,1022,0.78015267175572522,31,813,1866,1.4244274809160304,"DEFICIENT",null,1310]
[34.1,null,"CR 210","Greenbriar Rd. to Cimarrone Blvd.","UZ","4UC","D",2.2599999999999998,"ADT24",27449,1.0436000000000001,28645.776400000002,0.09,2578,0.72011173184357546,112,1519,4209,1.1756983240223464,"DEFICIENT",null,3580]
[34.200000000000003,null,"CR 210","Cimarrone Blvd. to CR 2209","UZ","4UC","D",0.71,"ADT24",34926,1.0451999999999999,36504.655199999994,0.09,3285,0.91759776536312854,149,1261,4695,1.3114525139664805,"DEFICIENT",null,3580]
[34.299999999999997,null,"CR 210","CR 2209 to Leo Maguire Parkway","UZ","4UC","D",1.22,"ADT24",24600,1.0276000000000001,25278.960000000003,0.09,2275,0.63547486033519551,63,2571,4909,1.3712290502793296,"DEFICIENT",null,3580]
[35,null,"CR 210","Leo Maguire Parkway to SR 9 (I-95)","UZ","6UC","D",0.81,"ADT24",34520,1.0341,35697.131999999998,0.09,3213,0.59610389610389614,110,2757,6080,1.1280148423005565,"DEFICIENT",null,5390]
[36.1,null,"CR 210","SR 9 (I-95) to E.W. Pappy Rd","UZ","4UC","D",0.65,"ADT23",38187,1.0644,43263.860836319996,0.09,3894,1.10625,251,1880,6025,1.7116477272727273,"DEFICIENT",3520,3520]
[36.200000000000003,null,"CR 210","E.W. Pappy Rd to Alternate CR 210","UZ","6UC","D",1.67,"ADT23",26627,1.0609999999999999,29974.573066999998,0.09,2698,0.50055658627087196,165,1751,4614,0.85602968460111317,"OK",null,5390]
[36.299999999999997,null,"Alternate CR 210","CR 210 W. to SR 5 (US 1) N","UZ","2MaC","D",0.95,"ADT24",8350,1.02,8517,0.09,767,0.53263888888888888,15,1123,1905,1.3229166666666667,"DEFICIENT",null,1440]
[36.4,null,"CR 210","Alternate CR 210 to Valley Ridge Blvd","UZ","2MaC","D",0.93,"ADT24",13985,1.0505,14691.2425,9.2385153705799472E-2,1357,0.84812500000000002,69,888,2314,1.44625,"DEFICIENT",null,1600]
[37,null,"Palm Valley Rd (Old CR 210)","Valley Ridge Blvd. to Preservation Trail","UZ","2MaC","D",1.86,"ADT24",7381,1.0578000000000001,7807.6218000000008,0.1073030452604245,838,0.58194444444444449,48,250,1136,0.78888888888888886,"OK",null,1440]
[38,null,"CR 210 (Palm Valley Rd) E/W","CR 210A (Roscoe Blvd) to Mickler Rd.","UZ","2UC","D",1.36,"ADT24",20950,1.0358000000000001,21700.010000000002,0.10061898527700813,2183,1.1369791666666667,78,430,2691,1.4015625,"DEFICIENT",1920,1920]
[39,null,"CR 210 (Palm Valley Rd) N/S","Mickler Rd. to Canal Blvd.","UZ","2UC","D",1.98,"ADT24",12571,1.02,12822.42,0.10755199908459885,1379,0.83072289156626511,28,105,1512,0.91084337349397593,"CRITICAL",1660,1660]
[40,null,"CR 210 (Palm Valley Rd) N/S","Canal Blvd. to SR A1A","UZ","2UC","D",1.43,"ADT24",16907,1.02,17245.14,0.09,1552,1.0777777777777777,31,97,1680,1.1666666666666667,"DEFICIENT",null,1440]
[41,null,"CR 210 (Corona Rd) E/W","SR A1A to CR 203 (Ponte Vedra Blvd)","UZ","2UC","D",0.59,"ADT24",6635,1.02,6767.7,9.0424146212950848E-2,612,0.53217391304347827,12,49,673,0.5852173913043478,"OK",null,1150]
[42,null,"CR 210A (Roscoe Blvd)","Palm Valley Rd to Canal Blvd.","UZ","2UC","D",3.26,"ADT24",6519,1.0233000000000001,6670.8927000000003,0.12394027992832571,827,0.71913043478260874,19,72,918,0.79826086956521736,"OK",null,1150]
[43.1,null,"CR 210A (Roscoe Blvd)","Canal Blvd. to PGA Tour Blvd.","UZ","2UC","D",3.09,"ADT24",6545,1.0204,6678.518,0.12957195720580519,865,0.75217391304347825,18,25,908,0.78956521739130436,"OK",null,1150]
[43.2,null,"CR 210A (Solana Rd)","PGA Tour Blvd. to SR A1A","UZ","2UC","D",1.41,"ADT24",12188,1.02,12431.76,0.11059984663706728,1375,0.81360946745562135,27,null,1402,0.82958579881656802,"OK",1690,1690]
[43.3,null,"CR 210A (Solana Rd)","SR A1A to CR 203 (Ponte Vedra Blvd)","UZ","2UC","D",0.65,"ADT24",5416,1.02,5524.32,0.11891262894588203,657,0.68437499999999996,13,null,670,0.69791666666666663,"OK",null,960]
[44,null,"CR 214","CR 13 to CR 13A","RU","2MaC","C",3.68,"ADT24",1001,1.02,1021.02,9.9899551001468023E-2,102,0.12439024390243902,2,null,104,0.12682926829268293,"OK",null,820]
[45,null,"CR 214","CR 13A to Allen Nease Rd.","TR","2MaC","D",5.21,"ADT24",2845,1.0298,2929.7809999999999,0.13638797081531767,400,0.1895734597156398,12,51,463,0.21943127962085307,"OK",null,2110]
[46,null,"CR 214","Allen Nease Rd. to Holmes Blvd.","TR","2MaC","D",4.28,"ADT24",7498,1.0253000000000001,7687.6994000000004,0.10829378343003754,833,0.6358778625954199,21,40,894,0.6824427480916031,"OK",null,1310]
[47,null,"CR 214 (W. King St)","Holmes Blvd. to Volusia St.","UZ","2UC","E",0.64,"ADT24",4831,1.02,4927.62,0.10433080482935704,514,0.35694444444444445,10,18,542,0.37638888888888888,"OK",null,1440]
[48,null,"CR 214 (W. King St)","Volusia St. to Palmer St.","UZ","2UC","E",0.94,"ADT24",10447,1.02,10655.94,0.09,959,0.66597222222222219,19,15,993,0.68958333333333333,"OK",null,1440]
[49,null,"CR 214 (W. King St)","Palmer St. to SR 5 (US 1)","UZ","2UC","E",0.26,"ADT24",12634,1.02,12886.68,0.09,1160,0.91338582677165359,23,null,1183,0.93149606299212595,"CRITICAL",null,1270]
[51,null,"CR 305","SR 206 to SR 207","TR","2MaC","D",3.96,"ADT24",621,1.02,633.41999999999996,0.12875242919622271,82,3.886255924170616E-2,2,null,84,3.9810426540284362E-2,"OK",null,2110]
[52,null,"CR 305","CR 13 to SR 207","RU","2MaC","C",4.9800000000000004,"ADT24",808,1.02,824.16,0.10402476780185758,86,0.1048780487804878,2,13,101,0.12317073170731707,"OK",null,820]
[53,null,"CR 5A (Old Moultrie Rd)","SR 5 (US 1) to Kings Estate Rd.","UZ","2UC","D",1.31,"ADT24",8006,1.0283,8232.5697999999993,0.1069214394723477,880,0.61111111111111116,25,33,938,0.65138888888888891,"OK",null,1440]
[54.1,null,"CR 5A (Old Moultrie Rd)","Kings Estate Road to Lewis Point Road","UZ","2UC","D",0.37,"ADT24",15184,1.0209999999999999,15502.863999999998,0.10221348168162517,1585,1.1006944444444444,33,10,1628,1.1305555555555555,"DEFICIENT",null,1440]
[54.2,null,"CR 5A (Old Moultrie Rd)","Lewis Point Road to Southpark Blvd.","UZ","2UC","D",0.77,"ADT24",14422,1.02,14710.44,9.6244341917870999E-2,1416,0.98333333333333328,28,12,1456,1.0111111111111111,"DEFICIENT",null,1440]
[54.3,null,"CR 5A (Old Moultrie Rd)","Southpark Blvd. to SR 312","UZ","2UC","D",0.37,"ADT24",17161,1.02,17504.22,0.09,1575,1.09375,32,13,1620,1.125,"DEFICIENT",null,1440]
[55,null,"CR 5A (Old Moultrie Rd)","SR 312 to SR 207","UZ","2UC","D",0.95,"ADT24",10219,1.02,10423.380000000001,0.10177369034630553,1061,0.7368055555555556,21,null,1082,0.75138888888888888,"OK",null,1440]
[56,null,"A1A Beach Blvd.","SR A1A (S) to 11th Street","UZ","2UC","D",1.87,"ADT24",6336,1.02,6462.72,9.1536199963038328E-2,592,0.41111111111111109,12,null,604,0.41944444444444445,"OK",null,1440]
[57,null,"A1A Beach Blvd.","11th Street to SR 312 ","UZ","2UC","D",1.26,"ADT24",9119,1.02,9301.380000000001,0.09,837,0.58125000000000004,17,null,854,0.59305555555555556,"OK",null,1440]
[58,null,"Cracker Swamp Rd.","Putnam Co. Line to CR 13","RU","2MiC","C",4.1900000000000004,"ADT24",1096,1.0357000000000001,1135.1272000000001,0.11676209586137665,133,0.16219512195121952,5,null,138,0.16829268292682928,"OK",null,820]
[59.1,null,"Kings Estate Rd.","CR 5A to Dobbs Rd","UZ","2UC","D",0.42,"ADT24",14165,1.0431999999999999,14776.927999999998,9.7989091583231214E-2,1448,1.0055555555555555,63,70,1581,1.0979166666666667,"DEFICIENT",null,1440]
[59.2,null,"Kings Estate Rd./Hilltop Rd.","Dobbs Rd to SR 207","UZ","2UC","D",1.68,"ADT24",6354,1.02,6481.08,0.1070128174602113,694,0.60347826086956524,14,63,771,0.6704347826086956,"OK",null,1150]
[60,null,"Faver Dykes Rd.","SR 5 (US 1) to State Park Entr.","RU","2MiC","C",1.57,"ADT24",211,1.02,215.22,0.13288805288944505,29,3.5365853658536582E-2,1,375,405,0.49390243902439024,"OK",null,820]
[61,null,"Federal Point Rd.","Putnam Co. Line to Hastings City Limits (W)","RU","2MiC","C",1.1299999999999999,"ADT24",379,1.02,386.58,0.12664718293569929,49,5.9756097560975607E-2,1,null,50,6.097560975609756E-2,"OK",null,820]
[62.1,null,"Four Mile Rd./Volusia St.","CR 214 to Holmes Blvd.","UZ","2UC","D",0.95,"ADT24",9343.2767999999996,1.0289999999999999,9614.2318271999993,9.4415442651711881E-2,908,0.63055555555555554,26,99,1033,0.71736111111111112,"OK",null,1440]
[62.2,null,"Four Mile Rd.","Holmes Blvd. to SR 16","UZ","2UC","D",0.85,"ADT24",16166,1.044,16877.304,0.09,1519,1.3208695652173914,67,134,1720,1.4956521739130435,"DEFICIENT",null,1150]
[63,null,"George Miller Rd.","CR 13 to CR 13","RU","2MiC","C",2.73,"ADT24",2428,1.0344,2511.5232000000001,0.1103944397451289,277,0.33780487804878051,10,7,294,0.35853658536585364,"OK",null,820]
[64.099999999999994,null,"Greenbriar Rd.","SR 13 to Brambly Vine Dr.","UZ","2UC","D",2,"ADT24",6183,1.0399,6429.7017000000005,0.11430249987074373,735,0.51041666666666663,29,462,1226,0.85138888888888886,"OK",null,1440]
[64.2,null,"Greenbriar Rd.","Brambly Vine Dr. to Longleaf Pine Pkwy","UZ","4UC","D",1.0900000000000001,"ADT24",8259,1.0399,8588.5341000000008,0.11430249987074373,982,0.30496894409937886,39,833,1854,0.575776397515528,"OK",null,3220]
[65,null,"Greenbriar Rd.","Longleaf Pine Pkwy to CR 210","UZ","2UC","D",2.25,"ADT24",11780,1.0476000000000001,12340.728000000001,0.09,1111,0.77152777777777781,53,798,1962,1.3625,"DEFICIENT",null,1440]
[66,null,"Hastings Blvd.","Cracker Swamp Rd. to CR 13","RU","2MiC","C",2.5299999999999998,"ADT24",741,1.02,755.82,0.10795483169841738,82,0.1,2,null,84,0.1024390243902439,"OK",null,820]
[67.11,null,"Holmes Blvd.","SR 207 to SR 312","UZ","2UC","D",1.1000000000000001,"ADT24",11663,1.0323,12039.714900000001,0.09,1084,0.75277777777777777,35,177,1296,0.9,"OK",null,1440]
[67.12,null,"Holmes Blvd.","SR 312 to CR 214","UZ","2UC","D",0.65,"ADT24",22348,1.0323,23069.840400000001,0.09,2076,1.4416666666666667,67,177,2320,1.6111111111111112,"DEFICIENT",null,1440]
[67.2,null,"Holmes Blvd.","CR 214 to Four Mile Rd.","UZ","2UC","D",1.61,"ADT24",18521,1.0383,19230.354299999999,0.09,1731,1.2020833333333334,66,204,2001,1.3895833333333334,"DEFICIENT",null,1440]
[67.3,null,"Kenton Morrison Rd.","Four Mile Rd. to SR 16","UZ","2UC","D",0.47,"ADT24",9969,1.0374000000000001,10341.840600000001,9.7902793760542603E-2,1012,0.70277777777777772,38,87,1137,0.7895833333333333,"OK",null,1440]
[68,null,"Joe Ashton Rd.","CR 208 to CR 13","TR","2MiC","D",3.2,"ADT24",2799,1.0336000000000001,2893.0464000000002,0.13434352998343929,389,0.2969465648854962,13,18,420,0.32061068702290074,"OK",null,1310]
[69,null,"Leo Maguire Parkway","CR 16A to CR 210","UZ","2MiC","D",5.1100000000000003,"ADT24",6977,1.0495000000000001,7322.3615000000009,0.108359133126935,793,0.55069444444444449,39,212,1044,0.72499999999999998,"OK",null,1440]
[71,null,"Masters Dr./Palmer St.","CR 214 to SR 16","UZ","2UC","D",1.75,"ADT24",7070,1.02,7211.4000000000005,0.10806986235662178,779,0.67739130434782613,16,7,802,0.69739130434782604,"OK",null,1150]
[72,null,"Mickler Rd.","CR 210 to SR A1A","UZ","2UC","D",1.38,"ADT24",10040,1.0499000000000001,10540.996000000001,9.6814590795502198E-2,1021,0.70902777777777781,51,328,1400,0.97222222222222221,"CRITICAL",null,1440]
[73.099999999999994,null,"International Golf Pkwy.","SR 16 to Royal Pines Pkwy","UZ","4UC","D",1.5,"ADT24",28686,1.0577000000000001,30341.182200000003,9.3287126690262692E-2,2830,0.79050279329608941,163,2579,5572,1.5564245810055866,"DEFICIENT",null,3580]
[73.2,null,"International Golf Pkwy.","Royal Pines Pkwy to SR 9 (I-95)","UZ","4UC","D",0.9,"ADT24",28289,1.0459000000000001,29587.465100000001,9.2898714122723408E-2,2749,0.76787709497206702,126,3142,6017,1.6807262569832402,"DEFICIENT",null,3580]
[74.099999999999994,null,"International Golf Pkwy.","SR 9 (I-95) to N. Francis Road","UZ","4MaC","D",0.7,"ADT24",24314,1.0637000000000001,25862.801800000001,9.9364695205583553E-2,2570,0.71787709497206709,164,1157,3891,1.0868715083798883,"DEFICIENT",null,3580]
[74.2,null,"International Golf Pkwy.","N. Francis Road to St. Marks Pond Blvd.","TR","2MaC","D",3.23,"ADT24",15007,1.0498000000000001,15754.348600000001,9.6486602941796562E-2,1520,0.72037914691943128,76,563,2159,1.023222748815166,"DEFICIENT",null,2110]
[74.3,null,"International Golf Pkwy.","St. Marks Pond Blvd. To SR 5 (US 1)","TR","2MaC","D",0.81,"ADT24",14528,1.0517000000000001,15279.097600000001,0.10104545101937629,1544,1.0575342465753426,80,552,2176,1.4904109589041097,"DEFICIENT",null,1460]
[75,null,"Pope Rd.","SR A1A to A1A Beach Blvd.","UZ","2UC","C",0.86,"ADT24",2587,1.02,2638.7400000000002,9.4321133307072896E-2,249,0.21652173913043479,5,null,254,0.22086956521739132,"OK",null,1150]
[76,null,"Race Track Rd.","SR 13 to Bishop Estates Rd.","UZ","4UC","D",3.07,"ADT24",22355,1.02,22802.100000000002,9.053847377049197E-2,2064,0.57653631284916196,41,332,2437,0.68072625698324019,"OK",null,3580]
[77.099999999999994,null,"Race Track Rd.","Bishop Estates Rd. to Veterans Pkwy","UZ","4UC","D",1.02,"ADT24",28547,1.0397000000000001,29680.315900000001,0.10256621750432153,3044,0.85027932960893859,121,499,3664,1.023463687150838,"DEFICIENT",null,3580]
[77.2,null,"Race Track Rd.","Veterans Pkwy to St. Johns Pkwy","UZ","4UC","D",1.23,"ADT24",32220,1.0546,33979.212,9.3605177334636025E-2,3181,0.88854748603351952,174,783,4138,1.1558659217877094,"DEFICIENT",null,3580]
[77.3,null,"Race Track Rd.","St. Johns Pkwy to West Peyton Pkwy","UZ","4UC","D",1.05,"ADT24",30482,1.0621,32374.932200000003,9.5662588680302321E-2,3097,0.86508379888268161,192,948,4237,1.1835195530726257,"DEFICIENT",null,3580]
[77.400000000000006,null,"Race Track Rd.","West Peyton Pkwy to Bartram Park Blvd","UZ","6UC","D",0.39,"ADT24",23808,1.0266,24441.292799999999,9.5764227262825533E-2,2341,0.43432282003710576,62,840,3243,0.60166975881261597,"OK",null,5390]
[78.11,null,"Race Track Rd.","Bartram Park Blvd to East Peyton Pkwy","UZ","4UC","D",0.66,"ADT24",24504,1.0508,25748.803199999998,9.6636517052770377E-2,2488,0.69497206703910619,126,921,3535,0.98743016759776536,"CRITICAL",null,3580]
[78.12,null,"Race Track Rd.","East Peyton Pkwy to Bartram Springs Pkwy","UZ","4UC","D",0.83,"ADT24",24504,1.0508,25748.803199999998,9.6636517052770377E-2,2488,0.69497206703910619,126,932,3546,0.99050279329608937,"CRITICAL",null,3580]
[78.2,null,"Race Track Rd.","Bartram Springs Pkwy to SR 5 (US 1)","UZ","4UC","D",0.97,"ADT24",22340,1.0435000000000001,23311.79,0.09,2098,0.58603351955307259,91,891,3080,0.86033519553072624,"OK",null,3580]
[79,null,"Roberts Rd.","SR 13 to Longleaf Pine Pkwy","UZ","2UC","D",2.69,"ADT24",15573,1.0226999999999999,15926.507099999999,9.6061017958607317E-2,1530,1.0625,35,649,2214,1.5375000000000001,"DEFICIENT",null,1440]
[80,null,"Russell Sampson Rd.","CR 210 to St. Johns Pkwy","UZ","2UC","D",2.3717803030303028,"ADT24",8229,1.0613999999999999,8734.2605999999996,0.12977703115210143,1134,0.78749999999999998,70,245,1449,1.0062500000000001,"DEFICIENT",null,1440]
[81,262,"SR 13/SR 16","SR 16 (East) to SR 16 (West)","TR","2MA","D",4.07,"ADT23",9900,1.02,10299.959999999999,0.09,927,0.6969924812030075,19,776,1722,1.2947368421052632,"DEFICIENT",null,1330]
[82,105,"SR 13","SR 16 (West) to CR 16A","TR","2MA","D",1.34,"ADT23",13500,1.02,14045.4,0.09,1264,0.9503759398496241,25,818,2107,1.5842105263157895,"DEFICIENT",null,1330]
[83,4,"SR 13","CR 16A to Greenbriar Rd.","TR","2MA","D",6.17,"ADT23",4500,1.02,4681.8,0.09,421,0.20841584158415841,8,477,906,0.44851485148514852,"OK",null,2020]
[84,290,"SR 13","Greenbriar Rd. to Roberts Rd.","UZ","2MA","D",2.79,"ADT23",8600,1.02,8947.44,0.09,805,0.39851485148514854,16,450,1271,0.62920792079207921,"OK",null,2020]
[85,360,"SR 13","Roberts Rd. to CR 13B (Fruit Cove Rd S.)","UZ","4MA","D",0.86,"ADT23",27703,1.02,28822.2012,0.09,2594,0.77202380952380956,52,653,3299,0.98184523809523805,"CRITICAL",null,3360]
[86,24,"SR 13","CR 13B (Fruit Cove Rd S.) to Race Track Rd.","UZ","4MA","D",1.17,"ADT23",28000,1.02,29131.200000000001,0.09,2622,0.79696048632218841,52,628,3302,1.003647416413374,"DEFICIENT",null,3290]
[88,"3584 (Duval)","SR 13","Race Track Rd. to Duval Co. Line","UZ","4MA","D",0.71,"ADT24",46841,1.02,47777.82,9.0007570072163576E-2,4300,1.3069908814589666,86,150,4536,1.3787234042553191,"DEFICIENT",null,3290]
[89,"0015 (Clay)","SR 16","Clay Co. Line to SR 13","TR","2MA","D",1.85,"ADT24",20607,1.02,21019.14,9.4531473628140378E-2,1987,1.4939849624060151,40,1170,3197,2.4037593984962404,"DEFICIENT",null,1330]
[90,235,"SR 16","SR 13 to CR 16A","UZ","2MA","D",1.66,"ADT23",17000,1.02,17686.8,0.09,1592,0.78811881188118815,32,622,2246,1.111881188118812,"DEFICIENT",null,2020]
[91.1,5050,"SR 16","CR 16A to International Golf Pkwy.","UZ","4MA","D",1.49,"ADT24",28730,1.02,29304.600000000002,0.09,2637,0.78482142857142856,53,3010,5700,1.6964285714285714,"DEFICIENT",null,3360]
[91.2,null,"SR 16","International Golf Pkwy to CR 2209","UZ","4MA","D",0.76,"ADT24",20700,1.0410999999999999,21550.769999999997,0.09,1940,0.58966565349544076,80,1205,3225,0.98024316109422494,"CRITICAL",null,3290]
[92.11,43,"SR 16","CR 2209 to S. Francis Rd","UZ","2MA","D",0.96,"ADT24",20326,1.0387999999999999,21114.648799999999,0.09,1900,1.4285714285714286,74,1067,3041,2.2864661654135339,"DEFICIENT",null,1330]
[92.12,null,"SR 16","S. Francis Rd to West Mall Entrance","TR","2MA","D",3.39,"ADT24",22154,1.0541,23352.5314,0.09,2102,1.5804511278195488,114,1216,3432,2.5804511278195488,"DEFICIENT",null,1330]
[92.2,42,"SR 16","West Mall Entrance to I-95","TR","4MA","D",0.82,"ADT23",26500,1.0421,28778.268865000002,9.5000000000000001E-2,2734,0.83100303951367782,115,1343,4192,1.2741641337386018,"DEFICIENT",null,3290]
[93.1,null,"SR 16","SR 9 (I-95) to Inman Rd.","UZ","4MA","D",0.34,"ADT24",40643,1.0301,41866.354299999999,0.09,3768,1.1452887537993921,113,2169,6050,1.8389057750759878,"DEFICIENT",null,3290]
[93.2,6,"SR 16","Inman Rd. to Four Mile Rd.","UZ","4MA","D",2,"ADT23",40500,1.0283,42824.736045000005,9.5000000000000001E-2,4068,1.2364741641337387,115,1784,5967,1.813677811550152,"DEFICIENT",null,3290]
[94,5051,"SR 16","Four Mile Rd. to Woodlawn Rd.","UZ","4MA","D",0.77,"ADT23",25500,1.0358000000000001,27358.481820000001,0.09,2462,0.7483282674772036,88,927,3477,1.056838905775076,"DEFICIENT",null,3290]
[95,104,"SR 16","Woodlawn Rd. to Masters Dr.","UZ","4MA","D",1.61,"ADT23",23000,1.02,23929.200000000001,0.09,2154,0.65471124620060794,43,829,3026,0.91975683890577509,"CRITICAL",null,3290]
[96,null,"SR 16","Masters Dr. to Lewis Spdwy. (CR 16A)","UZ","4MA","D",0.19,"ADT24",23397,1.02,23864.94,9.0782143559257386E-2,2167,0.66676923076923078,43,562,2772,0.85292307692307689,"OK",null,3250]
[97,187,"SR 16","Lewis Spdwy. (CR 16A) to St. Aug. Limits (W)","UZ","4MA","D",0.1,"ADT23",23000,1.02,23929.200000000001,0.09,2154,0.66276923076923078,43,501,2698,0.83015384615384613,"OK",null,3250]
[99,75,"SR 206","SR 207 to CR 305","RD","2MA","C",3.5,"ADT23",5400,1.02,5618.16,9.5000000000000001E-2,534,0.68461538461538463,11,null,545,0.69871794871794868,"OK",null,780]
[100,null,"SR 206","CR 305 to SR 9 (I-95)","TR","2MA","D",5.05,"ADT24",5179,1.02,5282.58,0.11122550488365575,588,0.44210526315789472,12,null,600,0.45112781954887216,"OK",null,1330]
[101,76,"SR 206","SR 9 (I-95) to SR 5 (US 1)","TR","2MA","D",2.16,"ADT23",10500,1.02,10924.2,0.09,983,0.73909774436090225,20,15,1018,0.76541353383458643,"OK",null,1330]
[102,22,"SR 206","SR 5 (US 1) to SR A1A","TR","2MA","D",3.87,"ADT23",13000,1.02,13525.2,9.5000000000000001E-2,1285,0.96616541353383456,26,54,1365,1.0263157894736843,"DEFICIENT",null,1330]
[103,178,"SR 207","Putnam Co. Line to Hastings Main Street","RU","4MA","B",0.53,"ADT23",18700,1.02,19455.48,9.5000000000000001E-2,1848,0.60789473684210527,37,20,1905,0.62664473684210531,"OK",null,3040]
[104,279,"SR 207","Hastings Main Street to SR 206","RD","4MA","B",1.31,"ADT23",23000,1.02,23929.200000000001,9.5000000000000001E-2,2273,0.74769736842105261,45,23,2341,0.7700657894736842,"OK",null,3040]
[105,231,"SR 207","SR 206 to CR 13","RD","4MA","B",1.29,"ADT23",17800,1.02,18519.12,9.5000000000000001E-2,1759,0.57861842105263162,35,42,1836,0.60394736842105268,"OK",null,3040]
[106,58,"SR 207","CR 13 to CR 305","RU","4MA","B",4.49,"ADT23",16300,1.02,16958.52,9.5000000000000001E-2,1611,0.52993421052631584,32,null,1643,0.54046052631578945,"OK",null,3040]
[107.1,108,"SR 207","CR 305 to Vermont Blvd.","TR","4MA","C",2.48,"ADT23",18000,1.02,18727.2,9.5000000000000001E-2,1779,0.40896551724137931,36,75,1890,0.43448275862068964,"OK",null,4350]
[107.2,null,"SR 207","Vermont Blvd. to Cypress Links Blvd.","TR","4MA","C",1.07,"ADT24",20209,1.0296000000000001,20807.186400000002,9.1048720690012741E-2,1894,0.43540229885057469,56,124,2074,0.4767816091954023,"OK",null,4350]
[107.3,null,"SR 207","Cypress Links Blvd. to SR 9 (I-95)","TR","4MA","C",0.59,"ADT24",24034,1.0254000000000001,24644.463600000003,0.09,2218,0.50988505747126434,56,921,3195,0.73448275862068968,"OK",null,4350]
[108,271,"SR 207","SR 9 (I-95) to Wildwood Dr.","UZ","4MA","C",1.77,"ADT24",34961,1.0408999999999999,36390.904900000001,9.1495739589979835E-2,3330,0.76551724137931032,136,799,4265,0.98045977011494256,"CRITICAL",null,4350]
[109,null,"SR 207","Wildwood Dr. to Holmes Blvd.","UZ","4MA","D",1.63,"ADT24",36886,1.0295000000000001,37974.137000000002,9.0658040874585677E-2,3443,1.024702380952381,102,824,4369,1.300297619047619,"DEFICIENT",null,3360]
[110,5052,"SR 207","Holmes Blvd. to SR 312","UZ","4MA","D",0.39,"ADT23",40000,1.0313000000000001,42543.187600000012,0.09,3829,1.1638297872340426,120,907,4856,1.4759878419452888,"DEFICIENT",null,3290]
[111,237,"SR 207","SR 312 to St. Aug. City Limits (W)","UZ","4MA","D",1.1399999999999999,"ADT24",15177,1.0467,15885.7659,0.09,1430,0.43465045592705165,67,339,1836,0.55805471124620065,"OK",null,3290]
[112.1,null,"SR 312","Holmes Blvd to SR 207","UZ","2MA","D",1.04,"ADT24",10685,1.05,11219.25,0.09,1010,0.517948717948718,50,null,1060,0.54358974358974355,"OK",null,1950]
[112.2,298,"SR 312","SR 207 to CR 5A","UZ","4MA","D",0.8,"ADT24",32985,1.0621,35033.368500000004,0.09,3153,0.95835866261398173,196,351,3700,1.1246200607902737,"DEFICIENT",null,3290]
[113,299,"SR 312","CR 5A to SR 5 (US 1)","UZ","4MA","D",0.2,"ADT24",30760,1.0621,32670.196,9.0066352712968811E-2,2942,0.89422492401215803,183,183,3308,1.0054711246200607,"DEFICIENT",null,3290]
[114.1,null,"SR 312","SR 5 (US 1) to Sgt. Tutten Dr.","UZ","4MA","D",0.27,"ADT24",36916,1.02,37654.32,0.09,3389,1.0300911854103343,68,66,3523,1.0708206686930091,"DEFICIENT",null,3290]
[114.2,272,"SR 312","Sgt. Tutten Dr. to SR A1A","UZ","4MA","D",2.33,"ADT23",39500,1.0256000000000001,41548.286720000011,0.09,3739,1.1364741641337386,96,43,3878,1.1787234042553192,"DEFICIENT",null,3290]
[115,21,"SR 5 (US 1)","Flagler Co. Line to SR 9 (I-95)","RU","4PA","C",0.75,"ADT23",15300,1.02,15918.119999999999,9.5000000000000001E-2,1512,0.34758620689655173,30,316,1858,0.42712643678160922,"OK",null,4350]
[116,65,"SR 5 (US 1)","SR 9 (I-95) to SR 206","RU","4PA","C",6.69,"ADT23",17900,1.02,18623.16,9.5000000000000001E-2,1769,0.40666666666666668,35,1176,2980,0.68505747126436778,"OK",null,4350]
[117.1,64,"SR 5 (US 1)","SR 206 to Shores Blvd.(S)","UZ","4PA","D",2.3199999999999998,"ADT23",25000,1.0273000000000001,26383.632250000006,0.09,2375,0.70684523809523814,65,64,2504,0.74523809523809526,"OK",null,3360]
[117.2,null,"SR 5 (US 1)","Shores Blvd.(S) to Wildwood Dr.","UZ","4PA","D",1.7,"ADT24",35679,1.0204,36406.851600000002,0.09,3277,0.99604863221884499,67,189,3533,1.0738601823708207,"DEFICIENT",null,3290]
[118,181,"SR 5 (US 1)","Wildwood Dr. to CR 5A","UZ","4PA","E",1.02,"ADT23",37500,1.02,39015,0.09,3511,1.0671732522796353,70,84,3665,1.1139817629179332,"DEFICIENT",null,3290]
[119,null,"SR 5 (US 1)","CR 5A to Lewis Point Rd.","UZ","4PA","E",1.49,"ADT24",38476,1.02,39245.520000000004,0.09,3532,1.0735562310030395,71,88,3691,1.1218844984802432,"DEFICIENT",null,3290]
[120.1,311,"SR 5 (US 1)","Lewis Point Rd. to Shore Dr.","UZ","6PA","E",0.67,"ADT24",41320,1.0202,42154.663999999997,0.09,3794,0.77905544147843941,77,68,3939,0.80882956878850099,"OK",null,4870]
[120.2,null,"SR 5 (US 1)","Shore Dr. to SR 312","UZ","6PA","E",0.42,"ADT24",42513,1.0202,43371.762600000002,0.09,3903,0.80143737166324436,79,80,4062,0.83408624229979467,"OK",null,4870]
[121,12,"SR 5 (US 1)","SR 312 to St. Aug. City Limits (S)","UZ","4PA","E",0.83,"ADT24",38180,1.02,38943.599999999999,0.09,3505,1.0653495440729484,70,102,3677,1.1176291793313069,"DEFICIENT",null,3290]
[122,102,"SR 5 (US 1)","St. Aug. Limits (N) to CR 16A (Lewis Spdwy)","UZ","4PA","D",0.8,"ADT23",22500,1.0311999999999999,23925.902399999999,0.09,2153,0.65440729483282678,67,345,2565,0.77963525835866265,"OK",null,3290]
[123,null,"SR 5 (US 1)","CR 16A (Lewis Spdwy) to Gun Club Rd.","UZ","4PA","D",2.4300000000000002,"ADT24",25900.711333333336,1.02,26418.725560000003,0.10201969526115927,2695,0.81914893617021278,54,661,3410,1.0364741641337385,"DEFICIENT",null,3290]
[124,null,"SR 5 (US 1)","Gun Club Rd. to International Golf Pkwy.","UZ","4PA","D",3.69,"ADT24",28198,1.0221,28821.175800000001,9.3623688478411432E-2,2698,0.82006079027355627,60,1163,3921,1.1917933130699088,"DEFICIENT",null,3290]
[125.1,48,"SR 5 (US 1)","International Golf Pkwy. to Alternate CR 210","UZ","4PA","D",5.39,"ADT24",30859,1.0465,32293.943500000001,9.1643182615036789E-2,2960,0.88095238095238093,138,1030,4128,1.2285714285714286,"DEFICIENT",null,3360]
[125.2,null,"SR 5 (US 1)","Alternate CR 210 to Valley Ridge Blvd.","UZ","4PA","D",0.6,"ADT24",30194,1.02,30797.88,9.5000000000000001E-2,2926,0.87083333333333335,59,621,3606,1.0732142857142857,"DEFICIENT",null,3360]
[126,47,"SR 5 (US 1)","Valley Ridge Blvd. to Duval Co. Line","UZ","4PA","D",2.25,"ADT24",31209,1.02,31833.18,9.5000000000000001E-2,3024,0.9,60,927,4011,1.1937500000000001,"DEFICIENT",null,3360]
[127,"0256 (Flagler)","SR 9 (I-95)","Flagler Co. Line to SR 5 (US 1)","RU","6IF","C",0.94,"ADT23",67500,1.02,70227,0.09,6320,0.7444051825677267,126,239,6685,0.78739693757361606,"OK",null,8490]
[128,256,"SR 9 (I-95)","SR 5 (US 1) to SR 206","RU","6IF","C",7.22,"ADT23",65500,1.02,68146.2,0.105,7155,0.84275618374558303,143,333,7631,0.8988221436984688,"OK",null,8490]
[129,261,"SR 9 (I-95)","SR 206 to SR 207","TR","6IF","C",5.74,"ADT23",69500,1.02,72307.8,0.105,7592,0.8942285041224971,152,182,7926,0.93356890459363961,"CRITICAL",null,8490]
[130,257,"SR 9 (I-95)","SR 207 to SR 16","TR","6IF","C",6.68,"ADT23",86000,1.02,89474.4,0.105,9395,1.1065959952885749,188,421,10004,1.1783274440518257,"DEFICIENT",null,8490]
[131,258,"SR 9 (I-95)","SR 16 to International Golf Pkwy.","TR","6IF","D",5.65,"ADT23",91500,1.02,95196.6,0.105,9996,0.98,200,705,10901,1.0687254901960783,"DEFICIENT",null,10200]
[132,55,"SR 9 (I-95)","International Golf Pkwy. to CR 210","UZ","10lF","D",5.96,"ADT23",117000,1.0226999999999999,122372.08893,0.105,12849,0.70521405049396269,292,1507,14648,0.80395170142700334,"OK",null,18220]
[133,259,"SR 9 (I-95)","CR 210 to Duval Co. Line","UZ","10lF","D",2.82,"ADT23",116500,1.0215000000000001,121563.35212500002,0.105,12764,0.70054884742041712,274,2685,15723,0.86295279912184408,"OK",null,18220]
[134,20,"SR A1A","Flagler Co. Line to Ft. Matanzas Mon. Entr.","UZ","2MA","D",3.45,"ADT23",6700,1.02,6970.68,0.09,627,0.47142857142857142,13,null,640,0.48120300751879697,"OK",null,1330]
[135,276,"SR A1A","Ft. Matanzas Monument Entr. to SR 206","UZ","2MA","D",3.95,"ADT23",12000,1.02,12484.8,0.09,1124,0.55643564356435649,22,null,1146,0.56732673267326728,"OK",null,2020]
[136,275,"SR A1A","SR 206 to Owens Ave.","UZ","2MA","D",2.4300000000000002,"ADT23",17400,1.02,18102.96,0.09,1629,0.80643564356435649,33,21,1683,0.83316831683168313,"OK",null,2020]
[137,110,"SR A1A","Owens Ave. to A1A Beach Blvd.(S)","UZ","4MA","D",1.53,"ADT23",24500,1.02,25489.8,0.09,2294,0.6972644376899696,46,null,2340,0.71124620060790278,"OK",null,3290]
[138,329,"SR A1A","A1A Beach Blvd.(S) to Pope Rd.","UZ","4MA","D",2.83,"ADT23",26696,1.02,27774.518400000001,0.09,2500,0.74404761904761907,50,13,2563,0.762797619047619,"OK",null,3360]
[139,null,"SR A1A","Pope Rd. to SR 312","UZ","4MA","D",0.1,"ADT24",25310,1.02,25816.2,0.09,2323,0.70607902735562311,46,22,2391,0.72674772036474167,"OK",null,3290]
[140,240,"SR A1A","SR 312 to St. Aug. City Limits (S)","UZ","4MA","D",0.9,"ADT24",23275,1.02,23740.5,0.09,2137,0.64954407294832828,43,null,2180,0.66261398176291797,"OK",null,3290]
[141,9,"SR A1A ","St. Aug. Limits (N) to SR A1A (Cstl. Hwy.)","UZ","2MA","D",1.03,"ADT23",15400,1.02,16022.16,0.09,1442,0.91265822784810124,29,70,1541,0.97531645569620251,"CRITICAL",null,1580]
[142,null,"SR A1A","SR A1A (Vilano Rd.) to 3rd St.","UZ","2MA","D",2.87,"ADT24",11622,1.0215000000000001,11871.873000000001,0.09,1068,0.52871287128712874,23,16,1107,0.54801980198019806,"OK",null,2020]
[143.1,null,"SR A1A","3rd St. to Guana River Park Dam Use Entr.","UZ","2MA","D",4.79,"ADT24",5560,1.02,5671.2,0.09,510,0.25247524752475248,10,30,550,0.2722772277227723,"OK",null,2020]
[143.19999999999999,78,"SR A1A","Guana River Park Dam Use Entr. to Mickler Rd.","UZ","2MA","D",9.81,"ADT24",6890,1.02,7027.8,9.5000000000000001E-2,668,0.5022556390977444,13,32,713,0.53609022556390973,"OK",null,1330]
[144.1,null,"SR A1A","Mickler Rd. to Sawgrass Dr. W (2-lane)","UZ","2MA","D",2.2799999999999998,"ADT24",16501,1.02,16831.02,9.5000000000000001E-2,1599,0.79158415841584162,32,186,1817,0.89950495049504953,"OK",null,2020]
[144.19999999999999,274,"SR A1A","Sawgrass Dr. W to Palm Valley Rd. (4-lane)","UZ","4MA","D",0.48,"ADT24",20151,1.02,20554.02,9.5000000000000001E-2,1953,0.58125000000000004,39,186,2178,0.64821428571428574,"OK",null,3360]
[145.1,81,"SR A1A","Palm Valley Rd to PGA Tour Blvd.","UZ","4MA","D",0.54,"ADT23",38500,1.02,40055.4,0.09,3605,1.0957446808510638,72,238,3915,1.1899696048632218,"DEFICIENT",null,3290]
[145.19999999999999,null,"SR A1A","PGA Tour Blvd. to Corona Rd","UZ","4MA","D",0.97,"ADT24",40214,1.02,41018.28,0.09,3692,1.0988095238095239,74,108,3874,1.1529761904761904,"DEFICIENT",null,3360]
[146,266,"SR A1A","Corona Rd to CR 210A (Solana Rd)","UZ","4MA","D",0.79,"ADT23",40000,1.02,41616,0.09,3745,1.1145833333333333,75,78,3898,1.1601190476190477,"DEFICIENT",null,3360]
[147.1,80,"SR A1A","CR 210A (Solana Rd) to Marlin Ave.","UZ","4MA","D",1.2,"ADT23",49000,1.02,50979.6,0.09,4588,1.3654761904761905,92,null,4680,1.3928571428571428,"DEFICIENT",null,3360]
[147.19999999999999,null,"SR A1A","Marlin Ave. to Duval Co. Line","UZ","4MA","D",0.56000000000000005,"ADT24",50809,1.02,51825.18,0.09,4664,1.388095238095238,93,null,4757,1.4157738095238095,"DEFICIENT",null,3360]
[148,null,"St. Ambrose Church Rd.","CR 13A to SR 207","RU","2MiC","C",3.59,"ADT24",369,1.02,376.38,0.1302305895376,49,5.9756097560975607E-2,1,null,50,6.097560975609756E-2,"OK",null,820]
[149,null,"Varella Ave.","SR 16 to Lewis Speedway","UZ","2UC","D",0.77,"ADT24",3400,1.02,3468,0.18470606705900824,641,0.55739130434782613,13,null,654,0.56869565217391305,"OK",null,1150]
[150.1,null,"Wildwood Dr.","SR 5 (US 1) to Deerchase Drive","UZ","2UC","D",1.1299999999999999,"ADT24",10993,1.0261,11279.917300000001,0.10152104019767735,1145,0.69393939393939397,30,80,1255,0.76060606060606062,"OK",1650,1650]
[150.19999999999999,null,"Wildwood Dr.","Deerchase Drive to SR 207","UZ","2UC","D",2.64,"ADT24",8192,1.02,8355.84,0.10010250740911152,836,0.5805555555555556,17,73,926,0.6430555555555556,"OK",null,1440]
[151.1,null,"Woodlawn Rd.","SR 16 to Heritage Park Drive (N)","UZ","2UC","D",1.47,"ADT24",10362,1.0425,10802.385,0.105772164595694,1143,0.99391304347826082,49,74,1266,1.1008695652173912,"DEFICIENT",null,1150]
[151.19999999999999,null,"Woodlawn Rd.","Heritage Park Dr. (N) to Lewis Speedway","UZ","2UC","D",0.9,"ADT24",8237,1.0590999999999999,8723.8066999999992,0.11703095952056933,1021,0.70902777777777781,60,52,1133,0.78680555555555554,"OK",null,1440]
[152.19999999999999,null,"Veterans Pkwy","Longleaf Pine Pkwy to Race Track Rd","UZ","4UC","D",1.75,"ADT24",11174,1.0681,11934.949400000001,0.11813376995574708,1410,0.43788819875776397,96,887,2393,0.74316770186335401,"OK",null,3220]
[153.1,null,"Longleaf Pine Pkwy","CR 210/16A to Greenbriar Rd","TR","4MaC","D",3.03,"ADT24",9073,1.1398999999999999,10342.312699999999,9.1255863189209904E-2,944,0.32777777777777778,132,1531,2607,0.90520833333333328,"CRITICAL",null,2880]
[153.19999999999999,null,"Longleaf Pine Pkwy","Greenbriar Rd to Roberts Rd","UZ","4UC","D",0.36,"ADT23",15685.905999999999,1.1048,19145.95083063424,0.10098237232838193,1933,0.60031055900621122,203,1280,3416,1.0608695652173914,"DEFICIENT",null,3220]
[154,null,"Longleaf Pine Pkwy","Roberts Rd to Veterans Pkwy","UZ","4UC","D",4.08,"ADT24",14780,1.1505000000000001,17004.39,0.11609936498112715,1974,0.61304347826086958,297,845,3116,0.96770186335403729,"CRITICAL",null,3220]
[155,null,"Longleaf Pine Pkwy","Veterans Pkwy to Tollerton Ave","UZ","4UC","D",0.63,"ADT24",14078,1.1137999999999999,15680.076399999998,0.10683367270072341,1675,0.52018633540372672,191,1195,3061,0.95062111801242233,"CRITICAL",null,3220]
[156,null,"Longleaf Pine Pkwy","Tollerton Ave to St. Johns Pkwy","UZ","4UC","D",1.63,"ADT24",21771,1.1459999999999999,24949.565999999999,0.1058307273894718,2640,0.81987577639751552,386,1181,4207,1.3065217391304347,"DEFICIENT",null,3220]
[157,null,"St. Johns Pkwy (CR 2209)","CR 210 to SR 9B","UZ","4MA","D",0.95,"ADT24",45141,1.2104999999999999,54643.180499999995,9.0046186189666463E-2,4920,1.3743016759776536,1036,1226,7182,2.006145251396648,"DEFICIENT",null,3580]
[158,null,"St. Johns Pkwy (CR 2209)","SR 9B to Longleaf Pine Pkwy","UZ","4MA","D",0.79,"ADT24",24902,1.1400999999999999,28390.770199999999,9.5895894260657227E-2,2723,0.76061452513966477,381,964,4068,1.1363128491620111,"DEFICIENT",null,3580]
[159,null,"St. Johns Pkwy (CR 2209)","Longleaf Pine Pkwy to Race Track Rd","UZ","4MA","D",1.4,"ADT24",15327,1.0732999999999999,16450.469099999998,0.10387072156041174,1709,0.47737430167597766,125,270,2104,0.58770949720670396,"OK",null,3580]
[160.1,null,"Valley Ridge Blvd","US 1 to CR 210 W.","UZ","4MA","D",0.64,"ADT24",11626,1.02,11858.52,0.10527978101805548,1248,0.34860335195530728,25,755,2028,0.56648044692737431,"OK",null,3580]
[160.19999999999999,null,"Valley Ridge Blvd","CR 210 W. to Nocatee Pkwy","UZ","4MA","D",1.45,"ADT24",14075,1.0327,14535.252499999999,9.8049112544693354E-2,1425,0.39804469273743015,47,715,2187,0.61089385474860336,"OK",null,3580]
[161.1,null,"Nocatee Pkwy","US 1 to Duval County Line","UZ","4E","D",1.8,"ADT24",28144,1.1447000000000001,32216.436800000003,9.5000000000000001E-2,3061,0.4501470588235294,443,1937,5441,0.80014705882352943,"OK",null,6800]
[161.19999999999999,null,"Nocatee Pkwy","Duval County Line to Crosswater Pkwy","UZ","6E","D",0.46,"ADT24",31617,1.0832999999999999,34250.696100000001,9.0330699266737702E-2,3094,0.30273972602739724,258,1814,5166,0.5054794520547945,"OK",null,10220]
[162,null,"Nocatee Pkwy","Crosswater Pkwy to Palm Valley Rd/Davis Park Rd","UZ","4E","D",1.26,"ADT24",29818,1.0739000000000001,32021.550200000001,9.3233179434866753E-2,2985,0.43897058823529411,221,701,3907,0.57455882352941179,"OK",null,6800]
[163,null,"CR 210 (Palm Valley Rd)","Palm Valley Rd to CR 210A (Roscoe Blvd)","UZ","4MA","D",0.67,"ADT24",24000,1.0552999999999999,25327.199999999997,0.10916667076041683,2765,0.77234636871508378,153,635,3553,0.99245810055865924,"CRITICAL",null,3580]
[164,null,"Crosswater Pkwy","Preservation Trail to Nocatee Pkwy","UZ","4MA","D",0.64734848484848484,"ADT24",27177,1.05,28535.850000000002,9.5000000000000001E-2,2711,0.75726256983240225,136,null,2847,0.79525139664804467,"OK",null,3580]
[165,null,"Rolling Hills Dr.","Dobbs Rd to SR 207","UZ","2UC","D",1.1284090909090909,"ADT24",5984,1.0310999999999999,6170.1023999999998,0.10961813220260894,676,0.46944444444444444,21,null,697,0.48402777777777778,"OK",null,1440]
[166,null,"SR 9B","St. Johns Pkwy to W. Peyton Pkwy","UZ","4IF","D",1.1284090909090909,"ADT24",51603,1.0430999999999999,53827.089299999992,9.5483247427547713E-2,5140,0.69459459459459461,222,681,6043,0.81662162162162166,"OK",null,7400]
[167,null,"SR 9B","W. Peyton Pkwy to Duval County Line","UZ","4IF","D",0.94,"ADT24",65355,1.0371999999999999,67786.205999999991,9.5483247427547713E-2,6472,0.87459459459459454,241,681,7394,0.9991891891891892,"CRITICAL",null,7400]
[168,null,"West Peyton Pkwy","SR 9B to Race Track Rd","UZ","4MA","D",0.62,"ADT24",28427,1.0315000000000001,29322.450500000003,9.5483247427547713E-2,2800,0.78212290502793291,88,23,2911,0.81312849162011169,"OK",null,3580]
[170,null,"Silverleaf Pkwy","SR 16/CR 16A to St. Johns Pkwy (CR 2209)","TR","4MA","D",2.0299999999999998,"ADT24",15506,1.0763,16689.107800000002,9.5483247427547713E-2,1594,0.49812499999999998,122,2416,4132,1.29125,"DEFICIENT",null,3200]
[171.2,null,"St. Johns Pkwy (CR 2209)","Silverleaf Pkwy to First Coast Expressway","UZ","4MA","D",1.6,"ADT24",15783,1.02,16098.66,9.5483247427547713E-2,1537,0.42932960893854749,31,2264,3832,1.0703910614525141,"DEFICIENT",null,3580]
[171.3,null,"St. Johns Pkwy (CR 2209)","First Coast Expressway to CR 210","UZ","4MA","D",2.52,"ADT24",25973,1.0498000000000001,27266.455400000003,9.5483247427547713E-2,2603,0.7270949720670391,130,2856,5589,1.5611731843575418,"DEFICIENT",null,3580]
[172,null,"Brinkhoff Road","Wildwood Dr to SR 207","UZ","2MaC","D",0.48,"ADT24",5753,1.0611999999999999,6105.0835999999999,0.10916799990404343,666,0.46250000000000002,41,null,707,0.4909722222222222,"OK",null,1440]
[]
[]
["=","=","=","=","=","=","=","=","=",null,"=","=",null,"=",null,"=","=","=","=","=","=","="]
[{"$nulls":7},428.39594696969669,null,4124553.8941333336,null,4312894.2724761553,null,413429,null,15445,104209,532995,183.64981000344824,null,10440,584115]
["=","=","=","=","=","=","=","=","=","=","=","=","=","=",null,"=",null,"=","=","=","=","="]
[]
[{"$nulls":7},"."]

{"sheet":"LOS Handbook Reference","index":1,"n_rows":230,"n_cols":18,"rows_kept":230,"cut":false,"hidden":false,"merged":[]}
[{"$nulls":4},"CURRENT","FDOT"]
[{"$nulls":4},"AREA","NEW",{"$nulls":5},"CURRENT","2020 or 2023"]
[{"$nulls":4},"TYPE","AREA","FDOT",null,null,"FDOT",null,"PEAK HR","GEN'L","TRAFFIC","APPRVD.","FDOT LOS"]
["MRN"," FDOT ",null,null,2010,"TYPE","CONTEXT","APPRVD.","CURRENT",2023,"SEGMENT","SERVICE ","PEAK HR","STUDY","PK. HR.","HANDBOOK"]
["LINK","COUNT",null,null,"CENSUS",2020,"CLASS","ROAD","LOS","LOS","LENGTH","VOLUME","SERVICE","SERVICE","SERVICE","REFERENCE"]
["ID","STN.","ROADWAY","FROM/TO",null,"CENSUS?","2023 QLOS","TYPE","STND.","STND","(Mi.)","2020 QLOS","VOLUME","VOLUME","VOLUME",2020]
["=","=","=","=","CLASS","CENSUS?",2023,"=","=",null,"=",null,"=","=","=",2023]
[1,null,"11th Street","SR A1A to A1A Beach Blvd.",{"$f":"+'2025 TAS (2024 Counts)'!E15","v":"UZ"},null,null,{"$f":"+'2025 TAS (2024 Counts)'!F15","v":"2UC"},"C",null,0.68,null,475,null,{"$f":"IF(N8=\" \",M8,N8)","v":0},"Table 4, State Signalized Arterials, Class II, 2 Lanes, Undivided, LOS \"C\", -10% Non-State Signalized Roadway Adj; -20% for no left turn lanes"]
[2,null,"16th Street","SR A1A to A1A Beach Blvd.",{"$f":"+'2025 TAS (2024 Counts)'!E16","v":"UZ"},null,null,{"$f":"+'2025 TAS (2024 Counts)'!F16","v":"2UC"},"C",null,0.78,null,475,null,{"$f":"IF(N9=\" \",M9,N9)","v":0},"Table 4, State Signalized Arterials, Class II, 2 Lanes, Undivided, LOS \"C\", -10% Non-State Signalized Roadway Adj; -20% for no left turn lanes"]
[3,null,"A Street","SR A1A to A1A Beach Blvd.",{"$f":"+'2025 TAS (2024 Counts)'!E17","v":"UZ"},null,null,{"$f":"+'2025 TAS (2024 Counts)'!F17","v":"2UC"},"C",null,0.56999999999999995,null,475,null,0,"Table 4, State Signalized Arterials, Class II, 2 Lanes, Undivided, LOS \"C\", -10% Non-State Signalized Roadway Adj; -20% for no left turn lanes"]
[4,null,"A. Nease Rd./Vermont Blvd.","SR 207 to Co. Landfill Entrance",{"$f":"+'2025 TAS (2024 Counts)'!E18","v":"TR"},null,null,{"$f":"+'2025 TAS (2024 Counts)'!F18","v":"2MiC"},"D",null,2.4500000000000002,null,1050,null,0,"Table 5, State Signalized Arterials, Class I, 2 Lanes, Undivided, LOS \"D\", -10% Non-State Signalized Roadway Adj; -20% for no left turn lanes"]
[5,null,"Allen Nease Rd.","Co. Landfill Entrance to CR 214",{"$f":"+'2025 TAS (2024 Counts)'!E19","v":"TR"},null,null,{"$f":"+'2025 TAS (2024 Counts)'!F19","v":"2MiC"},"D",null,1.23,null,1050,null,0,"Table 5, State Signalized Arterials, Class I, 2 Lanes, Undivided, LOS \"D\", -10% Non-State Signalized Roadway Adj; -20% for no left turn lanes"]
[7,null,"Canal Blvd.","CR 210A (Roscoe Blvd) to CR 210 (Palm Vly Rd)",{"$f":"+'2025 TAS (2024 Counts)'!E20","v":"UZ"},null,null,{"$f":"+'2025 TAS (2024 Counts)'!F20","v":"2UC"},"D",null,0.76,null,960,null,0,"Table 4, State Signalized Arterials, Class II, 2 Lanes, Undivided, LOS \"D\", -10% Non-State Signalized Roadway Adj.; -20% for no left turn lanes"]
[8,null,"Cowpen Branch Rd.","CR 13 to SR 206",{"$f":"+'2025 TAS (2024 Counts)'!E21","v":"RU"},null,null,{"$f":"+'2025 TAS (2024 Counts)'!F21","v":"2MiC"},"C",null,3.99,null,820,null,0,"Table 6, Rural Undeveloped Areas, Uninterrupted Flow Highways, 2 Lanes, Undivided, LOS \"C\""]
[10,null,"CR 13","CR 204 to Cowpen Branch Rd.",{"$f":"+'2025 TAS (2024 Counts)'!E22","v":"RU"},null,null,{"$f":"+'2025 TAS (2024 Counts)'!F22","v":"2MaC"},"C",null,4.92,null,820,null,0,"Table 6, Rural Undeveloped Areas, Uninterrupted Flow Highways, 2 Lanes, Undivided, LOS \"C\""]
[11,null,"CR 13","Cowpen Branch Rd. to George Miller Rd.",{"$f":"+'2025 TAS (2024 Counts)'!E23","v":"RU"},null,null,{"$f":"+'2025 TAS (2024 Counts)'!F23","v":"2MaC"},"C",null,2.4700000000000002,null,820,null,0,"Table 6, Rural Undeveloped Areas, Uninterrupted Flow Highways, 2 Lanes, Undivided, LOS \"C\""]
[12,null,"CR 13","George Miller Rd. to SR 207 (W)",{"$f":"+'2025 TAS (2024 Counts)'!E24","v":"RD"},null,null,{"$f":"+'2025 TAS (2024 Counts)'!F24","v":"2MaC"},"C",null,2.27,null,1100,null,0,"Table 6, Rural Developed Areas, State Signalized Arterials, 2 Lanes, Undivided, LOS \"C\""]
[13,null,"CR 13","SR 207 (W) to SR 207 (E) ",{"$f":"+'2025 TAS (2024 Counts)'!E25","v":"RD"},null,null,{"$f":"+'2025 TAS (2024 Counts)'!F25","v":"2MaC"},"C",null,1.59,null,1100,null,0,"Table 6, Rural Developed Areas, State Signalized Arterials, 2 Lanes, Undivided, LOS \"C\""]
[14,15,"CR 13","SR 207 to CR 13A",{"$f":"+'2025 TAS (2024 Counts)'!E26","v":"RU"},null,null,{"$f":"+'2025 TAS (2024 Counts)'!F26","v":"2MaC"},"C",null,2.71,null,820,null,0,"Table 6, Rural Undeveloped Areas, Uninterrupted Flow Highways, 2 Lanes, Undivided, LOS \"C\""]
[15,null,"CR 13","CR 13A to CR 214",{"$f":"+'2025 TAS (2024 Counts)'!E27","v":"RU"},null,null,{"$f":"+'2025 TAS (2024 Counts)'!F27","v":"2MaC"},"C",null,7.39,null,820,null,0,"Table 6, Rural Undeveloped Areas, Uninterrupted Flow Highways, 2 Lanes, Undivided, LOS \"C\""]
[16,null,"CR 13","CR 214 to CR 208",{"$f":"+'2025 TAS (2024 Counts)'!E28","v":"RU"},null,null,{"$f":"+'2025 TAS (2024 Counts)'!F28","v":"2MaC"},"C",null,6.36,null,820,null,0,"Table 6, Rural Undeveloped Areas, Uninterrupted Flow Highways, 2 Lanes, Undivided, LOS \"C\""]
[17.100000000000001,null,"CR 13","CR 208 to Joe Ashton Rd",{"$f":"+'2025 TAS (2024 Counts)'!E29","v":"TR"},null,null,{"$f":"+'2025 TAS (2024 Counts)'!F29","v":"2MaC"},"D",null,4.0999999999999996,null,2110,null,0,"Table 5, Uninterrupted Flow Highway, 2 Lanes, Undivided, LOS \"D\"."]
[17.2,null,"CR 13","Joe Ashton Rd. to SR 16",{"$f":"+'2025 TAS (2024 Counts)'!E30","v":"UZ"},null,null,{"$f":"+'2025 TAS (2024 Counts)'!F30","v":"2MaC"},"D",null,1.27,null,1440,null,0,"Table 4, State Signalized Arterials, Class I, 2 Lanes, Undivided, LOS \"D\", -10% Non-State Signalized Roadway Adj."]
[18,null,"CR 13A","CR 13 to CR 305",{"$f":"+'2025 TAS (2024 Counts)'!E31","v":"RU"},null,null,{"$f":"+'2025 TAS (2024 Counts)'!F31","v":"2MaC"},"C",null,0.97,null,820,null,0,"Table 6, Rural Undeveloped Areas, Uninterrupted Flow Highways, 2 Lanes, Undivided, LOS \"C\""]
[19,null,"CR 13A","CR 305 to CR 214",{"$f":"+'2025 TAS (2024 Counts)'!E32","v":"RU"},null,null,{"$f":"+'2025 TAS (2024 Counts)'!F32","v":"2MaC"},"C",null,4.4800000000000004,null,820,null,0,"Table 6, Rural Undeveloped Areas, Uninterrupted Flow Highways, 2 Lanes, Undivided, LOS \"C\""]
[20,null,"CR 13A","CR 214 to CR 208",{"$f":"+'2025 TAS (2024 Counts)'!E33","v":"TR"},null,null,{"$f":"+'2025 TAS (2024 Counts)'!F33","v":"2MaC"},"D",null,3.76,null,2110,null,0,"Table 5, Uninterrupted Flow Highway, 2 Lanes, Undivided, LOS \"D\"."]
[21.1,null,"CR 13A","CR 208 to Samara Lakes Parkway",{"$f":"+'2025 TAS (2024 Counts)'!E34","v":"TR"},null,null,{"$f":"+'2025 TAS (2024 Counts)'!F34","v":"2MaC"},"D",null,2.85,null,1310,null,0,"Table 5, State Signalized Arterials, Class I, 2 Lanes, Undivided, LOS \"D\", -10% Non-State Signalized Roadway Adj."]
[21.2,null,"CR 13A","Samara Lakes Parkway to SR 16",{"$f":"+'2025 TAS (2024 Counts)'!E35","v":"UZ"},null,null,{"$f":"+'2025 TAS (2024 Counts)'!F35","v":"4UC"},"D",null,1.5,null,3220,null,0,"Table 4, State Signalized Arterials, Class I, 4 Lanes, Divided, LOS \"D\", -10% Non-State Signalized Roadway Adj. "]
[22,null,"CR 13B (Fruit Cove Rd)","SR 13 to SR 13",{"$f":"+'2025 TAS (2024 Counts)'!E36","v":"UZ"},null,null,{"$f":"+'2025 TAS (2024 Counts)'!F36","v":"2UC"},"D",null,2.38,null,1150,null,0,"Table 4, State Signalized Arterials, Class I, 2 Lanes, Undivided, LOS \"D\", -10% Non-State Signalized Roadway Adj; -20% for no left turn lanes"]
[23.1,286,"CR 16A","SR 13 to CR 210",{"$f":"+'2025 TAS (2024 Counts)'!E37","v":"UZ"},null,null,{"$f":"+'2025 TAS (2024 Counts)'!F37","v":"2MaC"},"D",null,0.56999999999999995,null,1440,null,0,"Table 4, State Signalized Arterials, Class I, 2 Lanes, Undivided, LOS \"D\", -10% Non-State Signalized Roadway Adj."]
[23.2,null,"CR 16A","CR 210 to Leo Maguire Rd.",{"$f":"+'2025 TAS (2024 Counts)'!E38","v":"TR"},null,null,{"$f":"+'2025 TAS (2024 Counts)'!F38","v":"2MaC"},"D",null,4.2300000000000004,null,1310,null,0,"Table 5, State Signalized Arterials, Class I, 2 Lanes, Undivided, LOS \"D\", -10% Non-State Signalized Roadway Adj."]
[24,null,"CR 16A","Leo Maguire Rd. to SR 16",{"$f":"+'2025 TAS (2024 Counts)'!E39","v":"TR"},null,null,{"$f":"+'2025 TAS (2024 Counts)'!F39","v":"2MaC"},"D",null,2.5299999999999998,null,1310,null,0,"Table 5, State Signalized Arterials, Class I, 2 Lanes, Undivided, LOS \"D\", -10% Non-State Signalized Roadway Adj."]
[25.1,null,"CR 16A (Lewis Spdwy)","SR 16 to Varella Ave.",{"$f":"+'2025 TAS (2024 Counts)'!E40","v":"UZ"},null,null,{"$f":"+'2025 TAS (2024 Counts)'!F40","v":"2UC"},"D",null,0.98,null,1440,null,0,"Table 4, State Signalized Arterials, Class I, 2 Lanes, Undivided, LOS \"D\", -10% Non-State Signalized Roadway Adj."]
[25.2,null,"CR 16A (Lewis Spdwy)","Varella Ave. to Woodlawn Rd.",{"$f":"+'2025 TAS (2024 Counts)'!E41","v":"UZ"},null,null,{"$f":"+'2025 TAS (2024 Counts)'!F41","v":"2UC"},"D",null,0.35,null,1440,null,0,"Table 4, State Signalized Arterials, Class I, 2 Lanes, Undivided, LOS \"D\", -10% Non-State Signalized Roadway Adj."]
[26,null,"CR 16A (Lewis Spdwy)","Woodlawn Rd. to SR 5 (US 1)",{"$f":"+'2025 TAS (2024 Counts)'!E42","v":"UZ"},null,null,{"$f":"+'2025 TAS (2024 Counts)'!F42","v":"2UC"},"D",null,1.07,null,1440,null,0,"Table 4, State Signalized Arterials, Class I, 2 Lanes, Undivided, LOS \"D\", -10% Non-State Signalized Roadway Adj."]
[27,null,"CR 203 (Ponte Vedra Blvd)","SR A1A to CR 210 (Corona Rd)",{"$f":"+'2025 TAS (2024 Counts)'!E43","v":"UZ"},null,null,{"$f":"+'2025 TAS (2024 Counts)'!F43","v":"2UC"},"D",null,4.2699999999999996,null,1150,null,0,"Table 4, State Signalized Arterials, Class I, 2 Lanes, Undivided, LOS \"D\", -10% Non-State Signalized Roadway Adj; -20% for no left turn lanes"]
[28.1,null,"CR 203 (Ponte Vedra Blvd)","CR 210 (Corona Rd) to CR 210A (Solana Rd)",{"$f":"+'2025 TAS (2024 Counts)'!E44","v":"UZ"},null,null,{"$f":"+'2025 TAS (2024 Counts)'!F44","v":"2UC"},"D",null,0.65,null,1150,null,0,"Table 4, State Signalized Arterials, Class I, 2 Lanes, Undivided, LOS \"D\", -10% Non-State Signalized Roadway Adj; -20% for no left turn lanes"]
[28.2,null,"CR 203 (Ponte Vedra Blvd)","CR 210A (Solana Rd) to Duval Co. Line",{"$f":"+'2025 TAS (2024 Counts)'!E45","v":"UZ"},null,null,{"$f":"+'2025 TAS (2024 Counts)'!F45","v":"2UC"},"D",null,1.77,null,1150,null,0,"Table 4, State Signalized Arterials, Class I, 2 Lanes, Undivided, LOS \"D\", -10% Non-State Signalized Roadway Adj; -20% for no left turn lanes"]
[29,null,"CR 204","CR 13 to SR 5 (US 1)",{"$f":"+'2025 TAS (2024 Counts)'!E46","v":"RU"},null,null,{"$f":"+'2025 TAS (2024 Counts)'!F46","v":"2MaC"},"C",null,5.55,null,820,null,0,"Table 6, Rural Undeveloped Areas, Uninterrupted Flow Highways, 2 Lanes, Undivided, LOS \"C\""]
[30,null,"CR 208","CR 13 to Joe Ashton Rd.",{"$f":"+'2025 TAS (2024 Counts)'!E47","v":"TR"},null,null,{"$f":"+'2025 TAS (2024 Counts)'!F47","v":"2MaC"},"D",null,4.03,null,2110,null,0,"Table 5, Uninterrupted Flow Highway, 2 Lanes, Undivided, LOS \"D\"."]
[31,null,"CR 208","Joe Ashton Rd. to CR 13A",{"$f":"+'2025 TAS (2024 Counts)'!E48","v":"TR"},null,null,{"$f":"+'2025 TAS (2024 Counts)'!F48","v":"2MaC"},"D",null,2.37,null,2110,null,0,"Table 5, Uninterrupted Flow Highway, 2 Lanes, Undivided, LOS \"D\"."]
[32,null,"CR 208","CR 13A to SR 16",{"$f":"+'2025 TAS (2024 Counts)'!E49","v":"TR"},null,null,{"$f":"+'2025 TAS (2024 Counts)'!F49","v":"2MaC"},"D",null,4.91,null,2110,null,0,"Table 5, Uninterrupted Flow Highway, 2 Lanes, Undivided, LOS \"D\"."]
[33,null,"CR 210","CR 16A to Greenbriar Rd.",{"$f":"+'2025 TAS (2024 Counts)'!E50","v":"TR"},null,null,{"$f":"+'2025 TAS (2024 Counts)'!F50","v":"2MaC"},"D",null,3,null,1310,null,0,"Table 5, State Signalized Arterials, Class I, 2 Lanes, Undivided, LOS \"D\", -10% Non-State Signalized Roadway Adj."]
[34.1,287,"CR 210","Greenbriar Rd. to Cimarrone Blvd.",{"$f":"+'2025 TAS (2024 Counts)'!E51","v":"UZ"},null,null,{"$f":"+'2025 TAS (2024 Counts)'!F51","v":"4UC"},"D",null,2.64,null,3580,null,0,"Table 4, State Signalized Arterials, Class I, 4 Lanes, Undivided, LOS \"D\""]
[34.200000000000003,null,"CR 210","Cimarrone Blvd. to CR 2209",{"$f":"+'2025 TAS (2024 Counts)'!E52","v":"UZ"},null,null,{"$f":"+'2025 TAS (2024 Counts)'!F52","v":"4UC"},"D",null,0.85,null,3580,null,0,"Table 4 State Signalized Arterials, Class I, 4 Lanes, Divided, LOS \"D\""]
[34.299999999999997,null,"CR 210","CR 2209 to Leo Maguire Parkway",{"$f":"+'2025 TAS (2024 Counts)'!E53","v":"UZ"},null,null,{"$f":"+'2025 TAS (2024 Counts)'!F53","v":"4UC"},"D",null,1.1000000000000001,null,3580,4090,4090,"Table 4, State Signalized Arterials, Class I, 4 Lanes, Divided, LOS \"D\""]
[35,null,"CR 210","Leo Maguire Parkway to SR 9 (I-95)",{"$f":"+'2025 TAS (2024 Counts)'!E54","v":"UZ"},null,null,{"$f":"+'2025 TAS (2024 Counts)'!F54","v":"6UC"},"D",null,0.39,null,5390,null,0,"Table 4, State Signalized Arterials, Class I, 6 Lanes, Divided, LOS \"D\" "]
[36.1,288,"CR 210","SR 9 (I-95) to C.E. Wilson Road",{"$f":"+'2025 TAS (2024 Counts)'!E55","v":"UZ"},null,null,{"$f":"+'2025 TAS (2024 Counts)'!F55","v":"4UC"},"D",null,0.4,null,3220,3520,3520,"Table 4, State Signalized Arterials, Class I, 4 Lanes, Divided, LOS \"D\"; -10% Non-State Signalized Roadway Adj. "]
[36.200000000000003,null,"CR 210","C.E. Wilson Road to Twin Creeks Boundary",{"$f":"+'2025 TAS (2024 Counts)'!E56","v":"UZ"},null,null,{"$f":"+'2025 TAS (2024 Counts)'!F56","v":"6UC"},"D",null,1.98,null,5390,null,0,"Table 4, State Signalized Arterials, Class I, 6 Lanes, Undivided, LOS \"D\", -10% Non-State Signalized Roadway Adj."]
[36.299999999999997,null,"Alternate CR 210","SR 5 (US 1)  Overpass to SR 5 (US 1) N",{"$f":"+'2025 TAS (2024 Counts)'!E57","v":"UZ"},null,null,{"$f":"+'2025 TAS (2024 Counts)'!F57","v":"2MaC"},"D",null,0.95,null,1440,null,0,"Table 4, State Signalized Arterials, Class I, 2 Lanes, Undivided, LOS \"D\", -10% Non-State Signalized Roadway Adj."]
[36.4,null,"CR 210/US 1 Overpass","CR 210 W to Valley Ridge Blvd",{"$f":"+'2025 TAS (2024 Counts)'!E58","v":"UZ"},null,null,{"$f":"+'2025 TAS (2024 Counts)'!F58","v":"2MaC"},"D",null,0.93,null,1600,null,0,"Table 4, State Signalized Arterials, Class I, 2 Lanes, Undivided, LOS \"D\", "]
[37,285,"Palm Valley Road","CR 210 (Valley Ridge Blvd.) to Preservation Trail",{"$f":"+'2025 TAS (2024 Counts)'!E59","v":"UZ"},null,null,{"$f":"+'2025 TAS (2024 Counts)'!F59","v":"2MaC"},"D",null,1.86,null,1440,null,0,"Table 4, State Signalized Arterials, Class I, 2 Lanes, Undivided, LOS \"D\", -10% Non-State Signalized Roadway Adj."]
[38,null,"CR 210 (Palm Valley Rd)","CR 210A (Roscoe Blvd) to Mickler Rd.",{"$f":"+'2025 TAS (2024 Counts)'!E60","v":"UZ"},null,null,{"$f":"+'2025 TAS (2024 Counts)'!F60","v":"2UC"},"D",null,1.36,null,1440,1920,1920,"Table 4, State Signalized Arterials, Class I, 2 Lanes, Undivided, LOS \"D\", -10% Non-State Signalized Roadway Adj."]
[39,null,"CR 210 (Palm Valley Rd)","Mickler Rd. to Canal Blvd.",{"$f":"+'2025 TAS (2024 Counts)'!E61","v":"UZ"},null,null,{"$f":"+'2025 TAS (2024 Counts)'!F61","v":"2UC"},"D",null,1.98,null,1440,1660,1660,"Table 4, State Signalized Arterials, Class I, 2 Lanes, Undivided, LOS \"D\", -10% Non-State Signalized Roadway Adj."]
[40,289,"CR 210 (Palm Valley Rd)","Canal Blvd. to SR A1A",{"$f":"+'2025 TAS (2024 Counts)'!E62","v":"UZ"},null,null,{"$f":"+'2025 TAS (2024 Counts)'!F62","v":"2UC"},"D",null,1.43,null,1440,null,0,"Table 4, State Signalized Arterials, Class I, 2 Lanes, Undivided, LOS \"D\", -10% Non-State Signalized Roadway Adj."]
[41,null,"CR 210 (Corona Rd)","SR A1A to CR 203 (Ponte Vedra Blvd)",{"$f":"+'2025 TAS (2024 Counts)'!E63","v":"UZ"},null,null,{"$f":"+'2025 TAS (2024 Counts)'!F63","v":"2UC"},"D",null,0.59,null,1150,null,0,"Table 4, State Signalized Arterials, Class I, 2 Lanes, Undivided, LOS \"D\", -10% Non-State Signalized Roadway Adj; -20% for no left turn lanes"]
[42,null,"CR 210A (Roscoe Blvd)","CR 210 (Palm Valley Rd) to Canal Blvd.",{"$f":"+'2025 TAS (2024 Counts)'!E64","v":"UZ"},null,null,{"$f":"+'2025 TAS (2024 Counts)'!F64","v":"2UC"},"D",null,3.26,null,1150,null,0,"Table 4, State Signalized Arterials, Class I, 2 Lanes, Undivided, LOS \"D\", -10% Non-State Signalized Roadway Adj; -20% for no left turn lanes"]
[43.1,null,"CR 210A (Roscoe Blvd)","Canal Blvd. to TPC Blvd.",{"$f":"+'2025 TAS (2024 Counts)'!E65","v":"UZ"},null,null,{"$f":"+'2025 TAS (2024 Counts)'!F65","v":"2UC"},"D",null,3.09,null,1150,null,0,"Table 4, State Signalized Arterials, Class I, 2 Lanes, Undivided, LOS \"D\", -10% Non-State Signalized Roadway Adj; -20% for no left turn lanes"]
[43.2,null,"CR 210A (Solana Rd)","TPC Blvd. to SR A1A",{"$f":"+'2025 TAS (2024 Counts)'!E66","v":"UZ"},null,null,{"$f":"+'2025 TAS (2024 Counts)'!F66","v":"2UC"},"D",null,1.41,null,1440,1690,1690,"Table 4, State Signalized Arterials, Class I, 2 Lanes, Undivided, LOS \"D\", -10% Non-State Signalized Roadway Adj."]
[43.3,null,"CR 210A (Solana Rd)","SR A1A to CR 203 (Ponte Vedra Blvd)",{"$f":"+'2025 TAS (2024 Counts)'!E67","v":"UZ"},null,null,{"$f":"+'2025 TAS (2024 Counts)'!F67","v":"2UC"},"D",null,0.65,null,960,null,0,"Table 4, State Signalized Arterials, Class II, 2 Lanes, Undivided, LOS \"D\", -10% Non-State Signalized Roadway Adj.; -20% for no left turn lanes"]
[44,null,"CR 214","CR 13 to CR 13A",{"$f":"+'2025 TAS (2024 Counts)'!E68","v":"RU"},null,null,{"$f":"+'2025 TAS (2024 Counts)'!F68","v":"2MaC"},"C",null,3.68,null,820,null,0,"Table 6, Rural Undeveloped Areas, Uninterrupted Flow Highways, 2 Lanes, Undivided, LOS \"C\""]
[45,null,"CR 214","CR 13A to Allen Nease Rd.",{"$f":"+'2025 TAS (2024 Counts)'!E69","v":"TR"},null,null,{"$f":"+'2025 TAS (2024 Counts)'!F69","v":"2MaC"},"D",null,5.21,null,2110,null,0,"Table 5, Uninterrupted Flow Highway, 2 Lanes, Undivided, LOS \"D\"."]
[46,null,"CR 214","Allen Nease Rd. to Holmes Blvd.",{"$f":"+'2025 TAS (2024 Counts)'!E70","v":"TR"},null,null,{"$f":"+'2025 TAS (2024 Counts)'!F70","v":"2MaC"},"D",null,4.28,null,1310,null,0,"Table 5, State Signalized Arterials, Class I, 2 Lanes, Undivided, LOS \"D\", -10% Non-State Signalized Roadway Adj."]
[47,null,"CR 214 (W. King St)","Holmes Blvd. to Volusia St.",{"$f":"+'2025 TAS (2024 Counts)'!E71","v":"UZ"},null,null,{"$f":"+'2025 TAS (2024 Counts)'!F71","v":"2UC"},"E",null,0.64,null,1440,null,0,"Table 4, State Signalized Arterials, Class I, 2 Lanes, Undivided, LOS \"D\", -10% Non-State Signalized Roadway Adj."]
[48,241,"CR 214 (W. King St)","Volusia St. to Palmer St.",{"$f":"+'2025 TAS (2024 Counts)'!E72","v":"UZ"},null,null,{"$f":"+'2025 TAS (2024 Counts)'!F72","v":"2UC"},"E",null,0.94,null,1440,null,0,"Table 4, State Signalized Arterials, Class I, 2 Lanes, Undivided, LOS \"D\", -10% Non-State Signalized Roadway Adj."]
[49,null,"CR 214 (W. King St)","Palmer St. to SR 5 (US 1)",{"$f":"+'2025 TAS (2024 Counts)'!E73","v":"UZ"},null,null,{"$f":"+'2025 TAS (2024 Counts)'!F73","v":"2UC"},"E",null,0.26,null,1270,null,0,"Table 4, State Signalized Arterials, Class II, 2 Lanes, Undivided, LOS \"D\", -10% Non-State Signalized Roadway Adj."]
[51,null,"CR 305","SR 206 to SR 207",{"$f":"+'2025 TAS (2024 Counts)'!E74","v":"TR"},null,null,{"$f":"+'2025 TAS (2024 Counts)'!F74","v":"2MaC"},"D",null,3.96,null,2110,null,0,"Table 5, Uninterrupted Flow Highway, 2 Lanes, Undivided, LOS \"D\"."]
[52,null,"CR 305","CR 13 to SR 207",{"$f":"+'2025 TAS (2024 Counts)'!E75","v":"RU"},null,null,{"$f":"+'2025 TAS (2024 Counts)'!F75","v":"2MaC"},"C",null,4.9800000000000004,null,820,null,0,"Table 6, Rural Undeveloped Areas, Uninterrupted Flow Highways, 2 Lanes, Undivided, LOS \"C\""]
[53,null,"CR 5A (Old Moultrie Rd)","SR 5 (US 1) to Kings Estate Rd.",{"$f":"+'2025 TAS (2024 Counts)'!E76","v":"UZ"},null,null,{"$f":"+'2025 TAS (2024 Counts)'!F76","v":"2UC"},"D",null,1.31,null,1440,null,0,"Table 4, State Signalized Arterials, Class I, 2 Lanes, Undivided, LOS \"D\", -10% Non-State Signalized Roadway Adj."]
[54.1,null,"CR 5A (Old Moultrie Rd)","Kings Estate Road to Lewis Point Road",{"$f":"+'2025 TAS (2024 Counts)'!E77","v":"UZ"},null,null,{"$f":"+'2025 TAS (2024 Counts)'!F77","v":"2UC"},"D",null,0.37,null,1440,null,0,"Table 4, State Signalized Arterials, Class I, 2 Lanes, Undivided, LOS \"D\", -10% Non-State Signalized Roadway Adj."]
[54.2,null,"CR 5A (Old Moultrie Rd)","Lewis Point Road to Southpark Blvd.",{"$f":"+'2025 TAS (2024 Counts)'!E78","v":"UZ"},null,null,{"$f":"+'2025 TAS (2024 Counts)'!F78","v":"2UC"},"D",null,0.77,null,1440,null,0,"Table 4, State Signalized Arterials, Class I, 2 Lanes, Undivided, LOS \"D\", -10% Non-State Signalized Roadway Adj."]
[54.3,null,"CR 5A (Old Moultrie Rd)","Southpark Blvd. to SR 312",{"$f":"+'2025 TAS (2024 Counts)'!E79","v":"UZ"},null,null,{"$f":"+'2025 TAS (2024 Counts)'!F79","v":"2UC"},"D",null,0.37,null,1440,null,0,"Table 4, State Signalized Arterials, Class I, 2 Lanes, Undivided, LOS \"D\", -10% Non-State Signalized Roadway Adj."]
[55,null,"CR 5A (Old Moultrie Rd)","SR 312 to SR 207",{"$f":"+'2025 TAS (2024 Counts)'!E80","v":"UZ"},null,null,{"$f":"+'2025 TAS (2024 Counts)'!F80","v":"2UC"},"D",null,0.95,null,1440,null,0,"Table 4, State Signalized Arterials, Class I, 2 Lanes, Undivided, LOS \"D\", -10% Non-State Signalized Roadway Adj."]
[56,280,"A1A Beach Blvd.","SR A1A (S) to 11th Street",{"$f":"+'2025 TAS (2024 Counts)'!E81","v":"UZ"},null,null,{"$f":"+'2025 TAS (2024 Counts)'!F81","v":"2UC"},"D",null,1.87,null,1440,null,0,"Table 4, State Signalized Arterials, Class I, 2 Lanes, Undivided, LOS \"D\", -10% Non-State Signalized Roadway Adj."]
[57,null,"A1A Beach Blvd.","11th Street to SR 312 ",{"$f":"+'2025 TAS (2024 Counts)'!E82","v":"UZ"},null,null,{"$f":"+'2025 TAS (2024 Counts)'!F82","v":"2UC"},"D",null,1.26,null,1440,null,{"$f":"IF(N75=\" \",M75,N75)","v":0},"Table 4, State Signalized Arterials, Class I, 2 Lanes, Undivided, LOS \"D\", -10% Non-State Signalized Roadway Adj."]
[58,null,"Cracker Swamp Rd.","Putnam Co. Line to CR 13",{"$f":"+'2025 TAS (2024 Counts)'!E83","v":"RU"},null,null,{"$f":"+'2025 TAS (2024 Counts)'!F83","v":"2MiC"},"C",null,4.1900000000000004,null,820,null,0,"Table 6, Rural Undeveloped Areas, Uninterrupted Flow Highways, 2 Lanes, Undivided, LOS \"C\""]
[59,null,"Kings Estate Rd./Hilltop Rd.","SR 207 to CR 5A",{"$f":"+'2025 TAS (2024 Counts)'!E84","v":"UZ"},null,null,{"$f":"+'2025 TAS (2024 Counts)'!F84","v":"2UC"},"D",null,0.42,null,1440,null,0,"Table 4, State Signalized Arterials, Class I, 2 Lanes, Undivided, LOS \"D\", -10% Non-State Signalized Roadway Adj;"]
[59,null,"Kings Estate Rd./Hilltop Rd.","SR 207 to CR 5A",{"$f":"+'2025 TAS (2024 Counts)'!E85","v":"UZ"},null,null,{"$f":"+'2025 TAS (2024 Counts)'!F85","v":"2UC"},"D",null,1.68,null,1150,null,0,"Table 4, State Signalized Arterials, Class I, 2 Lanes, Undivided, LOS \"D\", -10% Non-State Signalized Roadway Adj; -20% for no left turn lanes"]
[60,null,"Faver Dykes Rd.","SR 5 (US 1) to State Park Entr.",{"$f":"+'2025 TAS (2024 Counts)'!E86","v":"RU"},null,null,{"$f":"+'2025 TAS (2024 Counts)'!F86","v":"2MiC"},"C",null,1.57,null,820,null,0,"Table 6, Rural Undeveloped Areas, Uninterrupted Flow Highways, 2 Lanes, Undivided, LOS \"C\""]
[61,null,"Federal Point Rd.","Putnam Co. Line to Hastings City Limits (W)",{"$f":"+'2025 TAS (2024 Counts)'!E87","v":"RU"},null,null,{"$f":"+'2025 TAS (2024 Counts)'!F87","v":"2MiC"},"C",null,1.1299999999999999,null,820,null,0,"Table 6, Rural Undeveloped Areas, Uninterrupted Flow Highways, 2 Lanes, Undivided, LOS \"C\""]
[62.1,null,"Four Mile Rd./Volusia St.","CR 214 to Holmes Blvd.",{"$f":"+'2025 TAS (2024 Counts)'!E88","v":"UZ"},null,null,{"$f":"+'2025 TAS (2024 Counts)'!F88","v":"2UC"},"D",null,0.95,null,1440,null,0,"Table 4, State Signalized Arterials, Class I, 2 Lanes, Undivided, LOS \"D\", -10% Non-State Signalized Roadway Adj."]
[62.2,null,"Four Mile Rd.","Holmes Blvd. to SR 16",{"$f":"+'2025 TAS (2024 Counts)'!E89","v":"UZ"},null,null,{"$f":"+'2025 TAS (2024 Counts)'!F89","v":"2UC"},"D",null,0.85,null,1150,null,0,"Table 4, State Signalized Arterials, Class I, 2 Lanes, Undivided, LOS \"D\", -10% Non-State Signalized Roadway Adj; -20% for no left turn lanes"]
[63,null,"George Miller Rd.","CR 13 to CR 13",{"$f":"+'2025 TAS (2024 Counts)'!E90","v":"RU"},null,null,{"$f":"+'2025 TAS (2024 Counts)'!F90","v":"2MiC"},"C",null,2.73,null,820,null,0,"Table 6, Rural Undeveloped Areas, Uninterrupted Flow Highways, 2 Lanes, Undivided, LOS \"C\""]
[64.099999999999994,null,"Greenbriar Rd.","SR 13 to Brambly Vine Dr.",{"$f":"+'2025 TAS (2024 Counts)'!E91","v":"UZ"},null,null,{"$f":"+'2025 TAS (2024 Counts)'!F91","v":"2UC"},"D",null,2,null,1440,null,0,"Table 4, State Signalized Arterials, Class I, 2 Lanes, Undivided, LOS \"D\", -10% Non-State Signalized Roadway Adj."]
[64.2,null,"Greenbriar Rd.","Brambly Vine Dr. to Longleaf Pine Pkwy",{"$f":"+'2025 TAS (2024 Counts)'!E92","v":"UZ"},null,null,{"$f":"+'2025 TAS (2024 Counts)'!F92","v":"4UC"},"D",null,1.0900000000000001,null,3220,null,{"$f":"IF(N85=\" \",M85,N85)","v":0},"Table 4, State Signalized Arterials, Class I, 4 Lanes, Undivided, LOS \"D\", -10% Non-State Signalized Roadway Adj."]
[65,null,"Greenbriar Rd.","Longleaf Pine Pkwy to CR 210",{"$f":"+'2025 TAS (2024 Counts)'!E93","v":"UZ"},null,null,{"$f":"+'2025 TAS (2024 Counts)'!F93","v":"2UC"},"D",null,2.25,null,1440,null,0,"Table 4, State Signalized Arterials, Class I, 2 Lanes, Undivided, LOS \"D\", -10% Non-State Signalized Roadway Adj."]
[66,null,"Hastings Blvd.","Cracker Swamp Rd. to CR 13",{"$f":"+'2025 TAS (2024 Counts)'!E94","v":"RU"},null,null,{"$f":"+'2025 TAS (2024 Counts)'!F94","v":"2MiC"},"C",null,2.5299999999999998,null,820,null,0,"Table 6, Rural Undeveloped Areas, Uninterrupted Flow Highways, 2 Lanes, Undivided, LOS \"C\""]
[67.11,null,"Holmes Blvd.","SR 207 to CR 214",{"$f":"+'2025 TAS (2024 Counts)'!E95","v":"UZ"},null,null,{"$f":"+'2025 TAS (2024 Counts)'!F95","v":"2UC"},"D",null,1.75,null,1440,2250,{"$f":"IF(N88=\" \",M88,N88)","v":2250},"Table 4, State Signalized Arterials, Class I, 2 Lanes, Undivided, LOS \"D\", -10% Non-State Signalized Roadway Adj."]
[67.12,null,"Holmes Blvd.","SR 207 to CR 214",{"$f":"+'2025 TAS (2024 Counts)'!E96","v":"UZ"},null,null,{"$f":"+'2025 TAS (2024 Counts)'!F96","v":"2UC"},"D",null,1.75,null,1440,2250,2250,"Table 4, State Signalized Arterials, Class I, 2 Lanes, Undivided, LOS \"D\", -10% Non-State Signalized Roadway Adj."]
[67.2,null,"Holmes Blvd.","CR 214 to Four Mile Rd.",{"$f":"+'2025 TAS (2024 Counts)'!E97","v":"UZ"},null,null,{"$f":"+'2025 TAS (2024 Counts)'!F97","v":"2UC"},"D",null,1.61,null,1440,2110,2110,"Table 4, State Signalized Arterials, Class I, 2 Lanes, Undivided, LOS \"D\", -10% Non-State Signalized Roadway Adj."]
[67.3,null,"Kenton Morrison Rd.","Four Mile Rd. to SR 16",{"$f":"+'2025 TAS (2024 Counts)'!E98","v":"UZ"},null,null,{"$f":"+'2025 TAS (2024 Counts)'!F98","v":"2UC"},"D",null,0.47,null,1440,null,0,"Table 4, State Signalized Arterials, Class I, 2 Lanes, Undivided, LOS \"D\", -10% Non-State Signalized Roadway Adj."]
[68,null,"Joe Ashton Rd.","CR 208 to CR 13",{"$f":"+'2025 TAS (2024 Counts)'!E99","v":"TR"},null,null,{"$f":"+'2025 TAS (2024 Counts)'!F99","v":"2MiC"},"D",null,3.2,null,1310,null,0,"Table 5, State Signalized Arterials, Class I, 2 Lanes, Undivided, LOS \"D\", -10% Non-State Signalized Roadway Adj."]
[69,null,"Leo Maguire Parkway","CR 16A to CR 210",{"$f":"+'2025 TAS (2024 Counts)'!E100","v":"UZ"},null,null,{"$f":"+'2025 TAS (2024 Counts)'!F100","v":"2MiC"},"D",null,5.1100000000000003,null,1440,null,0,"Table 4, State Signalized Arterials, Class I, 2 Lanes, Undivided, LOS \"D\", -10% Non-State Signalized Roadway Adj."]
[71,null,"Masters Dr./Palmer St.","CR 214 to SR 16",{"$f":"+'2025 TAS (2024 Counts)'!E101","v":"UZ"},null,null,{"$f":"+'2025 TAS (2024 Counts)'!F101","v":"2UC"},"D",null,1.75,null,1150,null,0,"Table 4, State Signalized Arterials, Class I, 2 Lanes, Undivided, LOS \"D\", -10% Non-State Signalized Roadway Adj., -20% for no left turn lanes"]
[72,null,"Mickler Rd.","CR 210 to SR A1A",{"$f":"+'2025 TAS (2024 Counts)'!E102","v":"UZ"},null,null,{"$f":"+'2025 TAS (2024 Counts)'!F102","v":"2UC"},"D",null,1.38,null,1440,null,0,"Table 4, State Signalized Arterials, Class I, 2 Lanes, Undivided, LOS \"D\", -10% Non-State Signalized Roadway Adj."]
[73.099999999999994,295,"International Golf Pkwy.","SR 16 to Royal Pines Parkway",{"$f":"+'2025 TAS (2024 Counts)'!E103","v":"UZ"},null,null,{"$f":"+'2025 TAS (2024 Counts)'!F103","v":"4UC"},"D",null,1.5,null,3580,null,0,"Table 4, State Signalized Arterials, Class I, 4 Lanes, Divided, LOS \"D\""]
[73.2,null,"International Golf Pkwy.","Royal Pines Parkway to SR 9 (I-95)",{"$f":"+'2025 TAS (2024 Counts)'!E104","v":"UZ"},null,null,{"$f":"+'2025 TAS (2024 Counts)'!F104","v":"4UC"},"D",null,0.9,null,3580,null,0,"Table 4, State Signalized Arterials, Class I, 4 Lanes, Divided, LOS \"D\""]
[74.099999999999994,293,"International Golf Pkwy.","SR 9 (I-95) to Francis Road",{"$f":"+'2025 TAS (2024 Counts)'!E105","v":"UZ"},"UZ",null,{"$f":"+'2025 TAS (2024 Counts)'!F105","v":"4MaC"},"D",null,0.7,null,3580,null,0,"Table 4, State Signalized Arterials, Class I, 4 Lanes, Divided, LOS \"D\""]
[74.2,null,"International Golf Pkwy.","Francis Road to St. Marks Pond Blvd.",{"$f":"+'2025 TAS (2024 Counts)'!E106","v":"TR"},null,null,{"$f":"+'2025 TAS (2024 Counts)'!F106","v":"2MaC"},"D",null,3.23,null,2110,null,0,"Table 5, Uninterrupted Flow Highway, 2 Lanes, Undivided, LOS \"D\""]
[74.3,null,"International Golf Pkwy.","St. Marks Pond Blvd. To SR 5 (US 1)",{"$f":"+'2025 TAS (2024 Counts)'!E107","v":"TR"},null,null,{"$f":"+'2025 TAS (2024 Counts)'!F107","v":"2MaC"},"D",null,0.81,null,1460,null,0,"Table 5, State Signalized Arterials, Class I, 2 Lanes, Undivided, LOS \"D\""]
[75,null,"Pope Rd.","SR A1A to A1A Beach Blvd.",{"$f":"+'2025 TAS (2024 Counts)'!E108","v":"UZ"},null,null,{"$f":"+'2025 TAS (2024 Counts)'!F108","v":"2UC"},"C",null,0.86,null,1150,null,0,"Table 4, State Signalized Arterials, Class I, 2 Lanes, Undivided, LOS \"D\", -10% Non-State Signalized Roadway Adj; -20% for no left turn lanes"]
[76,null,"Race Track Rd.","SR 13 to Bishop Estates Rd.",{"$f":"+'2025 TAS (2024 Counts)'!E109","v":"UZ"},null,null,{"$f":"+'2025 TAS (2024 Counts)'!F109","v":"4UC"},"D",null,3.07,null,3580,3770,3770,"Table 4, State Signalized Arterials, Class I, 4 Lanes, Divided, LOS \"D\""]
[77.099999999999994,null,"Race Track Rd.","Bishop Estates Rd. to Veterans Pkwy",{"$f":"+'2025 TAS (2024 Counts)'!E110","v":"UZ"},null,null,{"$f":"+'2025 TAS (2024 Counts)'!F110","v":"4UC"},"D",null,1.02,null,3580,null,0,"Table 4, State Signalized Arterials, Class I, 4 Lanes, Divided, LOS \"D\""]
[77.2,null,"Race Track Rd.","Veterans Pkwy to St. Johns Pkwy",{"$f":"+'2025 TAS (2024 Counts)'!E111","v":"UZ"},null,null,{"$f":"+'2025 TAS (2024 Counts)'!F111","v":"4UC"},"D",null,1.23,null,3580,null,0,"Table 4, State Signalized Arterials, Class I, 4 Lanes, Divided, LOS \"D\""]
[77.3,297,"Race Track Rd.","St. Johns Pkwy to West Peyton Pkwy",{"$f":"+'2025 TAS (2024 Counts)'!E112","v":"UZ"},null,null,{"$f":"+'2025 TAS (2024 Counts)'!F112","v":"4UC"},"D",null,1.05,null,3580,null,0,"Table 4, State Signalized Arterials, Class I, 4 Lanes, Divided, LOS \"D\""]
[77.400000000000006,297,"Race Track Rd.","West Peyton Pkwy to Bartram Park Blvd",{"$f":"+'2025 TAS (2024 Counts)'!E113","v":"UZ"},null,null,{"$f":"+'2025 TAS (2024 Counts)'!F113","v":"6UC"},"D",null,0.39,null,5390,null,{"$f":"IF(N106=\" \",M106,N106)","v":0},"Table 4, State Signalized Arterials, Class I, 6 Lanes, Divided, LOS \"D\""]
[78.11,null,"Race Track Rd.","Bartram Park Blvd to East Peyton Pkwy",{"$f":"+'2025 TAS (2024 Counts)'!E114","v":"UZ"},null,null,{"$f":"+'2025 TAS (2024 Counts)'!F114","v":"4UC"},"D",null,null,null,3580,null,0,"Table 4, State Signalized Arterials, Class I, 4 Lanes, Divided, LOS \"D\"; FUNDED BY DUVAL COUNTY"]
[78.12,null,"Race Track Rd.","East Peyton Pkwy to Bartram Springs ",{"$f":"+'2025 TAS (2024 Counts)'!E115","v":"UZ"},null,null,{"$f":"+'2025 TAS (2024 Counts)'!F115","v":"4UC"},"D",null,null,null,3580,null,0,"Table 4, State Signalized Arterials, Class I, 4 Lanes, Divided, LOS \"D\"; FUNDED BY FDOT"]
[78.2,null,"Race Track Rd.","Bartram Springs to SR 5 (US 1)",{"$f":"+'2025 TAS (2024 Counts)'!E116","v":"UZ"},null,null,{"$f":"+'2025 TAS (2024 Counts)'!F116","v":"4UC"},"D",null,0.97,null,3580,null,0,"Table 4, State Signalized Arterials, Class I, 4 Lanes, Divided, LOS \"D\""]
[79,null,"Roberts Rd.","SR 13 to Greenbriar Rd.",{"$f":"+'2025 TAS (2024 Counts)'!E117","v":"UZ"},null,null,{"$f":"+'2025 TAS (2024 Counts)'!F117","v":"2UC"},"D",null,2.69,null,1440,null,0,"Table 4, State Signalized Arterials, Class I, 2 Lanes, Undivided, LOS \"D\", -10% Non-State Signalized Roadway Adj."]
[80,null,"Russell Sampson Rd.","CR 210 to CR 244",{"$f":"+'2025 TAS (2024 Counts)'!E118","v":"UZ"},null,null,{"$f":"+'2025 TAS (2024 Counts)'!F118","v":"2UC"},"D",null,2.2999999999999998,null,1440,null,0,"Table 4, State Signalized Arterials, Class I, 2 Lanes, Undivided, LOS \"D\", -10% Non-State Signalized Roadway Adj."]
[81,262,"SR 13/SR 16","SR 16 (East) to SR 16 (West)",{"$f":"+'2025 TAS (2024 Counts)'!E119","v":"TR"},null,"C2",{"$f":"+'2025 TAS (2024 Counts)'!F119","v":"2MA"},"D",null,3.9980000000000002,2110,1330,null,0,"Arterial C2 - Rural, 2 Lanes, LOS \"D'"]
[82,105,"SR 13","SR 16 (West) to CR 16A",{"$f":"+'2025 TAS (2024 Counts)'!E120","v":"TR"},null,"C2",{"$f":"+'2025 TAS (2024 Counts)'!F120","v":"2MA"},"D","C",1.3580000000000001,1600,1330,null,0,"Arterial C2 - Rural, 2 Lanes, LOS \"D\""]
[83,4,"SR 13","CR 16A to Greenbriar Rd.",{"$f":"+'2025 TAS (2024 Counts)'!E121","v":"TR"},null,"C3R",{"$f":"+'2025 TAS (2024 Counts)'!F121","v":"2MA"},"D",null,6.1429999999999998,1460,2020,null,0,"Arterial C3R - SuburbanResidential), 2 Lanes, LOS \"D\""]
[84,290,"SR 13","Greenbriar Rd. to Roberts Rd.",{"$f":"+'2025 TAS (2024 Counts)'!E122","v":"UZ"},null,"C3R",{"$f":"+'2025 TAS (2024 Counts)'!F122","v":"2MA"},"D",null,2.7749999999999999,1600,2020,null,0,"Arterial C3R - SuburbanResidential), 2 Lanes, LOS \"D\""]
[85,24,"SR 13","Roberts Rd. to CR 13B (Fruit Cove Rd S.)",{"$f":"+'2025 TAS (2024 Counts)'!E123","v":"UZ"},null,"C3R",{"$f":"+'2025 TAS (2024 Counts)'!F123","v":"4MA"},"D",null,0.86,3580,3360,null,0,"Arterial C3R - SuburbanResidential), 4 Lanes, LOS \"D\""]
[86,24,"SR 13","CR 13B (Fruit Cove Rd S.) to Race Track Rd.",{"$f":"+'2025 TAS (2024 Counts)'!E124","v":"UZ"},null,"C3C",{"$f":"+'2025 TAS (2024 Counts)'!F124","v":"4MA"},"D",null,1.17,3580,3290,null,0,"Arterial C3C - Suburban Commercial), 4 Lanes, LOS \"D\""]
[88,584,"SR 13","Race Track Rd. to Duval Co. Line",{"$f":"+'2025 TAS (2024 Counts)'!E125","v":"UZ"},null,"C3C",{"$f":"+'2025 TAS (2024 Counts)'!F125","v":"4MA"},"D",null,0.71,3580,3290,null,0,"Arterial C3C - Suburban Commercial), 4 Lanes, LOS \"D\""]
[89,15,"SR 16","Clay Co. Line to SR 13",{"$f":"+'2025 TAS (2024 Counts)'!E126","v":"TR"},null,"C2",{"$f":"+'2025 TAS (2024 Counts)'!F126","v":"2MA"},"D",null,1.85,3580,1330,null,0,"Arterial C2 - Rural), 2 Lanes, LOS \"D\""]
[90,235,"SR 16","SR 13 to CR 16A",{"$f":"+'2025 TAS (2024 Counts)'!E127","v":"UZ"},null,"C3R",{"$f":"+'2025 TAS (2024 Counts)'!F127","v":"2MA"},"D",null,1.66,1600,2020,null,0,"Arterial C3R - SuburbanResidential), 2 Lanes, LOS \"D\""]
[91.1,"43/235","SR 16","CR 16A to International Golf Pkwy.",{"$f":"+'2025 TAS (2024 Counts)'!E128","v":"UZ"},null,"C3R",{"$f":"+'2025 TAS (2024 Counts)'!F128","v":"4MA"},"D",null,1.514,3580,3360,null,0,"Arterial C3R - SuburbanResidential), 4 Lanes, LOS \"D\""]
[91.2,"42/43","SR 16","International Golf Pkwy to Verona Way",{"$f":"+'2025 TAS (2024 Counts)'!E129","v":"UZ"},null,"C3C",{"$f":"+'2025 TAS (2024 Counts)'!F129","v":"4MA"},"D",null,0.45200000000000001,1600,3290,null,0,"Arterial C3C - Suburban Commercial), 4 Lanes, LOS \"D\""]
[91.21,null,"SR 16","Verona Way to San Giacomo Rd",{"$f":"+'2025 TAS (2024 Counts)'!E129","v":"UZ"},null,"C3R","4MA","D",null,0.27,1600,2020,null,0,"Arterial C3R - SuburbanResidential), 2 Lanes, LOS \"D\"; Used C2 for consistency; did no split link"]
[92.11,43,"SR 16","San Giacomo to S. Francis Rd",{"$f":"+'2025 TAS (2024 Counts)'!E130","v":"UZ"},"UZ","C2",{"$f":"+'2025 TAS (2024 Counts)'!F130","v":"2MA"},"D","C",1.1000000000000001,2110,1330,null,0,"Arterial C2 - Rural, 2 Lanes, LOS \"D\""]
[92.12,43,"SR 16","S Francis Rd to Turning Point Academy Ent",{"$f":"+'2025 TAS (2024 Counts)'!E131","v":"TR"},null,"C2","2MA","D","C",2.1840000000000002,2110,1330,null,{"$f":"IF(N125=\" \",M125,N125)","v":0},"Arterial C2 - Rural, 2 Lanes, LOS \"D\""]
[92.13,43,"SR 16","Turning Point Academy Ent to Whisper Ridge Dr",{"$f":"+'2025 TAS (2024 Counts)'!E131","v":"TR"},null,"C3R",{"$f":"+'2025 TAS (2024 Counts)'!F131","v":"2MA"},"D","C",0.59,2110,2020,null,{"$f":"IF(N126=\" \",M126,N126)","v":0},"Arterial C3R - SuburbanResidential), 2 Lanes, LOS \"D\""]
[92.14,null,"SR 16","Whisper Ridge Dr to West Mall Entrance",{"$f":"+'2025 TAS (2024 Counts)'!E131","v":"TR"},null,"C3C","2MA","D","C",0.67,2110,1950,null,{"$f":"IF(N127=\" \",M127,N127)","v":0},"Arterial C3C - Suburban Commercial), 2 Lanes, LOS \"D\""]
[92.2,42,"SR 16","West Mall Entrance to I-95",{"$f":"+'2025 TAS (2024 Counts)'!E132","v":"TR"},null,"C3C",{"$f":"+'2025 TAS (2024 Counts)'!F132","v":"4MA"},"D","C",0.85,3200,3290,null,0,"Arterial C3C - Suburban Commercial), 4 Lanes, LOS \"D\""]
[93.1,6,"SR 16","SR 9 (I-95) to Inman Rd.",{"$f":"+'2025 TAS (2024 Counts)'!E133","v":"UZ"},"UZ","C3C",{"$f":"+'2025 TAS (2024 Counts)'!F133","v":"4MA"},"D","C",0.34,3200,3290,null,0,"Arterial C3C - Suburban Commercial), 4 Lanes, LOS \"D\""]
[93.2,6,"SR 16","Inman Rd. to Four Mile Rd.",{"$f":"+'2025 TAS (2024 Counts)'!E134","v":"UZ"},"UZ","C3C",{"$f":"+'2025 TAS (2024 Counts)'!F134","v":"4MA"},"D","C",2,5670,3290,null,0,"Arterial C3C - Suburban Commercial), 4 Lanes, LOS \"D\""]
[94,6,"SR 16","Four Mile Rd. to Woodlawn Rd.",{"$f":"+'2025 TAS (2024 Counts)'!E135","v":"UZ"},null,"C3C",{"$f":"+'2025 TAS (2024 Counts)'!F135","v":"4MA"},"D",null,0.77,3580,3290,null,0,"Arterial C3C - Suburban Commercial), 4 Lanes, LOS \"D\""]
[95,104,"SR 16","Woodlawn Rd. to Masters Dr.",{"$f":"+'2025 TAS (2024 Counts)'!E136","v":"UZ"},null,"C3C",{"$f":"+'2025 TAS (2024 Counts)'!F136","v":"4MA"},"D",null,1.61,3580,3290,null,0,"Arterial C3C - Suburban Commercial), 4 Lanes, LOS \"D\""]
[96,"104/187","SR 16","Masters Dr. to Lewis Spdwy. (CR 16A)",{"$f":"+'2025 TAS (2024 Counts)'!E137","v":"UZ"},null,"C4",{"$f":"+'2025 TAS (2024 Counts)'!F137","v":"4MA"},"D",null,0.19,3580,3250,null,0,"Arterial C4 - Urban General), 4 Lanes, LOS \"D\""]
[97,187,"SR 16","Lewis Spdwy. (CR 16A) to St. Aug. Limits (W)",{"$f":"+'2025 TAS (2024 Counts)'!E138","v":"UZ"},null,"C4",{"$f":"+'2025 TAS (2024 Counts)'!F138","v":"4MA"},"D",null,0.1,3580,3250,null,0,"Arterial C4 - Urban General), 4 Lanes, LOS \"D\""]
[99,75,"SR 206","SR 207 to CR 305",{"$f":"+'2025 TAS (2024 Counts)'!E139","v":"RD"},"TR","C2",{"$f":"+'2025 TAS (2024 Counts)'!F139","v":"2MA"},"C",null,3.452,1220,780,null,0,"Arterial C2 - Rural), 2 Lanes, LOS \"C\""]
[100,75,"SR 206","CR 305 to SR 9 (I-95)",{"$f":"+'2025 TAS (2024 Counts)'!E140","v":"TR"},null,"C2",{"$f":"+'2025 TAS (2024 Counts)'!F140","v":"2MA"},"D","C",4.99,1460,1330,null,0,"Arterial C2 - Rural, 2 Lanes, LOS \"D\""]
[101,76,"SR 206","SR 9 (I-95) to SR 5 (US 1)",{"$f":"+'2025 TAS (2024 Counts)'!E141","v":"TR"},null,"C2",{"$f":"+'2025 TAS (2024 Counts)'!F141","v":"2MA"},"D","C",2.1789999999999998,1460,1330,null,0,"Arterial C2 - Rural, 2 Lanes, LOS \"D\""]
[102,22,"SR 206","SR 5 (US 1) to SR A1A",{"$f":"+'2025 TAS (2024 Counts)'!E142","v":"TR"},"TR","C1/C2",{"$f":"+'2025 TAS (2024 Counts)'!F142","v":"2MA"},"D",null,3.8639999999999999,1600,1330,null,0,"Arterial C1 -Natural & C2 - Rural), 2 Lanes, LOS \"D\""]
[103,178,"SR 207","Putnam Co. Line to Dancy Ave",{"$f":"+'2025 TAS (2024 Counts)'!E143","v":"RU"},"TR","C2",{"$f":"+'2025 TAS (2024 Counts)'!F143","v":"4MA"},"B","C",0.53,2960,3040,null,0,"Arterial C2 - Rural), 4 Lanes, LOS \"B\""]
[104.1,279,"SR 207","Dancy Ave to Tractor Depot Ent",{"$f":"+'2025 TAS (2024 Counts)'!E144","v":"RD"},"TR","C2T",{"$f":"+'2025 TAS (2024 Counts)'!F144","v":"4MA"},"B","C",0.97499999999999998,2780,3040,null,0,"Arterial C2T - Rural Town), 4 Lanes, LOS \"C\"; Used C2 LOS \"B\" for consistency; did not split link"]
[104.2,null,"SR 207","Tractor Depot Ent to SR 206",{"$f":"+'2025 TAS (2024 Counts)'!E144","v":"RD"},"TR","C2","4MA","B","C",1.361,2780,3040,null,0,"Arterial C2 - Rural), 4 Lanes, LOS \"B\""]
[105,231,"SR 207","SR 206 to CR 13",{"$f":"+'2025 TAS (2024 Counts)'!E145","v":"RD"},"TR","C2",{"$f":"+'2025 TAS (2024 Counts)'!F145","v":"4MA"},"B","C",1.29,2780,3040,null,0,"Arterial C2 - Rural), 4 Lanes, LOS \"B\""]
[106,58,"SR 207","CR 13 to CR 305",{"$f":"+'2025 TAS (2024 Counts)'!E146","v":"RU"},"TR","C2",{"$f":"+'2025 TAS (2024 Counts)'!F146","v":"4MA"},"B","C",4.49,2960,3040,null,0,"Arterial C2 - Rural), 4 Lanes, LOS \"B\""]
[107.1,108,"SR 207","CR 305 to Vermont Blvd.",{"$f":"+'2025 TAS (2024 Counts)'!E147","v":"TR"},null,"C2",{"$f":"+'2025 TAS (2024 Counts)'!F147","v":"4MA"},"C",null,2.48,4490,4350,null,0,"Arterial C2 - Rural), 4 Lanes, LOS \"C\""]
[107.21,108,"SR 207","Vermont Blvd. to Maine St",{"$f":"+'2025 TAS (2024 Counts)'!E148","v":"TR"},null,"C2T",{"$f":"+'2025 TAS (2024 Counts)'!F148","v":"4MA"},"C",null,0.245,4490,4350,null,0,"Arterial C2T - Rural Town), 4 Lanes, LOS \"C\"; Used C2 for consistency; did not split link"]
[107.22,null,"SR 207","Maine St. to Cypress Links Blvd.",{"$f":"+'2025 TAS (2024 Counts)'!E148","v":"TR"},null,"C2","4MA","C",null,0.82499999999999996,4490,4350,null,0,"Arterial C2 - Rural), 4 Lanes, LOS \"C\""]
[107.3,108,"SR 207","Cypress Links Blvd. to SR 9 (I-95)",{"$f":"+'2025 TAS (2024 Counts)'!E149","v":"TR"},null,"C2",{"$f":"+'2025 TAS (2024 Counts)'!F149","v":"4MA"},"C",null,0.59,4490,4350,null,0,"Arterial C2 - Rural), 4 Lanes, LOS \"C\""]
[108,271,"SR 207","SR 9 (I-95) to Wildwood Dr.",{"$f":"+'2025 TAS (2024 Counts)'!E150","v":"UZ"},"UZ","C2",{"$f":"+'2025 TAS (2024 Counts)'!F150","v":"4MA"},"C",null,1.77,4370,4350,null,0,"Arterial C2 - Rural), 4 Lanes, LOS \"C\""]
[109,271,"SR 207","Wildwood Dr. to Holmes Blvd.",{"$f":"+'2025 TAS (2024 Counts)'!E151","v":"UZ"},null,"C2",{"$f":"+'2025 TAS (2024 Counts)'!F151","v":"4MA"},"D",null,1.63,4750,3360,null,0,"Arterial C2 - Rural), 4 Lanes, LOS \"D\"; Used C3R approved per email with FDOT"]
[110,271,"SR 207","Holmes Blvd. to SR 312",{"$f":"+'2025 TAS (2024 Counts)'!E152","v":"UZ"},null,"C3C",{"$f":"+'2025 TAS (2024 Counts)'!F152","v":"4MA"},"D",null,0.39,4750,3290,null,0,"Arterial C3C - Suburban Commercial), 4 Lanes, LOS \"D\""]
[111,237,"SR 207","SR 312 to St. Aug. City Limits (W)",{"$f":"+'2025 TAS (2024 Counts)'!E153","v":"UZ"},null,"C3C",{"$f":"+'2025 TAS (2024 Counts)'!F153","v":"4MA"},"D",null,1.1399999999999999,3580,3290,null,{"$f":"IF(N151=\" \",M151,N151)","v":0},"Arterial C3C - Suburban Commercial), 4 Lanes, LOS \"D\""]
[112.1,299,"SR 312","Holmes Blvd to SR 207",{"$f":"+'2025 TAS (2024 Counts)'!E154","v":"UZ"},null,"C3C",{"$f":"+'2025 TAS (2024 Counts)'!F154","v":"2MA"},"D",null,1.04,3580,1950,null,{"$f":"IF(N152=\" \",M152,N152)","v":0},"Arterial C3C - Suburban Commercial), 2 Lanes, LOS \"D\""]
[112.2,299,"SR 312","SR 207 to CR 5A",{"$f":"+'2025 TAS (2024 Counts)'!E155","v":"UZ"},null,"C3C",{"$f":"+'2025 TAS (2024 Counts)'!F155","v":"4MA"},"D",null,0.8,3580,3290,null,0,"Arterial C3C - Suburban Commercial), 4 Lanes, LOS \"D\""]
[113,299,"SR 312","CR 5A to SR 5 (US 1)",{"$f":"+'2025 TAS (2024 Counts)'!E156","v":"UZ"},null,"C3C",{"$f":"+'2025 TAS (2024 Counts)'!F156","v":"4MA"},"D",null,0.2,3580,3290,null,0,"Arterial C3C - Suburban Commercial), 4 Lanes, LOS \"D\""]
[114.1,272,"SR 312","SR 5 (US 1) to Coke Rd.",{"$f":"+'2025 TAS (2024 Counts)'!E157","v":"UZ"},null,"C3C",{"$f":"+'2025 TAS (2024 Counts)'!F157","v":"4MA"},"D",null,0.27,4310,3290,null,0,"Arterial C3C - Suburban Commercial), 4 Lanes, LOS \"D\""]
[114.2,272,"SR 312","Coke Rd. to SR A1A",{"$f":"+'2025 TAS (2024 Counts)'!E158","v":"UZ"},null,"C3C",{"$f":"+'2025 TAS (2024 Counts)'!F158","v":"4MA"},"D",null,2.33,4310,3290,null,0,"Arterial C3C - Suburban Commercial), 4 Lanes, LOS \"D\""]
[115,21,"SR 5 (US 1)","Flagler Co. Line to SR 9 (I-95)",{"$f":"+'2025 TAS (2024 Counts)'!E159","v":"RU"},"TR","C2",{"$f":"+'2025 TAS (2024 Counts)'!F159","v":"4PA"},"C",null,0.75,4270,4350,null,0,"Arterial C2 - Rural), 4 Lanes, LOS \"C\""]
[116,65,"SR 5 (US 1)","SR 9 (I-95) to SR 206",{"$f":"+'2025 TAS (2024 Counts)'!E160","v":"RU"},"TR","C2",{"$f":"+'2025 TAS (2024 Counts)'!F160","v":"4PA"},"C",null,6.69,4270,4350,null,0,"Arterial C2 - Rural), 4 Lanes, LOS \"C\""]
[117.11,64,"SR 5 (US 1)","SR 206 to Crescent Key Dr",{"$f":"+'2025 TAS (2024 Counts)'!E161","v":"UZ"},null,"C2",{"$f":"+'2025 TAS (2024 Counts)'!F161","v":"4PA"},"D",null,2.3199999999999998,4580,3360,null,0,"Arterial C2 - Rural), 4 Lanes, LOS \"D\"; Used C3R; did not split link"]
[117.12,null,"SR 5 (US 1)","Crescent Key Dr. to Shores Blvd (S)",{"$f":"+'2025 TAS (2024 Counts)'!E161","v":"UZ"},null,"C3R","4PA","D",null,null,4580,3360,null,0,"Arterial C3R - SuburbanResidential), 4 Lanes, LOS \"D\""]
[117.2,"64/273/11","SR 5 (US 1)","Shores Blvd.(S) to Wildwood Dr.",{"$f":"+'2025 TAS (2024 Counts)'!E162","v":"UZ"},null,"C3C",{"$f":"+'2025 TAS (2024 Counts)'!F162","v":"4PA"},"D",null,1.7,3860,3290,null,0,"Arterial C3C - Suburban Commercial), 4 Lanes, LOS \"D\""]
[118,311,"SR 5 (US 1)","Wildwood Dr. to CR 5A",{"$f":"+'2025 TAS (2024 Counts)'!E163","v":"UZ"},null,"C3C",{"$f":"+'2025 TAS (2024 Counts)'!F163","v":"4PA"},"E","D",1.02,4430,3290,null,0,"Arterial C3C - Suburban Commercial), 4 Lanes, LOS \"D\""]
[119,"273/312","SR 5 (US 1)","CR 5A to Lewis Point Rd.",{"$f":"+'2025 TAS (2024 Counts)'!E164","v":"UZ"},null,"C3C",{"$f":"+'2025 TAS (2024 Counts)'!F164","v":"4PA"},"E","D",1.49,5710,3290,null,0,"Arterial C3C - Suburban Commercial), 4 Lanes, LOS \"D\""]
[120.1,"273/311","SR 5 (US 1)","Lewis Point Rd. to Shore Dr.",{"$f":"+'2025 TAS (2024 Counts)'!E165","v":"UZ"},null,"C3C",{"$f":"+'2025 TAS (2024 Counts)'!F165","v":"6PA"},"E","D",0.67,5350,4870,null,0,"Arterial C3C - Suburban Commercial), 4 Lanes, LOS \"D\""]
[120.2,"273/312","SR 5 (US 1)","Shore Dr. to SR 312",{"$f":"+'2025 TAS (2024 Counts)'!E166","v":"UZ"},null,"C3C",{"$f":"+'2025 TAS (2024 Counts)'!F166","v":"6PA"},"E","D",0.42,5350,4870,null,0,"Arterial C3C - Suburban Commercial), 4 Lanes, LOS \"D\""]
[121,12,"SR 5 (US 1)","SR 312 to St. Aug. City Limits (S)",{"$f":"+'2025 TAS (2024 Counts)'!E167","v":"UZ"},null,"C3C",{"$f":"+'2025 TAS (2024 Counts)'!F167","v":"4PA"},"E","D",0.83,4950,3290,null,0,"Arterial C3C - Suburban Commercial), 4 Lanes, LOS \"D\""]
[122,102,"SR 5 (US 1)","St. Aug. Limits (N) to CR 16A (Lewis Spdwy)",{"$f":"+'2025 TAS (2024 Counts)'!E168","v":"UZ"},null,"C3C",{"$f":"+'2025 TAS (2024 Counts)'!F168","v":"4PA"},"D",null,0.8,4490,3290,null,0,"Arterial C3C - Suburban Commercial), 4 Lanes, LOS \"D\""]
[123,102,"SR 5 (US 1)","CR 16A (Lewis Spdwy) to Stokes Landing Rd",{"$f":"+'2025 TAS (2024 Counts)'!E169","v":"UZ"},null,"C3C",{"$f":"+'2025 TAS (2024 Counts)'!F169","v":"4PA"},"D",null,2.4300000000000002,4490,3290,null,0,"Arterial C3C - Suburban Commercial), 4 Lanes, LOS \"D\""]
[124,null,"SR 5 (US 1)","Stokes Landing Rd. to International Golf Pkwy.",{"$f":"+'2025 TAS (2024 Counts)'!E170","v":"UZ"},"UZ","C3C",{"$f":"+'2025 TAS (2024 Counts)'!F170","v":"4PA"},"D","C",3.69,4310,3290,null,0,"Arterial C3C - Suburban Commercial), 4 Lanes, LOS \"D\""]
[125.1,47,"SR 5 (US 1)","International Golf Pkwy. to Alternate CR 210",{"$f":"+'2025 TAS (2024 Counts)'!E171","v":"UZ"},"UZ","C3R",{"$f":"+'2025 TAS (2024 Counts)'!F171","v":"4PA"},"D","C",5.39,3550,3360,null,0,"Arterial C3R - SuburbanResidential), 4 Lanes, LOS \"D\""]
[125.2,47,"SR 5 (US 1)","Alternate CR 210 to Valley Ridge Blvd.",{"$f":"+'2025 TAS (2024 Counts)'!E172","v":"UZ"},"UZ","C3R",{"$f":"+'2025 TAS (2024 Counts)'!F172","v":"4PA"},"D","C",0.6,4170,3360,null,0,"Arterial C3R - SuburbanResidential), 4 Lanes, LOS \"D\""]
[126,47,"SR 5 (US 1)","Valley Ridge Blvd. to Duval Co. Line",{"$f":"+'2025 TAS (2024 Counts)'!E173","v":"UZ"},null,"C3R",{"$f":"+'2025 TAS (2024 Counts)'!F173","v":"4PA"},"D","C",2.25,4170,3360,null,0,"Arterial C3R - SuburbanResidential), 4 Lanes, LOS \"D\""]
[127,251,"SR 9 (I-95)","Flagler Co. Line to SR 5 (US 1)",{"$f":"+'2025 TAS (2024 Counts)'!E174","v":"RU"},"TR","TR",{"$f":"+'2025 TAS (2024 Counts)'!F174","v":"6IF"},"C",null,0.94,7250,8490,null,0,"Limited Access Freeway (Rural), 6 Lanes, LOS \"C\""]
[128,256,"SR 9 (I-95)","SR 5 (US 1) to SR 206",{"$f":"+'2025 TAS (2024 Counts)'!E175","v":"RU"},"TR","TR",{"$f":"+'2025 TAS (2024 Counts)'!F175","v":"6IF"},"C",null,7.22,7250,8490,null,0,"Limited Access Freeway (Rural), 6 Lanes, LOS \"C\""]
[129,261,"SR 9 (I-95)","SR 206 to SR 207",{"$f":"+'2025 TAS (2024 Counts)'!E176","v":"TR"},null,"TR",{"$f":"+'2025 TAS (2024 Counts)'!F176","v":"6IF"},"C",null,5.74,8490,8490,null,0,"Limited Access Freeway (Transitioning), 6 Lanes, LOS \"C\""]
[130,257,"SR 9 (I-95)","SR 207 to SR 16",{"$f":"+'2025 TAS (2024 Counts)'!E177","v":"TR"},null,"TR",{"$f":"+'2025 TAS (2024 Counts)'!F177","v":"6IF"},"C",null,6.68,8490,8490,null,0,"Limited Access Freeway (Transitioning), 6 Lanes, LOS \"C\""]
[131,258,"SR 9 (I-95)","SR 16 to International Golf Pkwy.",{"$f":"+'2025 TAS (2024 Counts)'!E178","v":"TR"},null,"TR",{"$f":"+'2025 TAS (2024 Counts)'!F178","v":"6IF"},"D","C",5.65,10200,10200,null,0,"Limited Access Freeway (Transitioning), 6 Lanes, LOS \"D\"; LOS VARIANCE FOR CR 2209"]
[132,55,"SR 9 (I-95)","International Golf Pkwy. to CR 210",{"$f":"+'2025 TAS (2024 Counts)'!E179","v":"UZ"},"UZ","TR",{"$f":"+'2025 TAS (2024 Counts)'!F179","v":"10lF"},"D","C",5.96,15870,18220,null,0,"Limited Access Freeway (Urbanized Area - 2020 Census), 10 Lanes, LOS \"D\"; LOS VARIANCE FOR CR 2209"]
[133,9905,"SR 9 (I-95)","CR 210 to Duval Co. Line",{"$f":"+'2025 TAS (2024 Counts)'!E180","v":"UZ"},"UZ","TR",{"$f":"+'2025 TAS (2024 Counts)'!F180","v":"10lF"},"D","C",2.82,15870,18220,null,0,"Limited Access Freeway (Urbanized Area - 2020 Census), 10 Lanes, LOS \"D\"; LOS VARIANCE FOR CR 2209"]
[134,20,"SR A1A","Flagler Co. Line to Ft. Matanzas Mon. Entr.",{"$f":"+'2025 TAS (2024 Counts)'!E181","v":"UZ"},null,"C1",{"$f":"+'2025 TAS (2024 Counts)'!F181","v":"2MA"},"D",null,3.45,2180,1330,null,0,"Arterial C1 -Natural), 2 Lanes, LOS \"D\""]
[135,276,"SR A1A","Ft. Matanzas Monument Entr. to SR 206",{"$f":"+'2025 TAS (2024 Counts)'!E182","v":"UZ"},null,"C3R",{"$f":"+'2025 TAS (2024 Counts)'!F182","v":"2MA"},"D",null,3.95,2180,2020,null,0,"Arterial C3R - SuburbanResidential, 2 Lanes, LOS \"D\""]
[136,275,"SR A1A","SR 206 to Owens Ave.",{"$f":"+'2025 TAS (2024 Counts)'!E183","v":"UZ"},null,"C3R",{"$f":"+'2025 TAS (2024 Counts)'!F183","v":"2MA"},"D",null,2.4300000000000002,1600,2020,null,0,"Arterial C3R - SuburbanResidential, 2 Lanes, LOS \"D\""]
[137,110,"SR A1A","Owens Ave. to A1A Beach Blvd.(S)",{"$f":"+'2025 TAS (2024 Counts)'!E184","v":"UZ"},null,"C3C",{"$f":"+'2025 TAS (2024 Counts)'!F184","v":"4MA"},"D",null,1.53,3580,3290,null,0,"Arterial C3C - Suburban Commercial, 4 Lanes, LOS \"D\""]
[138,329,"SR A1A","A1A Beach Blvd.(S) to Pope Rd.",{"$f":"+'2025 TAS (2024 Counts)'!E185","v":"UZ"},null,"C3R",{"$f":"+'2025 TAS (2024 Counts)'!F185","v":"4MA"},"D",null,2.83,3580,3360,null,0,"Arterial C3R - Suburban Residential, 4 Lanes, LOS \"D\""]
[139,329,"SR A1A","Pope Rd. to SR 312",{"$f":"+'2025 TAS (2024 Counts)'!E186","v":"UZ"},null,"C3C",{"$f":"+'2025 TAS (2024 Counts)'!F186","v":"4MA"},"D",null,0.1,3580,3290,null,0,"Arterial C3C - Suburban Commercial, 4 Lanes, LOS \"D\""]
[140,240,"SR A1A","SR 312 to St. Aug. City Limits (S)",{"$f":"+'2025 TAS (2024 Counts)'!E187","v":"UZ"},null,"C3C",{"$f":"+'2025 TAS (2024 Counts)'!F187","v":"4MA"},"D",null,0.9,3580,3290,null,0,"Arterial C3C - Suburban Commercial, 4 Lanes, LOS \"D\""]
[141,9,"SR A1A ","St. Aug. Limits (N) to SR A1A (Cstl. Hwy.)",{"$f":"+'2025 TAS (2024 Counts)'!E188","v":"UZ"},null,"C4",{"$f":"+'2025 TAS (2024 Counts)'!F188","v":"2MA"},"D",null,1.03,1600,1580,null,0,"Arterial C4 - Urban General, 2 Lanes, LOS \"D\""]
[142,null,"SR A1A","SR A1A (Vilano Rd.) to 3rd St.",{"$f":"+'2025 TAS (2024 Counts)'!E189","v":"UZ"},null,"C3R",{"$f":"+'2025 TAS (2024 Counts)'!F189","v":"2MA"},"D",null,2.87,2180,2020,null,0,"Arterial C3R - SuburbanResidential, 2 Lanes, LOS \"D\""]
[143.1,null,"SR A1A","3rd St. to Guana River Park Dam Use Entr.",{"$f":"+'2025 TAS (2024 Counts)'!E190","v":"UZ"},"UZ","C3R",{"$f":"+'2025 TAS (2024 Counts)'!F190","v":"2MA"},"D",null,4.79,2110,2020,null,0,"Arterial C3R - SuburbanResidential, 2 Lanes, LOS \"D\""]
[143.19999999999999,78,"SR A1A","Guana River Park Dam Use Entr. to Mickler Rd.",{"$f":"+'2025 TAS (2024 Counts)'!E191","v":"UZ"},"UZ","C1",{"$f":"+'2025 TAS (2024 Counts)'!F191","v":"2MA"},"D",null,9.81,2110,1330,null,0,"Arterial C1 -Natural), 2 Lanes, LOS \"D\""]
[144.1,274,"SR A1A","Mickler Rd. to Sawgrass (2-lane)",{"$f":"+'2025 TAS (2024 Counts)'!E192","v":"UZ"},null,"C3R",{"$f":"+'2025 TAS (2024 Counts)'!F192","v":"2MA"},"D",null,2.2799999999999998,1990,2020,null,0,"Arterial C3R - SuburbanResidential, 2 Lanes, LOS \"D\""]
[144.19999999999999,null,"SR A1A","Sawgrass to Palm Valley Rd. (4-lane)",{"$f":"+'2025 TAS (2024 Counts)'!E193","v":"UZ"},null,"C3R",{"$f":"+'2025 TAS (2024 Counts)'!F193","v":"4MA"},"D",null,0.48,3580,3360,null,0,"Arterial C3R - Suburban Residential, 4 Lanes, LOS \"D\""]
[145.1,81,"SR A1A","CR 210 (Palm Valley Rd) to TPC Blvd.",{"$f":"+'2025 TAS (2024 Counts)'!E194","v":"UZ"},null,"C3C",{"$f":"+'2025 TAS (2024 Counts)'!F194","v":"4MA"},"D",null,0.54,4880,3290,null,0,"Arterial C3C - Suburban Commercial, 4 Lanes, LOS \"D\""]
[145.19999999999999,266,"SR A1A","TPC Blvd. to CR 210 (Corona Rd)",{"$f":"+'2025 TAS (2024 Counts)'!E195","v":"UZ"},null,"C3R",{"$f":"+'2025 TAS (2024 Counts)'!F195","v":"4MA"},"D",null,0.97,4880,3360,null,0,"Arterial C3R - Suburban Residential, 4 Lanes, LOS \"D\""]
[146,266,"SR A1A","CR 210 (Corona Rd) to CR 210A (Solana Rd)",{"$f":"+'2025 TAS (2024 Counts)'!E196","v":"UZ"},null,"C3R",{"$f":"+'2025 TAS (2024 Counts)'!F196","v":"4MA"},"D",null,0.79,4880,3360,null,0,"Arterial C3R - Suburban Residential, 4 Lanes, LOS \"D\""]
[147.1,80,"SR A1A","CR 210A (Solana Rd) to Marlin Ave.",{"$f":"+'2025 TAS (2024 Counts)'!E197","v":"UZ"},null,"C3R",{"$f":"+'2025 TAS (2024 Counts)'!F197","v":"4MA"},"D",null,1.2,4880,3360,null,0,"Arterial C3R - Suburban Residential, 4 Lanes, LOS \"D\""]
[147.19999999999999,80,"SR A1A","Marlin Ave. to Duval Co. Line",{"$f":"+'2025 TAS (2024 Counts)'!E198","v":"UZ"},null,"C3R",{"$f":"+'2025 TAS (2024 Counts)'!F198","v":"4MA"},"D",null,0.56000000000000005,4880,3360,null,0,"Arterial C3R - Suburban Residential, 4 Lanes, LOS \"D\""]
[148,null,"St. Ambrose Church Rd.","CR 13A to SR 207",{"$f":"+'2025 TAS (2024 Counts)'!E199","v":"RU"},null,null,{"$f":"+'2025 TAS (2024 Counts)'!F199","v":"2MiC"},"C",null,3.59,null,820,null,0,"Table 6, Rural Undeveloped Areas, Uninterrupted Flow Highways, 2 Lanes, Undivided, LOS \"C\""]
[149,null,"Varella Ave.","SR 16 to Lewis Speedway (CR 16A)",{"$f":"+'2025 TAS (2024 Counts)'!E200","v":"UZ"},null,null,{"$f":"+'2025 TAS (2024 Counts)'!F200","v":"2UC"},"D",null,0.77,null,1150,null,0,"Table 4, State Signalized Arterials, Class I, 2 Lanes, Undivided, LOS \"D\", -10% Non-State Signalized Roadway Adj; -20% for no left turn lanes"]
[150.1,null,"Wildwood Dr.","SR 5 (US 1) to Deerchase Drive",{"$f":"+'2025 TAS (2024 Counts)'!E201","v":"UZ"},null,null,{"$f":"+'2025 TAS (2024 Counts)'!F201","v":"2UC"},"D",null,1.1299999999999999,null,1440,1650,1650,"Table 4, State Signalized Arterials, Class I, 2 Lanes, Undivided, LOS \"D\", -10% Non-State Signalized Roadway Adj.",null,"For 2016 TAS, the average of 2014, 2015, and 2016 was used  (due to closing of publix for reconstruction)"]
[150.19999999999999,null,"Wildwood Dr.","Deerchase Drive to SR 207",{"$f":"+'2025 TAS (2024 Counts)'!E202","v":"UZ"},null,null,{"$f":"+'2025 TAS (2024 Counts)'!F202","v":"2UC"},"D",null,2.64,null,1440,null,0,"Table 4, State Signalized Arterials, Class I, 2 Lanes, Undivided, LOS \"D\", -10% Non-State Signalized Roadway Adj."]
[151.1,null,"Woodlawn Rd.","SR 16 to Heritage Park Drive (N)",{"$f":"+'2025 TAS (2024 Counts)'!E203","v":"UZ"},null,null,{"$f":"+'2025 TAS (2024 Counts)'!F203","v":"2UC"},"D",null,1.47,null,1150,null,0,"Table 4, State Signalized Arterials, Class I, 2 Lanes, Undivided, LOS \"D\", -10% Non-State Signalized Roadway Adj., -20% for no left turn lanes"]
[151.19999999999999,null,"Woodlawn Rd.","Heritage Park Dr. (N) to Lewis Speedway (CR 16A)",{"$f":"+'2025 TAS (2024 Counts)'!E204","v":"UZ"},null,null,{"$f":"+'2025 TAS (2024 Counts)'!F204","v":"2UC"},"D",null,0.9,null,1440,null,0,"Table 4, State Signalized Arterials, Class I, 2 Lanes, Undivided, LOS \"D\", -10% Non-State Signalized Roadway Adj., -20% for no left turn lanes"]
[152.19999999999999,null,"CR 223 (Veterans Pkwy)","CR 244 to Race Track Rd",{"$f":"+'2025 TAS (2024 Counts)'!E205","v":"UZ"},null,null,{"$f":"+'2025 TAS (2024 Counts)'!F205","v":"4UC"},"D",null,1.75,null,3220,null,0,"Table 4, State Signalized Arterials, Class I, 4 Lanes, Undivided, LOS \"D\", -10% Non-State Signalized Roadway Adj."]
[153.1,null,"CR 244 (Longleaf Pine Pkwy)","CR 210/16A to Greenbriar Rd",{"$f":"+'2025 TAS (2024 Counts)'!E206","v":"TR"},null,null,{"$f":"+'2025 TAS (2024 Counts)'!F206","v":"4MaC"},"D",null,3.03,null,2880,null,0,"Table 5, State Signalized Arterials, Class I, 4 Lanes, Divided, LOS \"D\", -10% Non-State Signalized Roadway Adj."]
[153.19999999999999,null,"CR 244 (Longleaf Pine Pkwy)","Greenbriar Rd to Roberts Rd",{"$f":"+'2025 TAS (2024 Counts)'!E207","v":"UZ"},null,null,{"$f":"+'2025 TAS (2024 Counts)'!F207","v":"4UC"},"D",null,0.36,null,3220,null,0,"Table 4, State Signalized Arterials, Class I, 4 Lanes, Undivided, LOS \"D\", -10% Non-State Signalized Roadway Adj."]
[154,null,"CR 244 (Longleaf Pine Pkwy)","Roberts Rd to CR 223",{"$f":"+'2025 TAS (2024 Counts)'!E208","v":"UZ"},null,null,{"$f":"+'2025 TAS (2024 Counts)'!F208","v":"4UC"},"D",null,4.08,null,3220,null,0,"Table 4, State Signalized Arterials, Class I, 4 Lanes, Undivided, LOS \"D\", -10% Non-State Signalized Roadway Adj."]
[155,null,"CR 244 (Longleaf Pine Pkwy)","CR 223 to Totterton Ave.",{"$f":"+'2025 TAS (2024 Counts)'!E209","v":"UZ"},null,null,{"$f":"+'2025 TAS (2024 Counts)'!F209","v":"4UC"},"D",null,0.63,null,3220,null,0,"Table 4, State Signalized Arterials, Class I, 4 Lanes, Undivided, LOS \"D\", -10% Non-State Signalized Roadway Adj."]
[156,null,"CR 244 (Longleaf Pine Pkwy)","Totterton Ave. to CR 2209",{"$f":"+'2025 TAS (2024 Counts)'!E210","v":"UZ"},null,null,{"$f":"+'2025 TAS (2024 Counts)'!F210","v":"4UC"},"D",null,1.63,null,3220,null,0,"Table 4, State Signalized Arterials, Class I, 4 Lanes, Undivided, LOS \"D\", -10% Non-State Signalized Roadway Adj."]
[157,null,"CR 2209 (St. Johns Pkwy)","CR 210 to Future SR 9B",{"$f":"+'2025 TAS (2024 Counts)'!E211","v":"UZ"},null,null,{"$f":"+'2025 TAS (2024 Counts)'!F211","v":"4MA"},"D",null,0.95,null,3580,null,0,"Table 4, State Signalized Arterials, Class I, 4 Lanes, Divided, LOS \"D\""]
[158,null,"CR 2209 (St. Johns Pkwy)","Future SR 9B to CR 244",{"$f":"+'2025 TAS (2024 Counts)'!E212","v":"UZ"},null,null,{"$f":"+'2025 TAS (2024 Counts)'!F212","v":"4MA"},"D",null,0.79,null,3580,null,0,"Table 54 State Signalized Arterials, Class I, 4 Lanes, Divided, LOS \"D\""]
[159,null,"CR 2209 (St. Johns Pkwy)","CR 244 to Race Track Rd",{"$f":"+'2025 TAS (2024 Counts)'!E213","v":"UZ"},null,null,{"$f":"+'2025 TAS (2024 Counts)'!F213","v":"4MA"},"D",null,1.4,null,3580,null,0,"Table 4, State Signalized Arterials, Class I, 4 Lanes, Undivided, LOS \"D\""]
[160.1,null,"Valley Ridge Blvd","US 1 to CR 210",{"$f":"+'2025 TAS (2024 Counts)'!E214","v":"UZ"},"UZ",null,{"$f":"+'2025 TAS (2024 Counts)'!F214","v":"4MA"},"D",null,0.64,null,3580,null,0,"Table 4, State Signalized Arterials, Class I, 4 Lanes, Divided, LOS \"D\""]
[160.19999999999999,null,"CR 210/Valley Ridge Blvd","CR 210 to Nocatee Pkwy",{"$f":"+'2025 TAS (2024 Counts)'!E215","v":"UZ"},"UZ",null,{"$f":"+'2025 TAS (2024 Counts)'!F215","v":"4MA"},"D",null,1.45,null,3580,null,0,"Table 4, State Signalized Arterials, Class I, 4 Lanes, Divided, LOS \"D\""]
[161.1,null,"CR 210 (Nocatee Pkwy)","US 1 to Valley Ridge Blvd.",{"$f":"+'2025 TAS (2024 Counts)'!E216","v":"UZ"},"UZ",null,{"$f":"+'2025 TAS (2024 Counts)'!F216","v":"4E"},"D",null,1.8,null,6800,null,0,"Table 4, Freeway, 4 Lanes, LOS \"D\""]
[161.19999999999999,null,"CR 210 (Nocatee Pkwy)","Duval County Line to Crosswater Pkwy",{"$f":"+'2025 TAS (2024 Counts)'!E217","v":"UZ"},"UZ",null,{"$f":"+'2025 TAS (2024 Counts)'!F217","v":"6E"},"D",null,0.46,null,10220,null,0,"Table 4, Freeway, 6 Lanes, LOS \"D\""]
[162,null,"CR 210 (Nocatee Pkwy)","Crosswater Pkwy to Palm Valley Rd. East",{"$f":"+'2025 TAS (2024 Counts)'!E218","v":"UZ"},"UZ",null,{"$f":"+'2025 TAS (2024 Counts)'!F218","v":"4E"},"D",null,1.26,null,6800,null,0,"Table 4, Freeway, 4 Lanes, LOS \"D\""]
[163,null,"CR 210","Palm Valley Rd. East to CR 210A (Roscoe Blvd)",{"$f":"+'2025 TAS (2024 Counts)'!E219","v":"UZ"},"UZ",null,{"$f":"+'2025 TAS (2024 Counts)'!F219","v":"4MA"},"D",null,0.67,null,3580,null,0,"Table 4, State Signalized Arterials, Class I, 4 Lanes, Divided, LOS \"D\""]
[164,null,"Crosswater Pkwy","Preservation Trail to Nocatee Pkwy",{"$f":"+'2025 TAS (2024 Counts)'!E220","v":"UZ"},"UZ",null,{"$f":"+'2025 TAS (2024 Counts)'!F220","v":"4MA"},"D",null,0.6,null,3580,null,0,"Table 4, State Signalized Arterials, Class I, 4 Lanes, Divided, LOS \"D\""]
[165,null,"Rolling Hills Dr.","Dobbs Rd to SR 207",{"$f":"+'2025 TAS (2024 Counts)'!E221","v":"UZ"},null,null,{"$f":"+'2025 TAS (2024 Counts)'!F221","v":"2UC"},"D",null,1.1000000000000001,null,1440,null,0,"Table 4, State Signalized Arterials, Class II, 2 Lanes, Undivided, LOS \"D\", -10% Non-State Signalized Roadway Adj."]
[166,null,"SR 9B","St. Johns Pkwy to W. Peyton Pkwy",{"$f":"+'2025 TAS (2024 Counts)'!E222","v":"UZ"},null,null,{"$f":"+'2025 TAS (2024 Counts)'!F222","v":"4IF"},"D",null,{"$f":"5958/5280","v":1.1284090909090909},7070,7400,null,0,"Limited Access Freeway (Urbanized), 4 Lanes, LOS \"D\""]
[167,null,"SR 9B","W. Peyton Pkwy to Duval County Line",{"$f":"+'2025 TAS (2024 Counts)'!E223","v":"UZ"},null,null,{"$f":"+'2025 TAS (2024 Counts)'!F223","v":"4IF"},"D",null,0.94,7070,7400,null,0,"Limited Access Freeway (Urbanized), 4 Lanes, LOS \"D\""]
[168,null,"West Peyton Pkwy","SR 9B to Race Track Rd",{"$f":"+'2025 TAS (2024 Counts)'!E224","v":"UZ"},null,null,{"$f":"+'2025 TAS (2024 Counts)'!F224","v":"4MA"},"D",null,0.62,null,3580,null,0,"Table 4, State Signalized Arterials, Class I, 4 Lanes, Divided, LOS \"D\""]
[170,null,"Silverleaf Pkwy","SR 16/CR 16A to St. Johns Pkwy (CR 2209)",{"$f":"+'2025 TAS (2024 Counts)'!E225","v":"TR"},null,null,{"$f":"+'2025 TAS (2024 Counts)'!F225","v":"4MA"},"D",null,2.0299999999999998,null,3200,null,{"$f":"IF(N224=\" \",M224,N224)","v":0},"Table 5, State Signalized Arterials, Class I, 4 Lanes, Divided, LOS \"D\""]
[171.2,null,"St. Johns Pkwy (CR 2209)","Silverleaf Pwky to First Coast Expressway",{"$f":"+'2025 TAS (2024 Counts)'!E226","v":"UZ"},"UZ",null,{"$f":"+'2025 TAS (2024 Counts)'!F226","v":"4MA"},"D",null,1.6,null,3580,null,{"$f":"IF(N225=\" \",M225,N225)","v":0},"Table 4, State Signalized Arterials, Class I, 4 Lanes, Divided, LOS \"D\""]
[171.3,null,"St. Johns Pkwy (CR 2209)","First Coast Expressway to CR 210",{"$f":"+'2025 TAS (2024 Counts)'!E227","v":"UZ"},null,null,{"$f":"+'2025 TAS (2024 Counts)'!F227","v":"4MA"},"D",null,2.52,null,3580,null,{"$f":"IF(N226=\" \",M226,N226)","v":0},"Table 4, State Signalized Arterials, Class I, 4 Lanes, Divided, LOS \"D\""]
[172,null,"Brinkhoff Road","Wildwood Dr to SR 207",{"$f":"+'2025 TAS (2024 Counts)'!E228","v":"UZ"},"UZ",null,{"$f":"+'2025 TAS (2024 Counts)'!F228","v":"2MaC"},"D",null,0.48,null,1440,null,{"$f":"IF(N227=\" \",M227,N227)","v":0},"Table 4, State Signalized Arterials, Class I, 2 Lanes, Undivided, LOS \"D\", -10% Non-State Signalized Roadway Adj."]
[]
["2023-04-24","STATE ROADS UPDATED TO 2023 LEVEL OF SERVICE HANDBOOK (COMPLETE STREETS CONTEXT CLASSIFICATIONS)"]
[null,"COUNTY ROADS REMAIN 2020 LEVEL OF SERVICE HANDBOOK SERVICE VOLUMES UNTIL CONTEXT CLASSIFICATIONS ARE ADOPTED ON COUNTY ROADS"]