Workbook

Sheet Budget 2027
A1: PROPERTY: Putnam Downtown LLC
A2: 2027 ProForma Income and Expenses
A3: YEAR ENDED DECEMBER 31, 2027
O5: 2027
C6: JAN | D6: FEB | E6: MARCH | F6: APRIL | G6: MAY | H6: JUNE | I6: JULY | J6: AUGUST | K6: SEPT | L6: OCT | M6: NOV | N6: DEC | O6: TOTAL
B7: INCOME:
B9: Base Rent | C9: ='Base Rent Projections'!C32 -> 130415.33 | D9: ='Base Rent Projections'!D32 -> 134112.33 | E9: ='Base Rent Projections'!E32 -> 134219.33 | F9: ='Base Rent Projections'!F32 -> 134219.33 | G9: ='Base Rent Projections'!G32 -> 132317.34 | H9: ='Base Rent Projections'!H32 -> 132317.34 | I9: ='Base Rent Projections'!I32 -> 132627.34 | J9: ='Base Rent Projections'!J32 -> 133089.34 | ... N9: ='Base Rent Projections'!N32 -> 133125.34 | O9: =SUM(C9:N9) -> 1595819
B10: Operating Expense Recovery (CAM) | C10: ='CAM Calcs'!$E31/12 -> 15989.878 | D10: ='CAM Calcs'!$E31/12 -> 15989.878 | E10: ='CAM Calcs'!$E31/12 -> 15989.878 | F10: ='CAM Calcs'!$E31/12 -> 15989.878 | G10: ='CAM Calcs'!$E31/12 -> 15989.878 | H10: ='CAM Calcs'!$E31/12 -> 15989.878 | I10: ='CAM Calcs'!$E31/12 -> 15989.878 | J10: ='CAM Calcs'!$E31/12 -> 15989.878 | ... N10: ='CAM Calcs'!$E31/12 -> 15989.878 | O10: =SUM(C10:N10) -> 191878.53
B11: Real Estate Tax Recovery | C11: ='CAM Calcs'!$F31/12 -> 16026.123 | D11: ='CAM Calcs'!$F31/12 -> 16026.123 | E11: ='CAM Calcs'!$F31/12 -> 16026.123 | F11: ='CAM Calcs'!$F31/12 -> 16026.123 | G11: ='CAM Calcs'!$F31/12 -> 16026.123 | H11: ='CAM Calcs'!$F31/12 -> 16026.123 | I11: ='CAM Calcs'!$F31/12 -> 16026.123 | J11: ='CAM Calcs'!$F31/12 -> 16026.123 | ... N11: ='CAM Calcs'!$F31/12 -> 16026.123 | O11: =SUM(C11:N11) -> 192313.48
B12: TOTAL INCOME | C12: =SUM(C9:C11) -> 162431.33 | D12: =SUM(D9:D11) -> 166128.33 | E12: =SUM(E9:E11) -> 166235.33 | F12: =SUM(F9:F11) -> 166235.33 | G12: =SUM(G9:G11) -> 164333.34 | H12: =SUM(H9:H11) -> 164333.34 | I12: =SUM(I9:I11) -> 164643.34 | J12: =SUM(J9:J11) -> 165105.34 | ... N12: =SUM(N9:N11) -> 165141.34 | O12: =SUM(C12:N12) -> 1980011
B14: OPERATING EXPENSES:
B15: UTILTY EXPENSES:
B16: Electric Costs | C16: 1000 | D16: 1000 | E16: 1000 | F16: 1000 | G16: 1000 | H16: 1000 | I16: 1000 | J16: 1000 | K16: 1000 | L16: 1000 | M16: 1000 | N16: 1000 | O16: =SUM(C16:N16) -> 12000
B17: Water & Sewer Expense | C17: 600 | D17: 600 | E17: 600 | F17: 600 | G17: 600 | H17: 600 | I17: 600 | J17: 600 | K17: 600 | L17: 600 | M17: 600 | N17: 600 | O17: =SUM(C17:N17) -> 7200
B18: Gas/Oil/Heating | C18: 650 | D18: 650 | E18: 650 | F18: 650 | G18: 650 | H18: 650 | I18: 650 | J18: 650 | K18: 650 | L18: 650 | M18: 650 | N18: 650 | O18: =SUM(C18:N18) -> 7800
B19: State of CT Utilities | C19: 1000 | D19: 1000 | E19: 1000 | F19: 1000 | G19: 1000 | H19: 1000 | I19: 1000 | J19: 1000 | K19: 1000 | L19: 1000 | M19: 1000 | N19: 1000 | O19: =SUM(C19:N19) -> 12000
B20: Utilities Vacant Space | C20: 600 | D20: 600 | E20: 600 | F20: 600 | G20: 600 | H20: 600 | I20: 600 | J20: 600 | K20: 600 | L20: 600 | M20: 600 | N20: 600 | O20: =SUM(C20:N20) -> 7200
B21: TOTAL UTILITY EXPENSES | C21: =SUM(C16:C20) -> 3850 | D21: =SUM(D16:D20) -> 3850 | E21: =SUM(E16:E20) -> 3850 | F21: =SUM(F16:F20) -> 3850 | G21: =SUM(G16:G20) -> 3850 | H21: =SUM(H16:H20) -> 3850 | I21: =SUM(I16:I20) -> 3850 | J21: =SUM(J16:J20) -> 3850 | ... O21: =SUM(O16:O20) -> 46200
B23: BUILDING SERVICES:
B24: General Building Repairs | C24: 2500 | D24: 2500 | E24: 2500 | F24: 2500 | G24: 10000 | H24: 2500 | I24: 2500 | J24: 2500 | K24: 2500 | L24: 2500 | M24: 2500 | N24: 2500 | O24: =SUM(C24:N24) -> 37500
B25: Roof - R & M | C25: 1500 | D25: 0 | E25: 0 | F25: 1500 | G25: 0 | H25: 0 | I25: 1500 | J25: 0 | K25: 0 | L25: 1500 | M25: 0 | N25: 0 | O25: =SUM(C25:N25) -> 6000
B26: Exterminating | C26: 270 | D26: 270 | E26: 270 | F26: 270 | G26: 270 | H26: 270 | I26: 270 | J26: 270 | K26: 270 | L26: 270 | M26: 270 | N26: 270 | O26: =SUM(C26:N26) -> 3240
B27: Fire Safety | C27: 600 | D27: 600 | E27: 600 | F27: 600 | G27: 600 | H27: 600 | I27: 600 | J27: 600 | K27: 600 | L27: 600 | M27: 600 | N27: 600 | O27: =SUM(C27:N27) -> 7200
B28: Sweeping | C28: 1950 | D28: 1950 | E28: 1950 | F28: 1950 | G28: 1950 | H28: 1950 | I28: 1950 | J28: 1950 | K28: 1950 | L28: 1950 | M28: 1950 | N28: 1950 | O28: =SUM(C28:N28) -> 23400
B29: Landscaping | C29: 0 | D29: 0 | E29: 0 | F29: 1777 | G29: 9312 | H29: 1777 | I29: 1777 | J29: 1777 | K29: 5312 | L29: 1777 | M29: 0 | N29: 0 | O29: =SUM(C29:N29) -> 23509
B30: Snow Removal | C30: 15953 | D30: 15953 | E30: 15953 | F30: 15953 | G30: 0 | H30: 0 | I30: 0 | J30: 0 | K30: 0 | L30: 0 | M30: 0 | N30: 15953 | O30: =SUM(C30:N30) -> 79765
B31: TOTAL BUILDING SERVICES | C31: =SUM(C24:C30) -> 22773 | D31: =SUM(D24:D30) -> 21273 | E31: =SUM(E24:E30) -> 21273 | F31: =SUM(F24:F30) -> 24550 | G31: =SUM(G24:G30) -> 22132 | H31: =SUM(H24:H30) -> 7097 | I31: =SUM(I24:I30) -> 8597 | J31: =SUM(J24:J30) -> 7097 | ... O31: =SUM(O24:O30) -> 180614
A33: PROPERTY: Putnam Downtown LLC
A34: 2027 ProForma Income and Expenses
A35: YEAR ENDED DECEMBER 31, 2027
O37: 2027
C38: JAN | D38: FEB | E38: MARCH | F38: APRIL | G38: MAY | H38: JUNE | I38: JULY | J38: AUGUST | K38: SEPT | L38: OCT | M38: NOV | N38: DEC | O38: TOTAL
B39: ADMINISTRATIVE COSTS:
B40: Management Fees | C40: =C9*0.04*1.0635 -> 5547.8681 | D40: =D9*0.04*1.0635 -> 5705.1385 | E40: =E9*0.04*1.0635 -> 5709.6903 | F40: =F9*0.04*1.0635 -> 5709.6903 | G40: =G9*0.04*1.0635 -> 5628.7796 | H40: =H9*0.04*1.0635 -> 5628.7796 | I40: =I9*0.04*1.0635 -> 5641.967 | J40: =J9*0.04*1.0635 -> 5661.6205 | ... N40: =N9*0.04*1.0635 -> 5663.152 | O40: =SUM(C40:N40) -> 67886.142
B41: Accounting | C41: 0 | D41: 0 | E41: 0 | F41: 5000 | G41: 0 | H41: 0 | I41: 0 | J41: 0 | K41: 0 | L41: 0 | M41: 0 | N41: 0 | O41: =SUM(C41:N41) -> 5000
B42: Legal Fees | C42: 0 | D42: 0 | E42: 0 | F42: 0 | G42: 0 | H42: 0 | I42: 0 | J42: 0 | K42: 0 | L42: 0 | M42: 0 | N42: 0 | O42: =SUM(C42:N42) -> 0
B43: TOTAL ADMINISTRATIVE COSTS | C43: =SUM(C40:C42) -> 5547.8681 | D43: =SUM(D40:D42) -> 5705.1385 | E43: =SUM(E40:E42) -> 5709.6903 | F43: =SUM(F40:F42) -> 10709.69 | G43: =SUM(G40:G42) -> 5628.7796 | H43: =SUM(H40:H42) -> 5628.7796 | I43: =SUM(I40:I42) -> 5641.967 | J43: =SUM(J40:J42) -> 5661.6205 | ... O43: =SUM(O40:O42) -> 72886.142
B45: TAXES/INSURANCE:
B46: Insurance Expense | C46: 6500 | D46: 6500 | E46: 6500 | F46: 6500 | G46: 6500 | H46: 6500 | I46: 6500 | J46: 6500 | K46: 6500 | L46: 6500 | M46: 6500 | N46: 6500 | O46: =SUM(C46:N46) -> 78000
B47: Real Estate Taxes | C47: 129753 | D47: 0 | E47: 0 | F47: 0 | G47: 0 | H47: 0 | I47: 129753 | J47: 0 | K47: 0 | L47: 0 | M47: 0 | N47: 0 | O47: =SUM(C47:N47) -> 259506
...

Sheet Base Rent Projections
A1: Riverfront Commons
A2: BASE RENT PROJECTIONS
A3: 2027 BUDGET PERIOD
B4: UNIT | C4: JAN | D4: FEB | E4: MARCH | F4: APRIL | G4: MAY | H4: JUNE | I4: JULY | J4: AUGUST | K4: SEPT | L4: OCT | M4: NOV | N4: DEC | O4: TOTAL
A6: TENANT:
A7: Walgreens | B7: 203 | C7: 12833.33 | D7: 12833.33 | E7: 12833.33 | F7: 12833.33 | G7: 10833.34 | H7: 10833.34 | I7: 10833.34 | J7: 10833.34 | K7: 10833.34 | L7: 10833.34 | M7: 10833.34 | N7: 10833.34 | O7: =SUM(C7:N7) -> 138000.04
A8: Sai Chai Zheng | B8: 205 | C8: 2900 | D8: 2900 | E8: 2900 | F8: 2900 | G8: 2900 | H8: 2900 | I8: 2900 | J8: 3335 | K8: 3335 | L8: 3335 | M8: 3335 | N8: 3335 | O8: =SUM(C8:N8) -> 36975
A9: Putnam Wireless Communications | B9: 207 | C9: 1690 | D9: 1690 | E9: 1690 | F9: 1690 | G9: 1788 | H9: 1788 | I9: 1788 | J9: 1788 | K9: 1788 | L9: 1788 | M9: 1788 | N9: 1788 | O9: =SUM(C9:N9) -> 21064
A10: W.E. Aubuchon CO | B10: 209 | C10: 6480 | D10: 6480 | E10: 6480 | F10: 6480 | G10: 6480 | H10: 6480 | I10: 6480 | J10: 6480 | K10: 6480 | L10: 6480 | M10: 6480 | N10: 6480 | O10: =SUM(C10:N10) -> 77760
A11: A Brighter Tomorrow Counseling | B11: 213 | C11: 1900 | D11: 1900 | E11: 1900 | F11: 1900 | G11: 1900 | H11: 1900 | I11: 1900 | J11: 1900 | K11: 1900 | L11: 1900 | M11: 1900 | N11: 1900 | O11: =SUM(C11:N11) -> 22800
A12: Jewett City Savings Bank | B12: 233A | C12: 1821 | D12: 1821 | E12: 1821 | F12: 1821 | G12: 1821 | H12: 1821 | I12: 1821 | J12: 1821 | K12: 1857 | L12: 1857 | M12: 1857 | N12: 1857 | O12: =SUM(C12:N12) -> 21996
A13: Vacant | B13: 233B | C13: 0 | D13: 0 | E13: 0 | F13: 0 | G13: 0 | H13: 0 | I13: 0 | J13: 0 | K13: 0 | L13: 0 | M13: 0 | N13: 0 | O13: =SUM(C13:N13) -> 0
A14: Quarterback Club | B14: 235A | C14: 3150 | D14: 3150 | E14: 3150 | F14: 3150 | G14: 3150 | H14: 3150 | I14: 3150 | J14: 3150 | K14: 3150 | L14: 3150 | M14: 3150 | N14: 3150 | O14: =SUM(C14:N14) -> 37800
A15: Huyen Thi Tran | B15: 235B | C15: 3500 | D15: 3500 | E15: 3500 | F15: 3500 | G15: 3500 | H15: 3500 | I15: 3500 | J15: 3500 | K15: 3500 | L15: 3500 | M15: 3500 | N15: 3500 | O15: =SUM(C15:N15) -> 42000
A16: Subway Real Estate LLC | B16: 237 | C16: 1966 | D16: 2163 | E16: 2163 | F16: 2163 | G16: 2163 | H16: 2163 | I16: 2163 | J16: 2163 | K16: 2163 | L16: 2163 | M16: 2163 | N16: 2163 | O16: =SUM(C16:N16) -> 25759
A17: Sherwin Williams Co | B17: 239 | C17: 5961 | D17: 5961 | E17: 5961 | F17: 5961 | G17: 5961 | H17: 5961 | I17: 5961 | J17: 5961 | K17: 5961 | L17: 5961 | M17: 5961 | N17: 5961 | O17: =SUM(C17:N17) -> 71532
A18: Pon Chanthavong | B18: 241 | C18: 4320 | D18: 4320 | E18: 4320 | F18: 4320 | G18: 4320 | H18: 4320 | I18: 4450 | J18: 4450 | K18: 4450 | L18: 4450 | M18: 4450 | N18: 4450 | O18: =SUM(C18:N18) -> 52620
A19: Beauty Haas | B19: 243A | C19: 1300 | D19: 1300 | E19: 1300 | F19: 1300 | G19: 1300 | H19: 1300 | I19: 1300 | J19: 1300 | K19: 1300 | L19: 1300 | M19: 1300 | N19: 1300 | O19: =SUM(C19:N19) -> 15600
A20: First in Osteopractic | B20: 243B | C20: 1352 | D20: 1352 | E20: 1352 | F20: 1352 | G20: 1352 | H20: 1352 | I20: 1352 | J20: 1379 | K20: 1379 | L20: 1379 | M20: 1379 | N20: 1379 | O20: =SUM(C20:N20) -> 16359
A21: X Point Vape Suppy | B21: 245 | C21: 6000 | D21: 6000 | E21: 6000 | F21: 6000 | G21: 6000 | H21: 6000 | I21: 6180 | J21: 6180 | K21: 6180 | L21: 6180 | M21: 6180 | N21: 6180 | O21: =SUM(C21:N21) -> 73080
A22: Rude Dog Boxing | B22: 247 | C22: 6250 | D22: 6250 | E22: 6250 | F22: 6250 | G22: 6250 | H22: 6250 | I22: 6250 | J22: 6250 | K22: 6250 | L22: 6250 | M22: 6250 | N22: 6250 | O22: =SUM(C22:N22) -> 75000
A23: Putnam Spirits, Inc | B23: 249 | C23: 2604 | D23: 2750 | E23: 2750 | F23: 2750 | G23: 2750 | H23: 2750 | I23: 2750 | J23: 2750 | K23: 2750 | L23: 2750 | M23: 2750 | N23: 2750 | O23: =SUM(C23:N23) -> 32854
A24: The Price Chopper, Inc. | B24: 251 | C24: 45833 | D24: 45833 | E24: 45833 | F24: 45833 | G24: 45833 | H24: 45833 | I24: 45833 | J24: 45833 | K24: 45833 | L24: 45833 | M24: 45833 | N24: 45833 | O24: =SUM(C24:N24) -> 549996
A25: Anything Under the Roof | B25: 253 | C25: 2500 | D25: 2500 | E25: 2500 | F25: 2500 | G25: 2500 | H25: 2500 | I25: 2500 | J25: 2500 | K25: 2500 | L25: 2500 | M25: 2500 | N25: 2500 | O25: =SUM(C25:N25) -> 30000
A26: Sumo Distribution | B26: 255 | C26: 0 | D26: 0 | E26: 0 | F26: 0 | G26: 0 | H26: 0 | I26: 0 | J26: 0 | K26: 0 | L26: 0 | M26: 0 | N26: 0 | O26: =SUM(C26:N26) -> 0
A27: PASM Holdings LLC | B27: 257 | C27: 3457 | D27: 3561 | E27: 3668 | F27: 3668 | G27: 3668 | H27: 3668 | I27: 3668 | J27: 3668 | K27: 3668 | L27: 3668 | M27: 3668 | N27: 3668 | O27: =SUM(C27:N27) -> 43698
A28: Rent-A-Center | B28: 259 | C28: 2950 | D28: 2950 | E28: 2950 | F28: 2950 | G28: 2950 | H28: 2950 | I28: 2950 | J28: 2950 | K28: 2950 | L28: 2950 | M28: 2950 | N28: 2950 | O28: =SUM(C28:N28) -> 35400
A29: Vacant | B29: 261/263 | C29: 0 | D29: 3250 | E29: 3250 | F29: 3250 | G29: 3250 | H29: 3250 | I29: 3250 | J29: 3250 | K29: 3250 | L29: 3250 | M29: 3250 | N29: 3250 | O29: =SUM(C29:N29) -> 35750
A30: State Of CT | B30: 265/267 | C30: 11648 | D30: 11648 | E30: 11648 | F30: 11648 | G30: 11648 | H30: 11648 | I30: 11648 | J30: 11648 | K30: 11648 | L30: 11648 | M30: 11648 | N30: 11648 | O30: =SUM(C30:N30) -> 139776
A32: Total Base Rent Projections | C32: =SUM(C7:C30) -> 130415.33 | D32: =SUM(D7:D30) -> 134112.33 | E32: =SUM(E7:E30) -> 134219.33 | F32: =SUM(F7:F30) -> 134219.33 | G32: =SUM(G7:G30) -> 132317.34 | H32: =SUM(H7:H30) -> 132317.34 | I32: =SUM(I7:I30) -> 132627.34 | J32: =SUM(J7:J30) -> 133089.34 | ... O32: =SUM(O7:O30) -> 1595819

Sheet Operating Expenses
A1: PROPERTY: Putnam Downtown, LLC
A2: 2027 ProForma EXPENSES
A3: YEAR ENDED DECEMBER 31, 2027
N4: 2027
B5: JAN | C5: FEB | D5: MARCH | E5: APRIL | F5: MAY | G5: JUNE | H5: JULY | I5: AUGUST | J5: SEPT | K5: OCT | L5: NOV | M5: DEC | N5: TOTAL
A6: OPERATING EXPENSES:
A7: UTILTY EXPENSES:
A8: Electric Costs | B8: 1000 | C8: 1000 | D8: 1000 | E8: 1000 | F8: 1000 | G8: 1000 | H8: 1000 | I8: 1000 | J8: 1000 | K8: 1000 | L8: 1000 | M8: 1000 | N8: =SUM(B8:M8) -> 12000
A9: Water | B9: ='Budget 2027'!C17 -> 600 | C9: ='Budget 2027'!D17 -> 600 | D9: ='Budget 2027'!E17 -> 600 | E9: ='Budget 2027'!F17 -> 600 | F9: ='Budget 2027'!G17 -> 600 | G9: ='Budget 2027'!H17 -> 600 | H9: ='Budget 2027'!I17 -> 600 | I9: ='Budget 2027'!J17 -> 600 | ... N9: ='Budget 2027'!O17 -> 7200
A10: TOTAL UTILITY EXPENSES | B10: =SUM(B8:B9) -> 1600 | C10: =SUM(C8:C9) -> 1600 | D10: =SUM(D8:D9) -> 1600 | E10: =SUM(E8:E9) -> 1600 | F10: =SUM(F8:F9) -> 1600 | G10: =SUM(G8:G9) -> 1600 | H10: =SUM(H8:H9) -> 1600 | I10: =SUM(I8:I9) -> 1600 | ... N10: =SUM(N8:N9) -> 19200
A12: BUILDING SERVICES: | P12: Parking lot CAM
A13: General Building Repairs | B13: 2500 | C13: 2500 | D13: 2500 | E13: 2500 | F13: 2500 | G13: 2500 | H13: 2500 | I13: 2500 | J13: 2500 | K13: 2500 | L13: 2500 | M13: 2500 | N13: =SUM(B13:M13) -> 30000 | P13: =N8+N9+N17+N18+N19 -> 145874
A14: Roof - R & M | B14: ='Budget 2027'!C25 -> 1500 | C14: ='Budget 2027'!D25 -> 0 | D14: ='Budget 2027'!E25 -> 0 | E14: ='Budget 2027'!F25 -> 1500 | F14: ='Budget 2027'!G25 -> 0 | G14: ='Budget 2027'!H25 -> 0 | H14: ='Budget 2027'!I25 -> 1500 | I14: ='Budget 2027'!J25 -> 0 | ... M14: ='Budget 2027'!N25 -> 0 | N14: =SUM(B14:M14) -> 6000 | P14: =P13+10000 -> 155874
A15: Fire Safety | B15: 600 | C15: 600 | D15: 600 | E15: 600 | F15: 600 | G15: 600 | H15: 600 | I15: 600 | J15: 600 | K15: 600 | L15: 600 | M15: 600 | N15: =SUM(B15:M15) -> 7200
A16: Exterminating | B16: 270 | C16: 270 | D16: 270 | E16: 270 | F16: 270 | G16: 270 | H16: 270 | I16: 270 | J16: 270 | K16: 270 | L16: 270 | M16: 270 | N16: =SUM(B16:M16) -> 3240
A17: Sweeping | B17: 1950 | C17: 1950 | D17: 1950 | E17: 1950 | F17: 1950 | G17: 1950 | H17: 1950 | I17: 1950 | J17: 1950 | K17: 1950 | L17: 1950 | M17: 1950 | N17: =SUM(B17:M17) -> 23400
A18: Landscaping | B18: ='Budget 2027'!C29 -> 0 | C18: ='Budget 2027'!D29 -> 0 | D18: 0 | E18: 1777 | F18: ='Budget 2027'!G29 -> 9312 | G18: 1777 | H18: 1777 | I18: 1777 | J18: ='Budget 2027'!K29 -> 5312 | K18: 1777 | L18: ='Budget 2027'!M29 -> 0 | M18: ='Budget 2027'!N29 -> 0 | N18: =SUM(B18:M18) -> 23509
A19: Snow Removal | B19: 15953 | C19: 15953 | D19: 15953 | E19: 15953 | F19: ='Budget 2027'!G30 -> 0 | G19: ='Budget 2027'!H30 -> 0 | H19: ='Budget 2027'!I30 -> 0 | I19: ='Budget 2027'!J30 -> 0 | J19: ='Budget 2027'!K30 -> 0 | K19: ='Budget 2027'!L30 -> 0 | L19: ='Budget 2027'!M30 -> 0 | M19: 15953 | N19: =SUM(B19:M19) -> 79765 | P19: CAM no mngmnt
A20: TOTAL BUILDING SERVICES | B20: =SUM(B13:B19) -> 22773 | C20: =SUM(C13:C19) -> 21273 | D20: =SUM(D13:D19) -> 21273 | E20: =SUM(E13:E19) -> 24550 | F20: =SUM(F13:F19) -> 14632 | G20: =SUM(G13:G19) -> 7097 | H20: =SUM(H13:H19) -> 8597 | I20: =SUM(I13:I19) -> 7097 | ... N20: =SUM(N13:N19) -> 173114 | P20: =N20+N10 -> 192314
A22: ADMINISTRATIVE COSTS:
A23: Management Fees | B23: ='Budget 2027'!C40 -> 5547.8681 | C23: ='Budget 2027'!D40 -> 5705.1385 | D23: ='Budget 2027'!E40 -> 5709.6903 | E23: ='Budget 2027'!F40 -> 5709.6903 | F23: ='Budget 2027'!G40 -> 5628.7796 | G23: ='Budget 2027'!H40 -> 5628.7796 | H23: ='Budget 2027'!I40 -> 5641.967 | I23: ='Budget 2027'!J40 -> 5661.6205 | ... M23: ='Budget 2027'!N40 -> 5663.152 | N23: =SUM(B23:M23) -> 67886.142 | P23: CAM w/mngmnt
A24: TOTAL ADMINISTRATIVE COSTS | B24: =B23 -> 5547.8681 | C24: =C23 -> 5705.1385 | D24: =D23 -> 5709.6903 | E24: =E23 -> 5709.6903 | F24: =F23 -> 5628.7796 | G24: =G23 -> 5628.7796 | H24: =H23 -> 5641.967 | I24: =I23 -> 5661.6205 | ... N24: =N23 -> 67886.142 | P24: =N24+N20+N10 -> 260200.14
A26: TAXES/INSURANCE:
A27: Insurance Expense | B27: 6500 | C27: 6500 | D27: 6500 | E27: 6500 | F27: 6500 | G27: 6500 | H27: 6500 | I27: 6500 | J27: 6500 | K27: 6500 | L27: 6500 | M27: 6500 | N27: =SUM(B27:M27) -> 78000
A28: Real Estate Taxes | B28: 129753 | C28: ='Budget 2027'!D47 -> 0 | D28: ='Budget 2027'!E47 -> 0 | E28: ='Budget 2027'!F47 -> 0 | F28: ='Budget 2027'!G47 -> 0 | G28: ='Budget 2027'!H47 -> 0 | H28: 129753 | I28: ='Budget 2027'!J47 -> 0 | J28: ='Budget 2027'!K47 -> 0 | K28: ='Budget 2027'!L47 -> 0 | L28: ='Budget 2027'!M47 -> 0 | M28: ='Budget 2027'!N47 -> 0 | N28: =SUM(B28:M28) -> 259506
A29: TOTAL TAXES / INSURANCE | B29: =SUM(B27:B28) -> 136253 | C29: =SUM(C27:C28) -> 6500 | D29: =SUM(D27:D28) -> 6500 | E29: =SUM(E27:E28) -> 6500 | F29: =SUM(F27:F28) -> 6500 | G29: =SUM(G27:G28) -> 6500 | H29: =SUM(H27:H28) -> 136253 | I29: =SUM(I27:I28) -> 6500 | ... M29: =SUM(M27:M28) -> 6500 | N29: =SUM(B29:M29) -> 337506

Sheet CAM Calcs
A1: CAM, Ins and RE Tax Reimbursement | E1: No Mngment Fee
C2: Per SF | G2: Per SF | L2: Per SF
A3: CAM w/mngmnt | B3: ='Operating Expenses'!P24 -> 260200.14 | C3: =B3/146363 -> 1.7777727 | E3: CAM | F3: ='Operating Expenses'!P20 -> 192314 | G3: =F3/146363 -> 1.3139523 | H3: (Aubuchon) | J3: CAM | K3: =B3 -> 260200.14 | L3: =K3/146363 -> 1.7777727
A4: W/15% Admin | B4: =B3*1.15 -> 299230.16 | C4: =B4/146363 -> 2.0444386 | E4: w/10% admin | F4: =F3*1.1 -> 211545.4 | G4: =F4/146363 -> 1.4453475 | H4: (Rent AC) | J4: W/15% Admin | K4: =K3*1.15 -> 299230.16 | L4: =K4/146363 -> 2.0444386
E5: w/15% admin | F5: =F3*1.15 -> 221161.1 | G5: =F5/146363 -> 1.5110451 | H5: (Sherwin) | J5: Insurance | K5: ='Budget 2027'!O46 -> 78000 | L5: =K5/146363 -> 0.53292157
A6: RE Tax | B6: ='Operating Expenses'!N28 -> 259506 | C6: =B6/146363 -> 1.7730301 | J6: RE Tax | K6: =B6 -> 259506 | L6: =K6/146363 -> 1.7730301
A7: Insurance | B7: ='Budget 2027'!O46 -> 78000 | C7: =B7/146363 -> 0.53292157
E8: Walgreens (no fire safety) | I8: (Price Chopper) | J8: Liability and Umbr. | K8: =27729+6811 -> 34540 | L8: =K8/146363 -> 0.2359886
A9: Price Chopper Parking Lot GEN REP | C9: assume 10,000 Parking lot repairs | E9: CAM | F9: =F3-'Operating Expenses'!N15 -> 185114
A10: CAM | B10: ='Operating Expenses'!P13+10000 -> 155874 | C10: =B10/146363 -> 1.0649823 | E10: w/10% admin | F10: =F9*1.1 -> 203625.4 | G10: =F10/146363 -> 1.3912355
A11: w/10% admin | B11: =B10*1.1 -> 171461.4 | C11: =B11/146363 -> 1.1714805 | I11: (Sherwin) | J11: Property Only | K11: 23503 | L11: =K11/146363 -> 0.1605802
A14: Tenant | B14: Total CAM | C14: Total RE tax | D14: SF | E14: CAM +Ins. Share | F14: RE Tax share | G14: TOTAL | I14: Monthly CAM | J14: Monthly Insurance | K14: Monthly RE Tax | L14: Total Monthly | M14: TOTAL Annual
L15: =SUM(I15:K15) -> 0 | M15: =I15*12+J15*12+K15*12 -> 0
A16: China Star | B16: =$B$4 -> 299230.16 | C16: =$K$6 -> 259506 | D16: 1584 | E16: =D16*$C$4+$C$7*D16 -> 4082.5385 | F16: =D16*$C$6 -> 2808.4796 | G16: =SUM(E16:F16) -> 6891.0181 | I16: =$L$4*D16/12 -> 269.86589 | J16: =$L$5*D16/12 -> 70.345647 | K16: =$L$6*D16/12 -> 234.03997 | L16: =SUM(I16:K16) -> 574.25151 | M16: =I16*12+J16*12+K16*12 -> 6891.0181
A17: DKC Auto | B17: =$B$4 -> 299230.16 | C17: =$K$6 -> 259506 | D17: 6480 | E17: =D17*($C$4+$C$7) -> 16701.294 | F17: =D17*$C$6 -> 11489.235 | G17: =SUM(E17:F17) -> 28190.529 | I17: =$L$4*D17/12 -> 1103.9968 | J17: =$L$5*D17/12 -> 287.77765 | K17: =$L$6*D17/12 -> 957.43624 | L17: =SUM(I17:K17) -> 2349.2107 | M17: =I17*12+J17*12+K17*12 -> 28190.529
A18: Nail Salon | B18: =$B$4 -> 299230.16 | C18: =$K$6 -> 259506 | D18: 2250 | E18: =D18*$C$4+$C$7*D18 -> 5799.0603 | F18: =D18*$C$6 -> 3989.3177 | G18: =SUM(E18:F18) -> 9788.378 | I18: =$L$4*D18/12 -> 383.33223 | J18: =$L$5*D18/12 -> 99.922795 | K18: =$L$6*D18/12 -> 332.44314 | L18: =SUM(I18:K18) -> 815.69817 | M18: =I18*12+J18*12+K18*12 -> 9788.378
A19: Quarterback Club | B19: =$B$4 -> 299230.16 | C19: =$K$6 -> 259506 | D19: 2250 | E19: =D19*($C$4+$C$7) -> 5799.0603 | F19: =D19*$C$6 -> 3989.3177 | G19: =SUM(E19:F19) -> 9788.378 | I19: =$L$4*D19/12 -> 383.33223 | J19: =$L$5*D19/12 -> 99.922795 | K19: =$L$6*D19/12 -> 332.44314 | L19: =SUM(I19:K19) -> 815.69817 | M19: =L19*12 -> 9788.378
A20: Putnam Spirits | B20: =$B$4 -> 299230.16 | C20: =$K$6 -> 259506 | D20: 2500 | E20: =D20*$C$4+$C$7*D20 -> 6443.4004 | F20: =D20*$C$6 -> 4432.5752 | G20: =SUM(E20:F20) -> 10875.976 | I20: =$L$4*D20/12 -> 425.9247 | J20: =$L$5*D20/12 -> 111.02533 | K20: =$L$6*D20/12 -> 369.38126 | L20: =SUM(I20:K20) -> 906.3313 | M20: =I20*12+J20*12+K20*12 -> 10875.976
A21: Putnam Wireless | B21: =$B$4 -> 299230.16 | C21: =$K$6 -> 259506 | D21: 1560 | E21: =D21*$C$4+$C$7*D21 -> 4020.6818 | F21: =D21*$C$6 -> 2765.9269 | G21: =SUM(E21:F21) -> 6786.6087 | I21: =$L$4*D21/12 -> 265.77701 | J21: =$L$5*D21/12 -> 69.279804 | K21: =$L$6*D21/12 -> 230.49391 | L21: =SUM(I21:K21) -> 565.55073 | M21: =I21*12+J21*12+K21*12 -> 6786.6087
A22: Subway | B22: =$B$4 -> 299230.16 | C22: =$K$6 -> 259506 | D22: 1500 | E22: =D22*($C$4+$C$7) -> 3866.0402 | F22: =D22*$C$6 -> 2659.5451 | G22: =SUM(E22:F22) -> 6525.5853 | I22: =L4*D22/12 -> 255.55482 | J22: =$L$5*D22/12 -> 66.615196 | K22: =$L$6*D22/12 -> 221.62876 | L22: =SUM(I22:K22) -> 543.79878 | M22: =L22*12 -> 6525.5853
A23: Thai Place | B23: =$B$4 -> 299230.16 | C23: =$K$6 -> 259506 | D23: 2160 | E23: =D23*$C$4+$C$7*D23 -> 5567.0979 | F23: =D23*$C$6 -> 3829.7449 | G23: =SUM(E23:F23) -> 9396.8429 | I23: =$L$4*D23/12 -> 367.99894 | J23: =$L$5*D23/12 -> 95.925883 | K23: =$L$6*D23/12 -> 319.14541 | L23: =SUM(I23:K23) -> 783.07024 | M23: =I23*12+J23*12+K23*12 -> 9396.8429
A24: Jewett City | B24: =$B$4 -> 299230.16 | C24: =$K$6 -> 259506 | D24: 1500 | E24: =(D24*C7+D24*C4) -> 3866.0402 | F24: =D24*$C$6 -> 2659.5451 | G24: =SUM(E24:F24) -> 6525.5853 | I24: =$L$4*D24/12 -> 255.55482 | J24: =$L$5*D24/12 -> 66.615196 | K24: =$L$6*D24/12 -> 221.62876 | L24: =SUM(I24:K24) -> 543.79878 | M24: =I24*12+J24*12+K24*12 -> 6525.5853
A25: Aubuchon | B25: =F3 -> 192314 | C25: =$K$6 -> 259506 | D25: 8640 | E25: =D25*(G3+C7) -> 15956.99 | F25: =D25*$C$6 -> 15318.98 | G25: =SUM(E25:F25) -> 31275.97 | I25: =G3*D25/12 -> 946.04565 | J25: =C7*D25/12 -> 383.70353 | K25: =L6*D25/12 -> 1276.5816 | L25: =SUM(I25:K25) -> 2606.3308 | M25: =I25*12+J25*12+K25*12 -> 31275.97
A26: Price Chopper | B26: =F10 -> 203625.4 | C26: =C25 -> 259506 | D26: 57122 | E26: =D26*(C11+L8) -> 80397.45 | F26: =D26*$C$6 -> 101279.02 | G26: =SUM(E26:F26) -> 181676.47 | I26: =D26*C11/12 -> 5576.4424 | J26: =D26*L8/12 -> 1123.3451 | K26: =C6*D26/12 -> 8439.9186 | L26: =SUM(I26:K26) -> 15139.706 | M26: =I26*12+J26*12+K26*12 -> 181676.47
A27: Rent A Center | B27: =F4 -> 211545.4 | C27: =K6 -> 259506 | D27: 4000 | E27: =D27*G4+D27*C7 -> 7913.0764 | F27: =D27*$C$6 -> 7092.1203 | G27: =SUM(E27:F27) -> 15005.197 | I27: =D27*G4/12 -> 481.78251 | J27: =D27*C7/12 -> 177.64052 | K27: =L6*D27/12 -> 591.01002 | L27: =SUM(I27:K27) -> 1250.4331 | M27: =I27*12+J27*12+K27*12 -> 15005.197
A28: Walgreens | B28: =F10 -> 203625.4 | C28: =C26 -> 259506 | D28: 12600 | E28: =D28*G10+D28*C7 -> 24244.379 | F28: =D28*$C$6 -> 22340.179 | G28: =SUM(E28:F28) -> 46584.558 | I28: =D28*G10/12 -> 1460.7973 | J28: =D28*C7/12 -> 559.56765 | K28: =L6*D28/12 -> 1861.6816 | L28: =SUM(I28:K28) -> 3882.0465 | M28: =I28*12+J28*12+K28*12 -> 46584.558
A29: Sherwin Williams | B29: =F5 -> 221161.1 | C29: =C28 -> 259506 | D29: 4320 | E29: =D29*G5+D29*L11 -> 7221.4215 | F29: =D29*$C$6 -> 7659.4899 | G29: =SUM(E29:F29) -> 14880.911 | I29: =D29*G5/12 -> 543.97625 | J29: =D29*L11/12 -> 57.808872 | K29: =L6*D29/12 -> 638.29082 | L29: =SUM(I29:K29) -> 1240.0759 | M29: =I29*12+J29*12+K29*12 -> 14880.911
A31: TOTALS | E31: =SUM(E15:E29) -> 191878.53 | F31: =SUM(F15:F29) -> 192313.48
