Workbook

Sheet Consolidated P&L
A1: Income Statement | B1: Actuals | C1: Actuals | D1: Actuals | E1: Actuals | F1: Actuals | G1: Actuals | H1: Actuals | I1: Forecast | J1: Forecast | K1: Forecast | L1: Forecast | M1: Forecast | N1: Forecast | O1: Forecast | P1: Forecast | Q1: Forecast | R1: Forecast | S1: Forecast
A2: Main Forecast - JPW Consolidated | B2: Jan 2026 | C2: Feb 2026 | D2: Mar 2026 | E2: Apr 2026 | F2: May 2026 | G2: Jun 2026 | H2: Jul 2026 | I2: Aug 2026 | J2: Sep 2026 | K2: Oct 2026 | L2: Nov 2026 | M2: Dec 2026 | N2: Jan 2027 | O2: Feb 2027 | P2: Mar 2027 | Q2: Apr 2027 | R2: May 2027 | S2: June 2027 | U2: YTD 2026 | V2: Full Year 2026 | W2: Rolling 12 Months
A3: Revenue
A4: Rental Income | B4: ='Blytheville P&L'!B4+'Forrest City P&L'!B4 -> 142489.27 | C4: ='Blytheville P&L'!C4+'Forrest City P&L'!C4 -> 162907.77 | D4: ='Blytheville P&L'!D4+'Forrest City P&L'!D4 -> 196705.99 | E4: ='Blytheville P&L'!E4+'Forrest City P&L'!E4 -> 177255.94 | F4: ='Blytheville P&L'!F4+'Forrest City P&L'!F4 -> 190154.71 | G4: ='Blytheville P&L'!G4+'Forrest City P&L'!G4 -> 185196.06 | H4: ='Blytheville P&L'!H4+'Forrest City P&L'!H4 -> 169621.34 | I4: ='Blytheville P&L'!I4+'Forrest City P&L'!I4 -> 198383.92 | ... S4: ='Blytheville P&L'!S4+'Forrest City P&L'!S4 -> 243517 | U4: =SUM(B4:H4) -> 1224331.1 | V4: =SUM(B4:M4) -> 2283554.4 | W4: =SUM(H4:S4) -> 2673676.6
A5: Sales | B5: ='Blytheville P&L'!B5 -> 300.46 | C5: ='Blytheville P&L'!C5 -> 163.31 | D5: ='Blytheville P&L'!D5 -> 276.58 | E5: ='Blytheville P&L'!E5 -> 516.92 | F5: ='Blytheville P&L'!F5 -> 431.77 | G5: ='Blytheville P&L'!G5 -> 467.52 | H5: ='Blytheville P&L'!H5 -> 423.96 | I5: ='Blytheville P&L'!I5 -> 457.12 | ... S5: ='Blytheville P&L'!S5 -> 439.76156 | U5: =SUM(B5:H5) -> 2580.52 | V5: =SUM(B5:M5) -> 4895.0089 | W5: =SUM(H5:S5) -> 5497.3379
A6: Total Revenue | B6: =SUM(B4:B5) -> 142789.73 | C6: =SUM(C4:C5) -> 163071.08 | D6: =SUM(D4:D5) -> 196982.57 | E6: =SUM(E4:E5) -> 177772.86 | F6: =SUM(F4:F5) -> 190586.48 | G6: =SUM(G4:G5) -> 185663.58 | H6: =SUM(H4:H5) -> 170045.3 | I6: =SUM(I4:I5) -> 198841.04 | ... S6: =SUM(S4:S5) -> 243956.76 | U6: =SUM(U4:U5) -> 1226911.6 | V6: =SUM(V4:V5) -> 2288449.4 | W6: =SUM(W4:W5) -> 2679174
A7: Gross Profit Before Depreciation | B7: =B6 -> 142789.73 | C7: =C6 -> 163071.08 | D7: =D6 -> 196982.57 | E7: =E6 -> 177772.86 | F7: =F6 -> 190586.48 | G7: =G6 -> 185663.58 | H7: =H6 -> 170045.3 | I7: =I6 -> 198841.04 | ... S7: =S6 -> 243956.76 | U7: =U6 -> 1226911.6 | V7: =V6 -> 2288449.4 | W7: =W6 -> 2679174
A8: Expenses
A9: Advertising and Promotion | B9: 0 | C9: 1539 | D9: 513.1 | E9: 513 | F9: 0 | G9: 513 | H9: ='Blytheville P&L'!H9 -> 513 | I9: ='Blytheville P&L'!I9 -> 0 | J9: ='Blytheville P&L'!J9 -> 0 | K9: ='Blytheville P&L'!K9 -> 0 | L9: ='Blytheville P&L'!L9 -> 0 | M9: ='Blytheville P&L'!M9 -> 0 | N9: ='Blytheville P&L'!N9 -> 0 | O9: ='Blytheville P&L'!O9 -> 0 | ... S9: ='Blytheville P&L'!S9 -> 513 | U9: =SUM(B9:H9) -> 3591.1 | V9: =SUM(B9:M9) -> 3591.1 | W9: =SUM(H9:S9) -> 1026
A10: Bank Fees | B10: ='Blytheville P&L'!B10+'Forrest City P&L'!B7 -> 52.3 | C10: ='Blytheville P&L'!C10+'Forrest City P&L'!C7 -> 35 | D10: ='Blytheville P&L'!D10+'Forrest City P&L'!D7 -> 96.7 | E10: ='Blytheville P&L'!E10+'Forrest City P&L'!E7 -> 45 | F10: ='Blytheville P&L'!F10+'Forrest City P&L'!F7 -> 100 | G10: ='Blytheville P&L'!G10+'Forrest City P&L'!G7 -> 131.05 | H10: ='Blytheville P&L'!H10+'Forrest City P&L'!H7 -> 3.3 | I10: ='Blytheville P&L'!I10+'Forrest City P&L'!I7 -> 107.68889 | ... S10: ='Blytheville P&L'!S10+'Forrest City P&L'!S7 -> 61.972329 | U10: =SUM(B10:H10) -> 463.35 | V10: =SUM(B10:M10) -> 998.58237 | W10: =SUM(H10:S10) -> 1131.9206
A11: Charitable Donation | B11: 0 | C11: 50 | D11: 0 | E11: 0 | F11: 0 | G11: 0 | H11: ='Blytheville P&L'!H11 -> 0 | I11: ='Blytheville P&L'!I11 -> 0 | J11: ='Blytheville P&L'!J11 -> 0 | K11: ='Blytheville P&L'!K11 -> 0 | L11: ='Blytheville P&L'!L11 -> 0 | M11: ='Blytheville P&L'!M11 -> 0 | N11: ='Blytheville P&L'!N11 -> 0 | O11: ='Blytheville P&L'!O11 -> 0 | ... S11: ='Blytheville P&L'!S11 -> 0 | U11: =SUM(B11:H11) -> 50 | V11: =SUM(B11:M11) -> 50 | W11: =SUM(H11:S11) -> 0
A12: Cleaning Services | B12: 0 | C12: 0 | D12: 0 | E12: 500 | F12: 0 | G12: 2.5 | H12: ='Blytheville P&L'!H12 -> 0 | I12: ='Blytheville P&L'!I12 -> 250 | J12: ='Blytheville P&L'!J12 -> 250 | K12: ='Blytheville P&L'!K12 -> 250 | L12: ='Blytheville P&L'!L12 -> 250 | M12: ='Blytheville P&L'!M12 -> 250 | N12: ='Blytheville P&L'!N12 -> 250 | O12: ='Blytheville P&L'!O12 -> 250 | ... S12: ='Blytheville P&L'!S12 -> 888 | U12: =SUM(B12:H12) -> 502.5 | V12: =SUM(B12:M12) -> 1752.5 | W12: =SUM(H12:S12) -> 3388
A13: Dues and Subscriptions | B13: 375 | C13: 250 | D13: 817.34 | E13: 375 | F13: 894.52 | G13: 0 | H13: ='Blytheville P&L'!H13 -> 888 | I13: ='Blytheville P&L'!I13 -> 500 | J13: ='Blytheville P&L'!J13 -> 500 | K13: ='Blytheville P&L'!K13 -> 500 | L13: ='Blytheville P&L'!L13 -> 500 | M13: ='Blytheville P&L'!M13 -> 500 | N13: ='Blytheville P&L'!N13 -> 500 | O13: ='Blytheville P&L'!O13 -> 500 | ... S13: ='Blytheville P&L'!S13 -> 500 | U13: =SUM(B13:H13) -> 3599.86 | V13: =SUM(B13:M13) -> 6099.86 | W13: =SUM(H13:S13) -> 6388
A14: Electric | B14: 6938.03 | C14: 5364.93 | D14: 5013.32 | E14: 4017.72 | F14: 3790.51 | G14: 532.92 | H14: 5797.03 | I14: ='Blytheville P&L'!I43 -> 2367.9378 | J14: ='Blytheville P&L'!J43 -> 1893.747 | K14: ='Blytheville P&L'!K43 -> 2347.356 | L14: ='Blytheville P&L'!L43 -> 2203.0136 | M14: ='Blytheville P&L'!M43 -> 2148.0389 | N14: ='Blytheville P&L'!N43 -> 2232.8029 | O14: ='Blytheville P&L'!O43 -> 2194.6185 | P14: ='Blytheville P&L'!P43 -> 2191.8201 | ... S14: ='Blytheville P&L'!S43 -> 3710.1399 | U14: =SUM(B14:H14) -> 31454.46 | V14: =SUM(B14:M14) -> 42414.553 | W14: =SUM(H14:S14) -> 31490.536
A15: Electrical Repairs | B15: 565 | C15: 0 | D15: 625 | E15: 0 | F15: 0 | G15: 0 | H15: ='Blytheville P&L'!H14+'Forrest City P&L'!H8 -> 0 | I15: ='Blytheville P&L'!I14+'Forrest City P&L'!I8 -> 1800 | J15: ='Blytheville P&L'!J14+'Forrest City P&L'!J8 -> 1800 | K15: ='Blytheville P&L'!K14+'Forrest City P&L'!K8 -> 1800 | L15: ='Blytheville P&L'!L14+'Forrest City P&L'!L8 -> 1800 | M15: ='Blytheville P&L'!M14+'Forrest City P&L'!M8 -> 1800 | N15: ='Blytheville P&L'!N14+'Forrest City P&L'!N8 -> 1800 | O15: ='Blytheville P&L'!O14+'Forrest City P&L'!O8 -> 1800 | ... S15: ='Blytheville P&L'!S14+'Forrest City P&L'!S8 -> 1500 | U15: =SUM(B15:H15) -> 1190 | V15: =SUM(B15:M15) -> 10190 | W15: =SUM(H15:S15) -> 19500
A16: Equipment Rental | B16: 0 | C16: 0 | D16: 0 | E16: 550 | F16: 0 | G16: 0 | H16: ='Blytheville P&L'!H15 -> 0 | I16: ='Blytheville P&L'!I15 -> 100 | J16: ='Blytheville P&L'!J15 -> 100 | K16: ='Blytheville P&L'!K15 -> 100 | L16: ='Blytheville P&L'!L15 -> 100 | M16: ='Blytheville P&L'!M15 -> 100 | N16: ='Blytheville P&L'!N15 -> 100 | O16: ='Blytheville P&L'!O15 -> 100 | ... S16: ='Blytheville P&L'!S15 -> 100 | U16: =SUM(B16:H16) -> 550 | V16: =SUM(B16:M16) -> 1050 | W16: =SUM(H16:S16) -> 1100
A17: Furnishings-Decor | B17: 0 | C17: 1236.88 | D17: 0 | E17: 0 | F17: 702.96 | G17: 0 | H17: ='Blytheville P&L'!H16+'Forrest City P&L'!H9 -> 0 | I17: ='Blytheville P&L'!I16+'Forrest City P&L'!I9 -> 630 | J17: ='Blytheville P&L'!J16+'Forrest City P&L'!J9 -> 630 | K17: ='Blytheville P&L'!K16+'Forrest City P&L'!K9 -> 630 | L17: ='Blytheville P&L'!L16+'Forrest City P&L'!L9 -> 630 | M17: ='Blytheville P&L'!M16+'Forrest City P&L'!M9 -> 630 | N17: ='Blytheville P&L'!N16+'Forrest City P&L'!N9 -> 630 | O17: ='Blytheville P&L'!O16+'Forrest City P&L'!O9 -> 630 | ... S17: ='Blytheville P&L'!S16+'Forrest City P&L'!S9 -> 330 | U17: =SUM(B17:H17) -> 1939.84 | V17: =SUM(B17:M17) -> 5089.84 | W17: =SUM(H17:S17) -> 6630
A18: HVAC Repairs | B18: ='Blytheville P&L'!B17 -> 0 | C18: ='Blytheville P&L'!C17 -> 0 | D18: ='Blytheville P&L'!D17 -> 0 | E18: ='Blytheville P&L'!E17 -> 0 | F18: ='Blytheville P&L'!F17 -> 0 | G18: ='Blytheville P&L'!G17 -> 0 | H18: ='Blytheville P&L'!H17 -> 0 | I18: ='Blytheville P&L'!I17 -> 750 | ... S18: ='Blytheville P&L'!S17 -> 750 | U18: =SUM(B18:H18) -> 0 | V18: =SUM(B18:M18) -> 3750 | W18: =SUM(H18:S18) -> 8250
A19: Insurance Expense | B19: 20311.12 | C19: 20311.12 | D19: 20311.12 | E19: 20311.12 | F19: 20311.12 | G19: 20311.12 | H19: ='Blytheville P&L'!H18+'Forrest City P&L'!H11 -> 20311.12 | I19: ='Blytheville P&L'!I18+'Forrest City P&L'!I11 -> 20311.12 | J19: ='Blytheville P&L'!J18+'Forrest City P&L'!J11 -> 20311.12 | K19: ='Blytheville P&L'!K18+'Forrest City P&L'!K11 -> 20311.12 | L19: ='Blytheville P&L'!L18+'Forrest City P&L'!L11 -> 20311.12 | M19: ='Blytheville P&L'!M18+'Forrest City P&L'!M11 -> 20311.12 | N19: ='Blytheville P&L'!N18+'Forrest City P&L'!N11 -> 20311.12 | O19: ='Blytheville P&L'!O18+'Forrest City P&L'!O11 -> 20311.12 | ... S19: ='Blytheville P&L'!S18+'Forrest City P&L'!S11 -> 20311.12 | U19: =SUM(B19:H19) -> 142177.84 | V19: =SUM(B19:M19) -> 243733.44 | W19: =SUM(H19:S19) -> 243733.44
A20: Landscaping-Grounds Care | B20: 0 | C20: 0 | D20: 3750 | E20: 1226 | F20: 2420 | G20: 2485 | H20: ='Blytheville P&L'!H19+'Forrest City P&L'!H12 -> 1500 | I20: ='Blytheville P&L'!I19+'Forrest City P&L'!I12 -> 1650 | J20: ='Blytheville P&L'!J19+'Forrest City P&L'!J12 -> 1650 | K20: ='Blytheville P&L'!K19+'Forrest City P&L'!K12 -> 1650 | L20: ='Blytheville P&L'!L19+'Forrest City P&L'!L12 -> 1650 | M20: ='Blytheville P&L'!M19+'Forrest City P&L'!M12 -> 1650 | N20: ='Blytheville P&L'!N19+'Forrest City P&L'!N12 -> 1650 | O20: ='Blytheville P&L'!O19+'Forrest City P&L'!O12 -> 1650 | ... S20: ='Blytheville P&L'!S19+'Forrest City P&L'!S12 -> 1500 | U20: =SUM(B20:H20) -> 11381 | V20: =SUM(B20:M20) -> 19631 | W20: =SUM(H20:S20) -> 19500
A21: Natural Gas | B21: 750 | C21: 750 | D21: 750 | E21: =402.6+750 -> 1152.6 | F21: =693.1+750.01 -> 1443.11 | G21: =186.05+750 -> 936.05 | H21: ='Forrest City P&L'!H22 -> 750 | I21: ='Forrest City P&L'!I22 -> 435.47111 | J21: ='Forrest City P&L'!J22 -> 349.59148 | K21: ='Forrest City P&L'!K22 -> 404.10531 | L21: ='Forrest City P&L'!L22 -> 396.3893 | M21: ='Forrest City P&L'!M22 -> 383.36203 | N21: ='Forrest City P&L'!N22 -> 394.61888 | O21: ='Forrest City P&L'!O22 -> 391.45674 | ... S21: ='Forrest City P&L'!S22 -> 2679.8668 | U21: =SUM(B21:H21) -> 6531.76 | V21: =SUM(B21:M21) -> 8500.6792 | W21: =SUM(H21:S21) -> 7357.7143
A22: Office Supplies | B22: 1361.25 | C22: 492.51 | D22: 598.81 | E22: 846.66 | F22: 394.53 | G22: 362.87 | H22: ='Blytheville P&L'!H20+'Forrest City P&L'!H13 -> 191.11 | I22: ='Blytheville P&L'!I20+'Forrest City P&L'!I13 -> 430.69556 | J22: ='Blytheville P&L'!J20+'Forrest City P&L'!J13 -> 442.75074 | K22: ='Blytheville P&L'!K20+'Forrest City P&L'!K13 -> 469.37765 | L22: ='Blytheville P&L'!L20+'Forrest City P&L'!L13 -> 447.60798 | M22: ='Blytheville P&L'!M20+'Forrest City P&L'!M13 -> 453.24546 | N22: ='Blytheville P&L'!N20+'Forrest City P&L'!N13 -> 456.7437 | O22: ='Blytheville P&L'!O20+'Forrest City P&L'!O13 -> 452.53238 | ... S22: ='Blytheville P&L'!S20+'Forrest City P&L'!S13 -> 282.21937 | U22: =SUM(B22:H22) -> 4247.74 | V22: =SUM(B22:M22) -> 6491.4174 | W22: =SUM(H22:S22) -> 4988.6698
A23: Payment Processing | B23: 423.44 | C23: 382.75 | D23: 362.96 | E23: 571.63 | F23: 382.83 | G23: 313.3 | H23: ='Blytheville P&L'!H21+'Forrest City P&L'!H14 -> 503.9 | I23: ='Blytheville P&L'!I21+'Forrest City P&L'!I14 -> 386.35444 | J23: ='Blytheville P&L'!J21+'Forrest City P&L'!J14 -> 387.85926 | K23: ='Blytheville P&L'!K21+'Forrest City P&L'!K14 -> 404.37901 | L23: ='Blytheville P&L'!L21+'Forrest City P&L'!L14 -> 392.86424 | M23: ='Blytheville P&L'!M21+'Forrest City P&L'!M14 -> 395.03417 | N23: ='Blytheville P&L'!N21+'Forrest City P&L'!N14 -> 397.42581 | O23: ='Blytheville P&L'!O21+'Forrest City P&L'!O14 -> 395.10807 | ... S23: ='Blytheville P&L'!S21+'Forrest City P&L'!S14 -> 415.92373 | U23: =SUM(B23:H23) -> 2940.81 | V23: =SUM(B23:M23) -> 4907.3011 | W23: =SUM(H23:S23) -> 4866.5327
A24: Payroll Fees | B24: 163 | C24: 302 | D24: 127 | E24: 121 | F24: 127 | G24: 115 | H24: ='Blytheville P&L'!H22 -> 115 | I24: ='Blytheville P&L'!I22 -> 115 | J24: ='Blytheville P&L'!J22 -> 115 | K24: ='Blytheville P&L'!K22 -> 115 | L24: ='Blytheville P&L'!L22 -> 115 | M24: ='Blytheville P&L'!M22 -> 115 | N24: ='Blytheville P&L'!N22 -> 115 | O24: ='Blytheville P&L'!O22 -> 115 | ... S24: ='Blytheville P&L'!S22 -> 115 | U24: =SUM(B24:H24) -> 1070 | V24: =SUM(B24:M24) -> 1645 | W24: =SUM(H24:S24) -> 1380
A25: Payroll Taxes-EmployEE (TAX) | B25: 730.46 | C25: 540 | D25: 540 | E25: 675 | F25: 540 | G25: 540 | H25: ='Blytheville P&L'!H25 -> 672.5 | I25: ='Blytheville P&L'!I25 -> 539.886 | J25: ='Blytheville P&L'!J25 -> 539.886 | K25: ='Blytheville P&L'!K25 -> 539.886 | L25: ='Blytheville P&L'!L25 -> 539.886 | M25: ='Blytheville P&L'!M25 -> 539.886 | N25: ='Blytheville P&L'!N25 -> 539.886 | O25: ='Blytheville P&L'!O25 -> 539.886 | ... S25: ='Blytheville P&L'!S25 -> 675.15375 | U25: =SUM(B25:H25) -> 4237.96 | V25: =SUM(B25:M25) -> 6937.39 | W25: =SUM(H25:S25) -> 6746.5138
A26: Payroll Taxes-EmployER (TAX) | B26: 557.6 | C26: 575.28 | D26: 603.24 | E26: 564.32 | F26: 416.16 | G26: 416.16 | H26: ='Blytheville P&L'!H26 -> 499.08 | I26: ='Blytheville P&L'!I26 -> 415.9628 | J26: ='Blytheville P&L'!J26 -> 415.9628 | K26: ='Blytheville P&L'!K26 -> 415.9628 | L26: ='Blytheville P&L'!L26 -> 415.9628 | M26: ='Blytheville P&L'!M26 -> 415.9628 | N26: ='Blytheville P&L'!N26 -> 415.9628 | O26: ='Blytheville P&L'!O26 -> 415.9628 | ... S26: ='Blytheville P&L'!S26 -> 520.18175 | U26: =SUM(B26:H26) -> 3631.84 | V26: =SUM(B26:M26) -> 5711.654 | W26: =SUM(H26:S26) -> 5178.8898
A27: Payroll-Contract Services (CND) | B27: 10558 | C27: 13282 | D27: 12412 | E27: 13068 | F27: 9729 | G27: 10599 | H27: ='Blytheville P&L'!H23+'Forrest City P&L'!H15 -> 9418 | I27: ='Blytheville P&L'!I23+'Forrest City P&L'!I15 -> 10424 | J27: ='Blytheville P&L'!J23+'Forrest City P&L'!J15 -> 10424 | K27: ='Blytheville P&L'!K23+'Forrest City P&L'!K15 -> 10424 | L27: ='Blytheville P&L'!L23+'Forrest City P&L'!L15 -> 10424 | M27: ='Blytheville P&L'!M23+'Forrest City P&L'!M15 -> 10424 | N27: ='Blytheville P&L'!N23+'Forrest City P&L'!N15 -> 10424 | O27: ='Blytheville P&L'!O23+'Forrest City P&L'!O15 -> 10424 | ... S27: ='Blytheville P&L'!S23+'Forrest City P&L'!S15 -> 9418 | U27: =SUM(B27:H27) -> 79066 | V27: =SUM(B27:M27) -> 131186 | W27: =SUM(H27:S27) -> 123076
A28: Payroll-Garnishments (CSD) | B28: 722.4 | C28: 1238.4 | D28: 825.6 | E28: 1032 | F28: 653.6 | G28: 653.6 | H28: ='Blytheville P&L'!H27 -> 636.4 | I28: ='Blytheville P&L'!I27 -> 653.786 | J28: ='Blytheville P&L'!J27 -> 653.786 | K28: ='Blytheville P&L'!K27 -> 653.786 | L28: ='Blytheville P&L'!L27 -> 653.786 | M28: ='Blytheville P&L'!M27 -> 653.786 | N28: ='Blytheville P&L'!N27 -> 653.786 | O28: ='Blytheville P&L'!O27 -> 653.786 | ... S28: ='Blytheville P&L'!S27 -> 817.59125 | U28: =SUM(B28:H28) -> 5762 | V28: =SUM(B28:M28) -> 9030.93 | W28: =SUM(H28:S28) -> 7991.8512
A29: Payroll-Wages (NET) | B29: 5609 | C29: 4487.2 | D29: 4487.2 | E29: 5609 | F29: 4556 | G29: 4556 | H29: ='Blytheville P&L'!H28 -> 5697.5 | I29: ='Blytheville P&L'!I28 -> 4556 | J29: ='Blytheville P&L'!J28 -> 4556 | K29: ='Blytheville P&L'!K28 -> 4556 | L29: ='Blytheville P&L'!L28 -> 4556 | M29: ='Blytheville P&L'!M28 -> 4556 | N29: ='Blytheville P&L'!N28 -> 4556 | O29: ='Blytheville P&L'!O28 -> 4556 | ... S29: ='Blytheville P&L'!S28 -> 5697.5 | U29: =SUM(B29:H29) -> 35001.9 | V29: =SUM(B29:M29) -> 57781.9 | W29: =SUM(H29:S29) -> 56955
A30: Permits, Licenses & Fees | B30: 0 | C30: 0 | D30: 0 | E30: 0 | F30: 0 | G30: 0 | H30: 45 | I30: ='Blytheville P&L'!I30 -> 0 | J30: ='Blytheville P&L'!J30 -> 0 | K30: ='Blytheville P&L'!K30 -> 0 | L30: ='Blytheville P&L'!L30 -> 0 | M30: ='Blytheville P&L'!M30 -> 0 | N30: ='Blytheville P&L'!N30 -> 0 | O30: ='Blytheville P&L'!O30 -> 0 | P30: ='Blytheville P&L'!P30 -> 0 | ... S30: ='Blytheville P&L'!S30 -> 307.5 | U30: =SUM(B30:H30) -> 45 | V30: =SUM(B30:M30) -> 45 | W30: =SUM(H30:S30) -> 352.5
A31: Pest Control | B31: 530.4 | C31: 1060.8 | D31: 530.4 | E31: 972.41 | F31: 0 | G31: 530.4 | H31: 530.4 | I31: ='Blytheville P&L'!I31 -> 850 | J31: ='Blytheville P&L'!J31 -> 850 | K31: ='Blytheville P&L'!K31 -> 850 | L31: ='Blytheville P&L'!L31 -> 850 | M31: ='Blytheville P&L'!M31 -> 850 | N31: ='Blytheville P&L'!N31 -> 850 | O31: ='Blytheville P&L'!O31 -> 850 | P31: ='Blytheville P&L'!P31 -> 850 | ... S31: ='Blytheville P&L'!S31 -> 530.4 | U31: =SUM(B31:H31) -> 4154.81 | V31: =SUM(B31:M31) -> 8404.81 | W31: =SUM(H31:S31) -> 9560.8
A32: Plumbing Repairs | B32: 0 | C32: 169.5 | D32: 5174.54 | E32: 625 | F32: 603.05 | G32: 0 | H32: 388 | I32: ='Blytheville P&L'!I32 -> 850 | J32: ='Blytheville P&L'!J32 -> 850 | K32: ='Blytheville P&L'!K32 -> 850 | L32: ='Blytheville P&L'!L32 -> 850 | M32: ='Blytheville P&L'!M32 -> 850 | N32: ='Blytheville P&L'!N32 -> 850 | O32: ='Blytheville P&L'!O32 -> 850 | P32: ='Blytheville P&L'!P32 -> 850 | ... S32: ='Blytheville P&L'!S32 -> 388 | U32: =SUM(B32:H32) -> 6960.09 | V32: =SUM(B32:M32) -> 11210.09 | W32: =SUM(H32:S32) -> 9276
A33: Postage & Lock Fees | B33: 0 | C33: 278 | D33: 175 | E33: 75 | F33: 50 | G33: 1340 | H33: 295 | I33: ='Blytheville P&L'!I33+'Forrest City P&L'!I16 -> 487.22222 | J33: ='Blytheville P&L'!J33+'Forrest City P&L'!J16 -> 150.74074 | K33: ='Blytheville P&L'!K33+'Forrest City P&L'!K16 -> 828.76543 | L33: ='Blytheville P&L'!L33+'Forrest City P&L'!L16 -> 495.57613 | M33: ='Blytheville P&L'!M33+'Forrest City P&L'!M16 -> 165.02743 | N33: ='Blytheville P&L'!N33+'Forrest City P&L'!N16 -> 336.45633 | O33: ='Blytheville P&L'!O33+'Forrest City P&L'!O16 -> 505.68663 | P33: ='Blytheville P&L'!P33+'Forrest City P&L'!P16 -> 175.72347 | ... S33: ='Blytheville P&L'!S33+'Forrest City P&L'!S16 -> 602.60058 | U33: =SUM(B33:H33) -> 2213 | V33: =SUM(B33:M33) -> 4340.332 | W33: =SUM(H33:S33) -> 4704.543
A34: Professional Fees | B34: 0 | C34: 302.29 | D34: 238 | E34: 9635 | F34: 8250 | G34: 6200 | H34: 6303.74 | I34: ='Blytheville P&L'!I34+'Forrest City P&L'!I17 -> 6200 | J34: ='Blytheville P&L'!J34+'Forrest City P&L'!J17 -> 6200 | K34: ='Blytheville P&L'!K34+'Forrest City P&L'!K17 -> 6200 | L34: ='Blytheville P&L'!L34+'Forrest City P&L'!L17 -> 6200 | M34: ='Blytheville P&L'!M34+'Forrest City P&L'!M17 -> 6200 | N34: ='Blytheville P&L'!N34+'Forrest City P&L'!N17 -> 6200 | O34: ='Blytheville P&L'!O34+'Forrest City P&L'!O17 -> 6200 | P34: ='Blytheville P&L'!P34+'Forrest City P&L'!P17 -> 6200 | ... S34: ='Blytheville P&L'!S34+'Forrest City P&L'!S17 -> 6303.74 | U34: =SUM(B34:H34) -> 30929.03 | V34: =SUM(B34:M34) -> 61929.03 | W34: =SUM(H34:S34) -> 74607.48
A35: Referral Fee / Furnish Bonus | B35: 0 | C35: 0 | D35: 0 | E35: 0 | F35: 700 | G35: 0 | H35: 0 | I35: ='Blytheville P&L'!I35 -> 0 | J35: ='Blytheville P&L'!J35 -> 0 | K35: ='Blytheville P&L'!K35 -> 0 | L35: ='Blytheville P&L'!L35 -> 1000 | M35: ='Blytheville P&L'!M35 -> 0 | N35: ='Blytheville P&L'!N35 -> 233.33333 | O35: ='Blytheville P&L'!O35 -> 233.33333 | P35: ='Blytheville P&L'!P35 -> 233.33333 | ... S35: ='Blytheville P&L'!S35 -> 233.33333 | U35: =SUM(B35:H35) -> 700 | V35: =SUM(B35:M35) -> 1700 | W35: =SUM(H35:S35) -> 2400
A36: Repairs and Maintenance | B36: ='Blytheville P&L'!B36+'Forrest City P&L'!B10 -> 478.47 | C36: ='Blytheville P&L'!C36+'Forrest City P&L'!C10 -> 1140.35 | D36: ='Blytheville P&L'!D36+'Forrest City P&L'!D10 -> 585.66 | E36: ='Blytheville P&L'!E36+'Forrest City P&L'!E10 -> 1273 | F36: ='Blytheville P&L'!F36+'Forrest City P&L'!F10 -> 611.23 | G36: ='Blytheville P&L'!G36+'Forrest City P&L'!G10 -> 0 | H36: ='Blytheville P&L'!H36+'Forrest City P&L'!H10 -> 739 | I36: ='Blytheville P&L'!I36+'Forrest City P&L'!I10 -> 1500 | ... S36: ='Blytheville P&L'!S36+'Forrest City P&L'!S10 -> 3000 | U36: =SUM(B36:H36) -> 4827.71 | V36: =SUM(B36:M36) -> 18327.71 | W36: =SUM(H36:S36) -> 32239
A37: Security Deposit Refund Expense | B37: 520 | C37: 1200 | D37: 1995 | E37: 700 | F37: 0 | G37: 0 | H37: ='Blytheville P&L'!H37+'Forrest City P&L'!H18 -> 0 | I37: ='Blytheville P&L'!I37+'Forrest City P&L'!I18 -> 272.22222 | J37: ='Blytheville P&L'!J37+'Forrest City P&L'!J18 -> 279.62963 | K37: ='Blytheville P&L'!K37+'Forrest City P&L'!K18 -> 289.50617 | L37: ='Blytheville P&L'!L37+'Forrest City P&L'!L18 -> 280.45267 | M37: ='Blytheville P&L'!M37+'Forrest City P&L'!M18 -> 283.19616 | N37: ='Blytheville P&L'!N37+'Forrest City P&L'!N18 -> 284.385 | O37: ='Blytheville P&L'!O37+'Forrest City P&L'!O18 -> 282.67795 | ... S37: ='Blytheville P&L'!S37+'Forrest City P&L'!S18 -> 33.197288 | U37: =SUM(B37:H37) -> 4415 | V37: =SUM(B37:M37) -> 5820.0069 | W37: =SUM(H37:S37) -> 2855.3783
A38: Security Services | B38: 785.55 | C38: 1571.1 | D38: 785.55 | E38: 785.55 | F38: 785.55 | G38: 785.55 | H38: 785.55 | I38: ='Blytheville P&L'!I38 -> 785.55 | J38: ='Blytheville P&L'!J38 -> 785.55 | K38: ='Blytheville P&L'!K38 -> 785.55 | L38: ='Blytheville P&L'!L38 -> 785.55 | M38: ='Blytheville P&L'!M38 -> 785.55 | N38: ='Blytheville P&L'!N38 -> 785.55 | O38: ='Blytheville P&L'!O38 -> 785.55 | P38: ='Blytheville P&L'!P38 -> 785.55 | ... S38: ='Blytheville P&L'!S38 -> 785.55 | U38: =SUM(B38:H38) -> 6284.4 | V38: =SUM(B38:M38) -> 10212.15 | W38: =SUM(H38:S38) -> 9426.6
A39: Software & Computer Expense | B39: 60.64 | C39: 60.64 | D39: 100.55 | E39: 100.55 | F39: 100.55 | G39: 424.05 | H39: 0 | I39: ='Blytheville P&L'!I39 -> 101 | J39: ='Blytheville P&L'!J39 -> 101 | K39: ='Blytheville P&L'!K39 -> 101 | L39: ='Blytheville P&L'!L39 -> 101 | M39: ='Blytheville P&L'!M39 -> 101 | N39: ='Blytheville P&L'!N39 -> 101 | O39: ='Blytheville P&L'!O39 -> 101 | P39: ='Blytheville P&L'!P39 -> 101 | ... S39: ='Blytheville P&L'!S39 -> 101 | U39: =SUM(B39:H39) -> 846.98 | V39: =SUM(B39:M39) -> 1351.98 | W39: =SUM(H39:S39) -> 1111
A40: Supplies | B40: 2178.69 | C40: 1236.95 | D40: 2406.72 | E40: 1548.36 | F40: 1638.52 | G40: 2462.56 | H40: 2413.58 | I40: ='Blytheville P&L'!I40+'Forrest City P&L'!I19 -> 2544.5967 | J40: ='Blytheville P&L'!J40+'Forrest City P&L'!J19 -> 2607.4856 | K40: ='Blytheville P&L'!K40+'Forrest City P&L'!K19 -> 2564.9174 | L40: ='Blytheville P&L'!L40+'Forrest City P&L'!L19 -> 2572.3332 | M40: ='Blytheville P&L'!M40+'Forrest City P&L'!M19 -> 2581.5787 | N40: ='Blytheville P&L'!N40+'Forrest City P&L'!N19 -> 2572.9431 | O40: ='Blytheville P&L'!O40+'Forrest City P&L'!O19 -> 2575.6183 | P40: ='Blytheville P&L'!P40+'Forrest City P&L'!P19 -> 2576.7134 | ... S40: ='Blytheville P&L'!S40+'Forrest City P&L'!S19 -> 2300.8653 | U40: =SUM(B40:H40) -> 13885.38 | V40: =SUM(B40:M40) -> 26756.292 | W40: =SUM(H40:S40) -> 30461.531
...

Sheet Blytheville P&L
A1: Income Statement | B1: Actuals | C1: Actuals | D1: Actuals | E1: Actuals | F1: Actuals | G1: Actuals | H1: Actuals | I1: Forecast | J1: Forecast | K1: Forecast | L1: Forecast | M1: Forecast | N1: Forecast | O1: Forecast | P1: Forecast | Q1: Forecast | R1: Forecast | S1: Forecast
A2: Main Forecast - Blytheville | B2: Jan 2026 | C2: Feb 2026 | D2: Mar 2026 | E2: Apr 2026 | F2: May 2026 | G2: Jun 2026 | H2: Jul 2026 | I2: Aug 2026 | J2: Sep 2026 | K2: Oct 2026 | L2: Nov 2026 | M2: Dec 2026 | N2: Jan 2027 | O2: Feb 2027 | P2: Mar 2027 | Q2: Apr 2027 | R2: May 2027 | S2: June 2027 | U2: YTD 2026 | V2: Full Year 2026 | W2: Rolling 12 Months
A3: Revenue
A4: Rental Income | B4: 73525.27 | C4: 93505.77 | D4: 118116.99 | E4: 117892.94 | F4: 113361.71 | G4: 118466 | H4: 106602.34 | I4: 128000 | J4: 130000 | K4: 135000 | L4: 135000 | M4: 140000 | N4: 150000 | O4: 150000 | P4: 155000 | Q4: 155000 | R4: 155000 | S4: 155000 | U4: =SUM(B4:H4) -> 741471.02 | V4: =SUM(B4:M4) -> 1409471 | W4: =SUM(H4:S4) -> 1694602.3
A5: Sales | B5: 300.46 | C5: 163.31 | D5: 276.58 | E5: 516.92 | F5: 431.77 | G5: 467.52 | H5: 423.96 | I5: 457.12 | J5: 465.57 | K5: 464.92 | L5: 462.53667 | M5: 464.34222 | N5: 463.93296 | O5: 463.60395 | P5: 463.95971 | Q5: 463.83221 | R5: 463.79862 | S5: 439.76156 | U5: =SUM(B5:H5) -> 2580.52 | V5: =SUM(B5:M5) -> 4895.0089 | W5: =SUM(H5:S5) -> 5497.3379
A6: Total Revenue | B6: =SUM(B4:B5) -> 73825.73 | C6: =SUM(C4:C5) -> 93669.08 | D6: =SUM(D4:D5) -> 118393.57 | E6: =SUM(E4:E5) -> 118409.86 | F6: =SUM(F4:F5) -> 113793.48 | G6: =SUM(G4:G5) -> 118933.52 | H6: =SUM(H4:H5) -> 107026.3 | I6: =SUM(I4:I5) -> 128457.12 | ... S6: =SUM(S4:S5) -> 155439.76 | U6: =SUM(U4:U5) -> 744051.54 | V6: =SUM(V4:V5) -> 1414366 | W6: =SUM(W4:W5) -> 1700099.7
A7: Gross Profit Before Depreciation | B7: =B6 -> 73825.73 | C7: =C6 -> 93669.08 | D7: =D6 -> 118393.57 | E7: =E6 -> 118409.86 | F7: =F6 -> 113793.48 | G7: =G6 -> 118933.52 | H7: =H6 -> 107026.3 | I7: =I6 -> 128457.12 | ... S7: =S6 -> 155439.76 | U7: =U6 -> 744051.54 | V7: =V6 -> 1414366 | W7: =W6 -> 1700099.7
A8: Expenses
A9: Advertising and Promotion | B9: 0 | C9: 1539 | D9: 513.1 | E9: 513 | F9: 0 | G9: 513 | H9: 513 | I9: 0 | J9: 0 | K9: 0 | L9: 0 | M9: 0 | N9: 0 | O9: 0 | P9: 0 | Q9: 0 | R9: 0 | S9: 513 | U9: =SUM(B9:H9) -> 3591.1 | V9: =SUM(B9:M9) -> 3591.1 | W9: =SUM(H9:S9) -> 1026
A10: Bank Fees | B10: 0 | C10: 10 | D10: 10 | E10: 10 | F10: 40 | G10: 20 | H10: 0 | I10: 27.777778 | J10: 23.703704 | K10: 24.938272 | L10: 25.473251 | M10: 24.705075 | N10: 25.038866 | O10: 25.072398 | P10: 24.93878 | Q10: 25.016681 | R10: 25.009286 | S10: 13.33085 | U10: =SUM(B10:H10) -> 90 | V10: =SUM(B10:M10) -> 216.59808 | W10: =SUM(H10:S10) -> 265.00494
A11: Charitable Donation | B11: 0 | C11: 50 | D11: 0 | E11: 0 | F11: 0 | G11: 0 | H11: 0 | I11: 0 | J11: 0 | K11: 0 | L11: 0 | M11: 0 | N11: 0 | O11: 0 | P11: 0 | Q11: 0 | R11: 0 | S11: 0 | U11: =SUM(B11:H11) -> 50 | V11: =SUM(B11:M11) -> 50 | W11: =SUM(H11:S11) -> 0
A12: Cleaning Services | B12: 0 | C12: 0 | D12: 0 | E12: 500 | F12: 0 | G12: 2.5 | H12: 0 | I12: 250 | J12: 250 | K12: 250 | L12: 250 | M12: 250 | N12: 250 | O12: 250 | P12: 250 | Q12: 250 | R12: 250 | S12: 888 | U12: =SUM(B12:H12) -> 502.5 | V12: =SUM(B12:M12) -> 1752.5 | W12: =SUM(H12:S12) -> 3388
A13: Dues and Subscriptions | B13: 375 | C13: 250 | D13: 817.34 | E13: 375 | F13: 894.52 | G13: 0 | H13: 888 | I13: 500 | J13: 500 | K13: 500 | L13: 500 | M13: 500 | N13: 500 | O13: 500 | P13: 500 | Q13: 500 | R13: 500 | S13: 500 | U13: =SUM(B13:H13) -> 3599.86 | V13: =SUM(B13:M13) -> 6099.86 | W13: =SUM(H13:S13) -> 6388
A14: Electrical Repairs | B14: 0 | C14: 0 | D14: 0 | E14: 0 | F14: 0 | G14: 0 | H14: 0 | I14: 1500 | J14: 1500 | K14: 1500 | L14: 1500 | M14: 1500 | N14: 1500 | O14: 1500 | P14: 1500 | Q14: 1500 | R14: 1500 | S14: 1500 | U14: =SUM(B14:H14) -> 0 | V14: =SUM(B14:M14) -> 7500 | W14: =SUM(H14:S14) -> 16500
A15: Equipment Rental | B15: 0 | C15: 0 | D15: 0 | E15: 550 | F15: 0 | G15: 0 | H15: 0 | I15: 100 | J15: 100 | K15: 100 | L15: 100 | M15: 100 | N15: 100 | O15: 100 | P15: 100 | Q15: 100 | R15: 100 | S15: 100 | U15: =SUM(B15:H15) -> 550 | V15: =SUM(B15:M15) -> 1050 | W15: =SUM(H15:S15) -> 1100
A16: Furnishings-Decor | B16: 0 | C16: 0 | D16: 0 | E16: 0 | F16: 702.96 | G16: 0 | H16: 0 | I16: 330 | J16: 330 | K16: 330 | L16: 330 | M16: 330 | N16: 330 | O16: 330 | P16: 330 | Q16: 330 | R16: 330 | S16: 330 | U16: =SUM(B16:H16) -> 702.96 | V16: =SUM(B16:M16) -> 2352.96 | W16: =SUM(H16:S16) -> 3630
A17: HVAC Repairs | B17: 0 | C17: 0 | D17: 0 | E17: 0 | F17: 0 | G17: 0 | H17: 0 | I17: 750 | J17: 750 | K17: 750 | L17: 750 | M17: 750 | N17: 750 | O17: 750 | P17: 750 | Q17: 750 | R17: 750 | S17: 750 | U17: =SUM(B17:H17) -> 0 | V17: =SUM(B17:M17) -> 3750 | W17: =SUM(H17:S17) -> 8250
A18: Insurance Expense | B18: 10155.56 | C18: 10155.56 | D18: 10155.56 | E18: 10155.56 | F18: 10155.56 | G18: 10155.56 | H18: 10155.56 | I18: 10155.56 | J18: 10155.56 | K18: 10155.56 | L18: 10155.56 | M18: 10155.56 | N18: 10155.56 | O18: 10155.56 | P18: 10155.56 | Q18: 10155.56 | R18: 10155.56 | S18: 10155.56 | U18: =SUM(B18:H18) -> 71088.92 | V18: =SUM(B18:M18) -> 121866.72 | W18: =SUM(H18:S18) -> 121866.72
A19: Landscaping-Grounds Care | B19: 0 | C19: 0 | D19: 2250 | E19: 826 | F19: 2420 | G19: 2485 | H19: 1500 | I19: 1500 | J19: 1500 | K19: 1500 | L19: 1500 | M19: 1500 | N19: 1500 | O19: 1500 | P19: 1500 | Q19: 1500 | R19: 1500 | S19: 1500 | U19: =SUM(B19:H19) -> 9481 | V19: =SUM(B19:M19) -> 16981 | W19: =SUM(H19:S19) -> 18000
A20: Office Supplies | B20: 1332.75 | C20: 492.51 | D20: 598.81 | E20: 846.66 | F20: 394.53 | G20: 362.87 | H20: 191.11 | I20: 430.69556 | J20: 442.75074 | K20: 469.37765 | L20: 447.60798 | M20: 453.24546 | N20: 456.7437 | O20: 452.53238 | P20: 454.17385 | Q20: 454.48331 | R20: 453.72985 | S20: 282.21937 | U20: =SUM(B20:H20) -> 4219.24 | V20: =SUM(B20:M20) -> 6462.9174 | W20: =SUM(H20:S20) -> 4988.6698
... A23: Payroll-Contract Services (CND) | B23: 242 | C23: 1670 | D23: 260 | E23: 344 | F23: 169 | G23: 175 | H23: 938 | I23: 0 | J23: 0 | K23: 0 | L23: 0 | M23: 0 | N23: 0 | O23: 0 | P23: 0 | Q23: 0 | R23: 0 | S23: 938 | U23: =SUM(B23:H23) -> 3798 | V23: =SUM(B23:M23) -> 3798 | W23: =SUM(H23:S23) -> 1876
A24: Payroll-Gross Wages
A25: Payroll Taxes-EmployEE (TAX) | B25: 730.46 | C25: 540 | D25: 540 | E25: 675 | F25: 540 | G25: 540 | H25: 672.5 | I25: 539.886 | J25: 539.886 | K25: 539.886 | L25: 539.886 | M25: 539.886 | N25: 539.886 | O25: 539.886 | P25: 539.886 | Q25: 539.886 | R25: 539.886 | S25: 675.15375 | U25: =SUM(B25:H25) -> 4237.96 | V25: =SUM(B25:M25) -> 6937.39 | W25: =SUM(H25:S25) -> 6746.5138
A26: Payroll Taxes-EmployER (TAX) | B26: 557.6 | C26: 575.28 | D26: 603.24 | E26: 564.32 | F26: 416.16 | G26: 416.16 | H26: 499.08 | I26: 415.9628 | J26: 415.9628 | K26: 415.9628 | L26: 415.9628 | M26: 415.9628 | N26: 415.9628 | O26: 415.9628 | P26: 415.9628 | Q26: 415.9628 | R26: 415.9628 | S26: 520.18175 | U26: =SUM(B26:H26) -> 3631.84 | V26: =SUM(B26:M26) -> 5711.654 | W26: =SUM(H26:S26) -> 5178.8898
A27: Payroll-Garnishments (CSD) | B27: 722.4 | C27: 1238.4 | D27: 825.6 | E27: 1032 | F27: 653.6 | G27: 653.6 | H27: 636.4 | I27: 653.786 | J27: 653.786 | K27: 653.786 | L27: 653.786 | M27: 653.786 | N27: 653.786 | O27: 653.786 | P27: 653.786 | Q27: 653.786 | R27: 653.786 | S27: 817.59125 | U27: =SUM(B27:H27) -> 5762 | V27: =SUM(B27:M27) -> 9030.93 | W27: =SUM(H27:S27) -> 7991.8512
A28: Payroll-Wages (NET) | B28: 5609 | C28: 4487.2 | D28: 4487.2 | E28: 5609 | F28: 4556 | G28: 4556 | H28: 5697.5 | I28: 4556 | J28: 4556 | K28: 4556 | L28: 4556 | M28: 4556 | N28: 4556 | O28: 4556 | P28: 4556 | Q28: 4556 | R28: 4556 | S28: 5697.5 | U28: =SUM(B28:H28) -> 35001.9 | V28: =SUM(B28:M28) -> 57781.9 | W28: =SUM(H28:S28) -> 56955
A29: Total Payroll-Gross Wages | B29: =SUM(B25:B28) -> 7619.46 | C29: =SUM(C25:C28) -> 6840.88 | D29: =SUM(D25:D28) -> 6456.04 | E29: =SUM(E25:E28) -> 7880.32 | F29: =SUM(F25:F28) -> 6165.76 | G29: =SUM(G25:G28) -> 6165.76 | H29: =SUM(H25:H28) -> 7505.48 | I29: =SUM(I25:I28) -> 6165.6348 | ... S29: =SUM(S25:S28) -> 7710.4268 | U29: =SUM(U25:U28) -> 48633.7 | V29: =SUM(V25:V28) -> 79461.874 | W29: =SUM(W25:W28) -> 76872.255
A30: Permits, Licenses & Fees | B30: 0 | C30: 0 | D30: 0 | E30: 0 | F30: 0 | G30: 0 | H30: 45 | I30: 0 | J30: 0 | K30: 0 | L30: 0 | M30: 0 | N30: 0 | O30: 0 | P30: 0 | Q30: 0 | R30: 0 | S30: 307.5 | U30: =SUM(B30:H30) -> 45 | V30: =SUM(B30:M30) -> 45 | W30: =SUM(H30:S30) -> 352.5
A31: Pest Control | B31: 530.4 | C31: 1060.8 | D31: 530.4 | E31: 972.41 | F31: 0 | G31: 530.4 | H31: 530.4 | I31: 850 | J31: 850 | K31: 850 | L31: 850 | M31: 850 | N31: 850 | O31: 850 | P31: 850 | Q31: 850 | R31: 850 | S31: 530.4 | U31: =SUM(B31:H31) -> 4154.81 | V31: =SUM(B31:M31) -> 8404.81 | W31: =SUM(H31:S31) -> 9560.8
A32: Plumbing Repairs | B32: 0 | C32: 169.5 | D32: 5174.54 | E32: 625 | F32: 603.05 | G32: 0 | H32: 388 | I32: 850 | J32: 850 | K32: 850 | L32: 850 | M32: 850 | N32: 850 | O32: 850 | P32: 850 | Q32: 850 | R32: 850 | S32: 388 | U32: =SUM(B32:H32) -> 6960.09 | V32: =SUM(B32:M32) -> 11210.09 | W32: =SUM(H32:S32) -> 9276
A33: Postage & Lock Fees | B33: 0 | C33: 278 | D33: 175 | E33: 75 | F33: 50 | G33: 0 | H33: 295 | I33: 30.555556 | J33: 24.074074 | K33: 32.098765 | L33: 28.909465 | M33: 28.360768 | N33: 29.789666 | O33: 29.019966 | P33: 29.0568 | Q33: 29.288811 | R33: 29.121859 | S33: 155.93391 | U33: =SUM(B33:H33) -> 873 | V33: =SUM(B33:M33) -> 1016.9986 | W33: =SUM(H33:S33) -> 741.20965
A34: Professional Fees | B34: 0 | C34: 302.29 | D34: 238 | E34: 4835 | F34: 3100 | G34: 3100 | H34: 3203.74 | I34: 3100 | J34: 3100 | K34: 3100 | L34: 3100 | M34: 3100 | N34: 3100 | O34: 3100 | P34: 3100 | Q34: 3100 | R34: 3100 | S34: 3203.74 | U34: =SUM(B34:H34) -> 14779.03 | V34: =SUM(B34:M34) -> 30279.03 | W34: =SUM(H34:S34) -> 37407.48
A35: Referral Fee / Furnish Bonus | B35: 0 | C35: 0 | D35: 0 | E35: 0 | F35: 700 | G35: 0 | H35: 0 | I35: 0 | J35: 0 | K35: 0 | L35: 1000 | M35: 0 | N35: 233.33333 | O35: 233.33333 | P35: 233.33333 | Q35: 233.33333 | R35: 233.33333 | S35: 233.33333 | U35: =SUM(B35:H35) -> 700 | V35: =SUM(B35:M35) -> 1700 | W35: =SUM(H35:S35) -> 2400
A36: Repairs and Maintenance | B36: 478.47 | C36: 1140.35 | D36: 585.66 | E36: 1273 | F36: 611.23 | G36: 0 | H36: 0 | I36: 1500 | J36: 1500 | K36: 1500 | L36: 1500 | M36: 1500 | N36: 1500 | O36: 1500 | P36: 1500 | Q36: 1500 | R36: 1500 | S36: 1500 | U36: =SUM(B36:H36) -> 4088.71 | V36: =SUM(B36:M36) -> 11588.71 | W36: =SUM(H36:S36) -> 16500
A37: Security Deposit Refund Expense | B37: 520 | C37: 1200 | D37: 1400 | E37: 200 | F37: 0 | G37: 0 | H37: 0 | I37: 22.222222 | J37: 29.62963 | K37: 39.506173 | L37: 30.452675 | M37: 33.196159 | N37: 34.385002 | O37: 32.677945 | P37: 33.419702 | Q37: 33.494217 | R37: 33.197288 | S37: 33.197288 | U37: =SUM(B37:H37) -> 3320 | V37: =SUM(B37:M37) -> 3475.0069 | W37: =SUM(H37:S37) -> 355.3783
A38: Security Services | B38: 785.55 | C38: 1571.1 | D38: 785.55 | E38: 785.55 | F38: 785.55 | G38: 785.55 | H38: 785.55 | I38: 785.55 | J38: 785.55 | K38: 785.55 | L38: 785.55 | M38: 785.55 | N38: 785.55 | O38: 785.55 | P38: 785.55 | Q38: 785.55 | R38: 785.55 | S38: 785.55 | U38: =SUM(B38:H38) -> 6284.4 | V38: =SUM(B38:M38) -> 10212.15 | W38: =SUM(H38:S38) -> 9426.6
A39: Software & Computer Expense | B39: 60.64 | C39: 60.64 | D39: 100.55 | E39: 100.55 | F39: 100.55 | G39: 424.05 | H39: 0 | I39: 101 | J39: 101 | K39: 101 | L39: 101 | M39: 101 | N39: 101 | O39: 101 | P39: 101 | Q39: 101 | R39: 101 | S39: 101 | U39: =SUM(B39:H39) -> 846.98 | V39: =SUM(B39:M39) -> 1351.98 | W39: =SUM(H39:S39) -> 1111
A40: Supplies | B40: 800 | C40: 506.9 | D40: 900 | E40: 1036.89 | F40: 855.93 | G40: 1235.19 | H40: 1334.12 | I40: 1044.5967 | J40: 1107.4856 | K40: 1064.9174 | L40: 1072.3332 | M40: 1081.5787 | N40: 1072.9431 | O40: 1075.6183 | P40: 1076.7134 | Q40: 1075.0916 | R40: 1075.8078 | S40: 1221.4053 | U40: =SUM(B40:H40) -> 6669.03 | V40: =SUM(B40:M40) -> 12039.942 | W40: =SUM(H40:S40) -> 13302.611
A41: Telephone / Internet Expense | B41: 3713.66 | C41: 3717.3 | D41: 3717.32 | E41: 4241.53 | F41: 3702.62 | G41: 3868.35 | H41: 3702.63 | I41: 3000 | J41: 3000 | K41: 3000 | L41: 3000 | M41: 3000 | N41: 3000 | O41: 3000 | P41: 3000 | Q41: 3000 | R41: 3000 | S41: 3702.63 | U41: =SUM(B41:H41) -> 26663.41 | V41: =SUM(B41:M41) -> 41663.41 | W41: =SUM(H41:S41) -> 37405.26
A42: Utilities
...

Sheet Forrest City P&L
A1: Income Statement | B1: Actuals | C1: Actuals | D1: Actuals | E1: Actuals | F1: Actuals | G1: Actuals | H1: Actuals | I1: Forecast | J1: Forecast | K1: Forecast | L1: Forecast | M1: Forecast | N1: Forecast | O1: Forecast | P1: Forecast | Q1: Forecast | R1: Forecast | S1: Forecast
A2: Main Forecast - Forrest City | B2: Jan 2026 | C2: Feb 2026 | D2: Mar 2026 | E2: Apr 2026 | F2: May 2026 | G2: Jun 2026 | H2: Jul 2026 | I2: Aug 2026 | J2: Sep 2026 | K2: Oct 2026 | L2: Nov 2026 | M2: Dec 2026 | N2: Jan 2027 | O2: Feb 2027 | P2: Mar 2027 | Q2: Apr 2027 | R2: May 2027 | S2: June 2027 | U2: YTD 2026 | V2: Full Year 2026 | W2: Rolling 12 Months
A3: Revenue
A4: Rental Income | B4: 68964 | C4: 69402 | D4: 78589 | E4: 59363 | F4: 76793 | G4: 66730.06 | H4: 63019 | I4: 70383.916 | J4: 75248 | K4: 78753.385 | L4: 82128.285 | M4: 84709.742 | N4: 84863.804 | O4: 85900.61 | P4: 87824.719 | Q4: 88863.044 | R4: 88862.791 | S4: 88517 | U4: =SUM(B4:H4) -> 482860.06 | V4: =SUM(B4:M4) -> 874083.39 | W4: =SUM(H4:S4) -> 979074.3
A5: Gross Profit Before Depreciation | B5: =SUM(B4) -> 68964 | C5: =SUM(C4) -> 69402 | D5: =SUM(D4) -> 78589 | E5: =SUM(E4) -> 59363 | F5: =SUM(F4) -> 76793 | G5: =SUM(G4) -> 66730.06 | H5: =SUM(H4) -> 63019 | I5: =SUM(I4) -> 70383.916 | ... S5: =SUM(S4) -> 88517 | U5: =SUM(U4) -> 482860.06 | V5: =SUM(V4) -> 874083.39 | W5: =SUM(W4) -> 979074.3
A6: Expenses
A7: Bank Fees | B7: 52.3 | C7: 25 | D7: 86.7 | E7: 35 | F7: 60 | G7: 111.05 | H7: 3.3 | I7: 79.911111 | J7: 86.548148 | K7: 78.380864 | L7: 81.613374 | M7: 82.180796 | N7: 80.725011 | O7: 81.506394 | P7: 81.470734 | Q7: 81.234046 | R7: 81.403725 | S7: 48.641479 | U7: =SUM(B7:H7) -> 373.35 | V7: =SUM(B7:M7) -> 781.98429 | W7: =SUM(H7:S7) -> 866.91568
A8: Electrical Repairs | B8: 565 | C8: 0 | D8: 625 | E8: 0 | F8: 0 | G8: 0 | H8: 0 | I8: 300 | J8: 300 | K8: 300 | L8: 300 | M8: 300 | N8: 300 | O8: 300 | P8: 300 | Q8: 300 | R8: 300 | S8: 0 | U8: =SUM(B8:H8) -> 1190 | V8: =SUM(B8:M8) -> 2690 | W8: =SUM(H8:S8) -> 3000
A9: Furnishings-Decor | B9: 0 | C9: 1236.88 | D9: 0 | E9: 0 | F9: 0 | G9: 0 | H9: 0 | I9: 300 | J9: 300 | K9: 300 | L9: 300 | M9: 300 | N9: 300 | O9: 300 | P9: 300 | Q9: 300 | R9: 300 | S9: 0 | U9: =SUM(B9:H9) -> 1236.88 | V9: =SUM(B9:M9) -> 2736.88 | W9: =SUM(H9:S9) -> 3000
A10: Repairs and Maintenance | B10: 0 | C10: 0 | D10: 0 | E10: 0 | F10: 0 | G10: 0 | H10: 739 | I10: 0 | J10: 1500 | K10: 1500 | L10: 1500 | M10: 1500 | N10: 1500 | O10: 1500 | P10: 1500 | Q10: 1500 | R10: 1500 | S10: 1500 | U10: =SUM(B10:H10) -> 739 | V10: =SUM(B10:M10) -> 6739 | W10: =SUM(H10:S10) -> 15739
A11: Insurance Expense | B11: 10155.56 | C11: 10155.56 | D11: 10155.56 | E11: 10155.56 | F11: 10155.56 | G11: 10155.56 | H11: 10155.56 | I11: 10155.56 | J11: 10155.56 | K11: 10155.56 | L11: 10155.56 | M11: 10155.56 | N11: 10155.56 | O11: 10155.56 | P11: 10155.56 | Q11: 10155.56 | R11: 10155.56 | S11: 10155.56 | U11: =SUM(B11:H11) -> 71088.92 | V11: =SUM(B11:M11) -> 121866.72 | W11: =SUM(H11:S11) -> 121866.72
A12: Landscaping-Grounds Care | B12: 0 | C12: 0 | D12: 1500 | E12: 400 | F12: 0 | G12: 0 | H12: 0 | I12: 150 | J12: 150 | K12: 150 | L12: 150 | M12: 150 | N12: 150 | O12: 150 | P12: 150 | Q12: 150 | R12: 150 | S12: 0 | U12: =SUM(B12:H12) -> 1900 | V12: =SUM(B12:M12) -> 2650 | W12: =SUM(H12:S12) -> 1500
A13: Office Supplies | B13: 28.5 | C13: 0 | D13: 0 | E13: 0 | F13: 0 | G13: 0 | H13: 0 | I13: 0 | J13: 0 | K13: 0 | L13: 0 | M13: 0 | N13: 0 | O13: 0 | P13: 0 | Q13: 0 | R13: 0 | S13: 0 | U13: =SUM(B13:H13) -> 28.5 | V13: =SUM(B13:M13) -> 28.5 | W13: =SUM(H13:S13) -> 0
A14: Payment Processing | B14: 0 | C14: 0 | D14: 0 | E14: 0 | F14: 25.99 | G14: 0 | H14: 0 | I14: 25 | J14: 25 | K14: 25 | L14: 25 | M14: 25 | N14: 25 | O14: 25 | P14: 25 | Q14: 25 | R14: 25 | S14: 0 | U14: =SUM(B14:H14) -> 25.99 | V14: =SUM(B14:M14) -> 150.99 | W14: =SUM(H14:S14) -> 250
A15: Payroll-Contract Services (CND) | B15: 10316 | C15: 11612 | D15: 12152 | E15: 12724 | F15: 9560 | G15: 10424 | H15: 8480 | I15: 10424 | J15: 10424 | K15: 10424 | L15: 10424 | M15: 10424 | N15: 10424 | O15: 10424 | P15: 10424 | Q15: 10424 | R15: 10424 | S15: 8480 | U15: =SUM(B15:H15) -> 75268 | V15: =SUM(B15:M15) -> 127388 | W15: =SUM(H15:S15) -> 121200
A16: Postage & Lock Fees | B16: 0 | C16: 0 | D16: 0 | E16: 0 | F16: 0 | G16: 1340 | H16: 0 | I16: 456.66667 | J16: 126.66667 | K16: 796.66667 | L16: 466.66667 | M16: 136.66667 | N16: 306.66667 | O16: 476.66667 | P16: 146.66667 | Q16: 116.66667 | R16: 486.66667 | S16: 446.66667 | U16: =SUM(B16:H16) -> 1340 | V16: =SUM(B16:M16) -> 3323.3333 | W16: =SUM(H16:S16) -> 3963.3333
A17: Professional Fees | B17: 0 | C17: 0 | D17: 0 | E17: 4800 | F17: 5150 | G17: 3100 | H17: 3100 | I17: 3100 | J17: 3100 | K17: 3100 | L17: 3100 | M17: 3100 | N17: 3100 | O17: 3100 | P17: 3100 | Q17: 3100 | R17: 3100 | S17: 3100 | U17: =SUM(B17:H17) -> 16150 | V17: =SUM(B17:M17) -> 31650 | W17: =SUM(H17:S17) -> 37200
A18: Security Deposit Refund Expense | B18: 0 | C18: 0 | D18: 595 | E18: 500 | F18: 0 | G18: 0 | H18: 0 | I18: 250 | J18: 250 | K18: 250 | L18: 250 | M18: 250 | N18: 250 | O18: 250 | P18: 250 | Q18: 250 | R18: 250 | S18: 0 | U18: =SUM(B18:H18) -> 1095 | V18: =SUM(B18:M18) -> 2345 | W18: =SUM(H18:S18) -> 2500
... A20: Telephone / Internet Expense | B20: 0 | C20: 322.4 | D20: 0 | E20: 150.7 | F20: 0 | G20: 310.4 | H20: 0 | I20: 300 | J20: 300 | K20: 300 | L20: 300 | M20: 300 | N20: 300 | O20: 300 | P20: 300 | Q20: 300 | R20: 300 | S20: 0 | U20: =SUM(B20:H20) -> 783.5 | V20: =SUM(B20:M20) -> 2283.5 | W20: =SUM(H20:S20) -> 3000
A21: Utilities
A22: Natural Gas | B22: 750 | C22: 750 | D22: 750 | E22: =402.6+750 -> 1152.6 | F22: =693.11+750 -> 1443.11 | G22: =186.05+750 -> 936.05 | H22: 750 | I22: 435.47111 | J22: 349.59148 | K22: 404.10531 | L22: 396.3893 | M22: 383.36203 | N22: 394.61888 | O22: 391.45674 | P22: 389.81255 | Q22: 391.96272 | R22: 391.07734 | S22: 2679.8668 | U22: =SUM(B22:H22) -> 6531.76 | V22: =SUM(B22:M22) -> 8500.6792 | W22: =SUM(H22:S22) -> 7357.7143
A23: Water | B23: 5000 | C23: 11810.14 | D23: 10299.39 | E23: 0 | F23: 5000 | G23: 0 | H23: 4478.34 | I23: 5000 | J23: 5000 | K23: 5000 | L23: 5000 | M23: 5000 | N23: 5000 | O23: 5000 | P23: 5000 | Q23: 5000 | R23: 5000 | S23: 5000 | U23: =SUM(B23:H23) -> 36587.87 | V23: =SUM(B23:M23) -> 61587.87 | W23: =SUM(H23:S23) -> 59478.34
A24: Total Utilities | B24: =SUM(B22:B23) -> 5750 | C24: =SUM(C22:C23) -> 12560.14 | D24: =SUM(D22:D23) -> 11049.39 | E24: =SUM(E22:E23) -> 1152.6 | F24: =SUM(F22:F23) -> 6443.11 | G24: =SUM(G22:G23) -> 936.05 | H24: =SUM(H22:H23) -> 5228.34 | I24: =SUM(I22:I23) -> 5435.4711 | ... S24: =SUM(S22:S23) -> 7679.8668 | U24: =SUM(U22:U23) -> 43119.63 | V24: =SUM(V22:V23) -> 70088.549 | W24: =SUM(W22:W23) -> 66836.054
A25: Total Expenses | B25: =B7+B8+B9+B10+B11+B12+B13+B14+B15+B16+B17+B18+B19+B20+B24 -> 28246.05 | C25: =C7+C8+C9+C10+C11+C12+C13+C14+C15+C16+C17+C18+C19+C20+C24 -> 36642.03 | D25: =D7+D8+D9+D10+D11+D12+D13+D14+D15+D16+D17+D18+D19+D20+D24 -> 37670.37 | E25: =E7+E8+E9+E10+E11+E12+E13+E14+E15+E16+E17+E18+E19+E20+E24 -> 30429.33 | F25: =F7+F8+F9+F10+F11+F12+F13+F14+F15+F16+F17+F18+F19+F20+F24 -> 32177.25 | G25: =G7+G8+G9+G10+G11+G12+G13+G14+G15+G16+G17+G18+G19+G20+G24 -> 27604.43 | H25: =H7+H8+H9+H10+H11+H12+H13+H14+H15+H16+H17+H18+H19+H20+H24 -> 28785.66 | I25: =I7+I8+I9+I10+I11+I12+I13+I14+I15+I16+I17+I18+I19+I20+I24 -> 32476.609 | ... S25: =S7+S8+S9+S10+S11+S12+S13+S14+S15+S16+S17+S18+S19+S20+S24 -> 32490.195 | U25: =U7+U8+U9+U10+U11+U12+U13+U14+U15+U16+U17+U18+U19+U20+U24 -> 221555.12 | V25: =V7+V8+V9+V10+V11+V12+V13+V14+V15+V16+V17+V18+V19+V20+V24 -> 389438.81 | W25: =W7+W8+W9+W10+W11+W12+W13+W14+W15+W16+W17+W18+W19+W20+W24 -> 398080.94
A26: Net Operating Income | B26: =B5-B25 -> 40717.95 | C26: =C5-C25 -> 32759.97 | D26: =D5-D25 -> 40918.63 | E26: =E5-E25 -> 28933.67 | F26: =F5-F25 -> 44615.75 | G26: =G5-G25 -> 39125.63 | H26: =H5-H25 -> 34233.34 | I26: =I5-I25 -> 37907.307 | ... S26: =S5-S25 -> 56026.805 | U26: =U5-U25 -> 261304.94 | V26: =V5-V25 -> 484644.58 | W26: =W5-W25 -> 580993.35
